BEGIN:VCALENDAR
VERSION:2.0
PRODID:-//Windsor Palms Resort - ECPv6.15.13.1//NONSGML v1.0//EN
CALSCALE:GREGORIAN
METHOD:PUBLISH
X-WR-CALNAME:Windsor Palms Resort
X-ORIGINAL-URL:https://www.windsorpalms-resort.com
X-WR-CALDESC:Events for Windsor Palms Resort
REFRESH-INTERVAL;VALUE=DURATION:PT1H
X-Robots-Tag:noindex
X-PUBLISHED-TTL:PT1H
BEGIN:VTIMEZONE
TZID:America/New_York
BEGIN:DAYLIGHT
TZOFFSETFROM:-0500
TZOFFSETTO:-0400
TZNAME:EDT
DTSTART:20250309T070000
END:DAYLIGHT
BEGIN:STANDARD
TZOFFSETFROM:-0400
TZOFFSETTO:-0500
TZNAME:EST
DTSTART:20251102T060000
END:STANDARD
BEGIN:DAYLIGHT
TZOFFSETFROM:-0500
TZOFFSETTO:-0400
TZNAME:EDT
DTSTART:20260308T070000
END:DAYLIGHT
BEGIN:STANDARD
TZOFFSETFROM:-0400
TZOFFSETTO:-0500
TZNAME:EST
DTSTART:20261101T060000
END:STANDARD
BEGIN:DAYLIGHT
TZOFFSETFROM:-0500
TZOFFSETTO:-0400
TZNAME:EDT
DTSTART:20270314T070000
END:DAYLIGHT
BEGIN:STANDARD
TZOFFSETFROM:-0400
TZOFFSETTO:-0500
TZNAME:EST
DTSTART:20271107T060000
END:STANDARD
END:VTIMEZONE
BEGIN:VEVENT
DTSTART;TZID=America/New_York:20260407T180000
DTEND;TZID=America/New_York:20260407T190000
DTSTAMP:20260421T115447
CREATED:20260116T004823Z
LAST-MODIFIED:20260116T004825Z
UID:10000795-1775584800-1775588400@www.windsorpalms-resort.com
SUMMARY:Bingo
DESCRIPTION:Get your daubers ready and bring your A-game as we roll the numbered balls and call out those winning combinations. You’re in for a night of fun and friendly competition. Whether you’re a seasoned pro or a first-time player\, our Bingo Night promises an entertaining blend of luck and laughter.
URL:https://www.windsorpalms-resort.com/event/bingo-40/
LOCATION:Clubhouse Lobby
ATTACH;FMTTYPE=image/png:https://www.windsorpalms-resort.com/wp-content/uploads/2024/01/bingo.png
END:VEVENT
BEGIN:VEVENT
DTSTART;TZID=America/New_York:20260404T100000
DTEND;TZID=America/New_York:20260404T133000
DTSTAMP:20260421T115447
CREATED:20260113T234515Z
LAST-MODIFIED:20260331T173459Z
UID:10000778-1775296800-1775309400@www.windsorpalms-resort.com
SUMMARY:Egg Hunt & Spring Carnival
DESCRIPTION:A ticket is required to participate in this event.  \n\n\n\nMore information for this event will be available soon. \n\n\n\n\nPurchase Tickets
URL:https://www.windsorpalms-resort.com/event/egg-hunt-spring-carnival/
LOCATION:Clubhouse Area
ATTACH;FMTTYPE=image/png:https://www.windsorpalms-resort.com/wp-content/uploads/2024/02/logosquare.png
END:VEVENT
BEGIN:VEVENT
DTSTART;TZID=America/New_York:20260402T180000
DTEND;TZID=America/New_York:20260402T190000
DTSTAMP:20260421T115447
CREATED:20260116T004806Z
LAST-MODIFIED:20260116T004807Z
UID:10000794-1775152800-1775156400@www.windsorpalms-resort.com
SUMMARY:Bingo
DESCRIPTION:Get your daubers ready and bring your A-game as we roll the numbered balls and call out those winning combinations. You’re in for a night of fun and friendly competition. Whether you’re a seasoned pro or a first-time player\, our Bingo Night promises an entertaining blend of luck and laughter.
URL:https://www.windsorpalms-resort.com/event/bingo-39/
LOCATION:Clubhouse Lobby
ATTACH;FMTTYPE=image/png:https://www.windsorpalms-resort.com/wp-content/uploads/2024/01/bingo.png
END:VEVENT
BEGIN:VEVENT
DTSTART;TZID=America/New_York:20260331T180000
DTEND;TZID=America/New_York:20260331T190000
DTSTAMP:20260421T115447
CREATED:20260116T004522Z
LAST-MODIFIED:20260116T004629Z
UID:10000789-1774980000-1774983600@www.windsorpalms-resort.com
SUMMARY:Bingo
DESCRIPTION:Get your daubers ready and bring your A-game as we roll the numbered balls and call out those winning combinations. You’re in for a night of fun and friendly competition. Whether you’re a seasoned pro or a first-time player\, our Bingo Night promises an entertaining blend of luck and laughter.
URL:https://www.windsorpalms-resort.com/event/bingo-34/
LOCATION:Clubhouse Lobby
ATTACH;FMTTYPE=image/png:https://www.windsorpalms-resort.com/wp-content/uploads/2024/01/bingo.png
END:VEVENT
BEGIN:VEVENT
DTSTART;TZID=America/New_York:20260329T120000
DTEND;TZID=America/New_York:20260329T170000
DTSTAMP:20260421T115447
CREATED:20260113T231158Z
LAST-MODIFIED:20260113T231200Z
UID:10000775-1774785600-1774803600@www.windsorpalms-resort.com
SUMMARY:Board Game Day
DESCRIPTION:Get ready to roll\, strategize\, and have a blast at our Family Board Game Day! Every move counts and every decision could lead to triumph. Don’t miss this chance to bond\, connect\, and create lasting memories over some of the best board games in town.
URL:https://www.windsorpalms-resort.com/event/board-game-day-33/
LOCATION:Clubhouse Lobby
ATTACH;FMTTYPE=image/jpeg:https://www.windsorpalms-resort.com/wp-content/uploads/2023/08/board-game.jpg
END:VEVENT
BEGIN:VEVENT
DTSTART;TZID=America/New_York:20260327T190000
DTEND;TZID=America/New_York:20260327T210000
DTSTAMP:20260421T115447
CREATED:20260113T223140Z
LAST-MODIFIED:20260113T223143Z
UID:10000764-1774638000-1774645200@www.windsorpalms-resort.com
SUMMARY:Owner's Night
DESCRIPTION:Join us for a laid-back evening at our monthly “Owner’s Night”. We invite all Windsor Palms Resort owners to meet and become acquainted with our new management team from Associa. Meet fellow owners and enjoy a 50% discount on all food and beverages from 7-9pm.  \n\n\n\n\n\n\n\nThis is a closed event for Windsor Palms property owners and immediate family only. ID required for entry.
URL:https://www.windsorpalms-resort.com/event/owners-night-28/
LOCATION:The Oasis (Tiki Bar)
ATTACH;FMTTYPE=image/jpeg:https://www.windsorpalms-resort.com/wp-content/uploads/2023/08/tiki-bar.jpg
END:VEVENT
BEGIN:VEVENT
DTSTART;TZID=America/New_York:20260326T180000
DTEND;TZID=America/New_York:20260326T190000
DTSTAMP:20260421T115447
CREATED:20260116T004737Z
LAST-MODIFIED:20260116T004739Z
UID:10000793-1774548000-1774551600@www.windsorpalms-resort.com
SUMMARY:Bingo
DESCRIPTION:Get your daubers ready and bring your A-game as we roll the numbered balls and call out those winning combinations. You’re in for a night of fun and friendly competition. Whether you’re a seasoned pro or a first-time player\, our Bingo Night promises an entertaining blend of luck and laughter.
URL:https://www.windsorpalms-resort.com/event/bingo-38/
LOCATION:Clubhouse Lobby
ATTACH;FMTTYPE=image/png:https://www.windsorpalms-resort.com/wp-content/uploads/2024/01/bingo.png
END:VEVENT
BEGIN:VEVENT
DTSTART;TZID=America/New_York:20260324T180000
DTEND;TZID=America/New_York:20260324T190000
DTSTAMP:20260421T115447
CREATED:20260116T004508Z
LAST-MODIFIED:20260116T004554Z
UID:10000788-1774375200-1774378800@www.windsorpalms-resort.com
SUMMARY:Bingo
DESCRIPTION:Get your daubers ready and bring your A-game as we roll the numbered balls and call out those winning combinations. You’re in for a night of fun and friendly competition. Whether you’re a seasoned pro or a first-time player\, our Bingo Night promises an entertaining blend of luck and laughter.
URL:https://www.windsorpalms-resort.com/event/bingo-33/
LOCATION:Clubhouse Lobby
ATTACH;FMTTYPE=image/png:https://www.windsorpalms-resort.com/wp-content/uploads/2024/01/bingo.png
END:VEVENT
BEGIN:VEVENT
DTSTART;TZID=America/New_York:20260322T150000
DTEND;TZID=America/New_York:20260322T170000
DTSTAMP:20260421T115447
CREATED:20260113T230748Z
LAST-MODIFIED:20260113T230750Z
UID:10000772-1774191600-1774198800@www.windsorpalms-resort.com
SUMMARY:Disney Pin Trading
DESCRIPTION:Calling all Disney enthusiasts and pin collectors! Whether you’re a seasoned collector or new to the magic\, this event promises excitement\, and a touch of Disney magic. \n\n\n\nPlease bring or provide your own authentic Disney pins. Pins are not provided or available for sale. Non-Disney pins cannot be traded at this event. \n\n\n\nTrade a pin and get $1 off any Flavored ice.
URL:https://www.windsorpalms-resort.com/event/disney-pin-trading-32/
LOCATION:Clubhouse Lobby
ATTACH;FMTTYPE=image/jpeg:https://www.windsorpalms-resort.com/wp-content/uploads/2023/08/pin-trading.jpg
END:VEVENT
BEGIN:VEVENT
DTSTART;TZID=America/New_York:20260319T180000
DTEND;TZID=America/New_York:20260319T190000
DTSTAMP:20260421T115447
CREATED:20260116T004724Z
LAST-MODIFIED:20260116T004726Z
UID:10000792-1773943200-1773946800@www.windsorpalms-resort.com
SUMMARY:Bingo
DESCRIPTION:Get your daubers ready and bring your A-game as we roll the numbered balls and call out those winning combinations. You’re in for a night of fun and friendly competition. Whether you’re a seasoned pro or a first-time player\, our Bingo Night promises an entertaining blend of luck and laughter.
URL:https://www.windsorpalms-resort.com/event/bingo-37/
LOCATION:Clubhouse Lobby
ATTACH;FMTTYPE=image/png:https://www.windsorpalms-resort.com/wp-content/uploads/2024/01/bingo.png
END:VEVENT
BEGIN:VEVENT
DTSTART;TZID=America/New_York:20260317T180000
DTEND;TZID=America/New_York:20260317T190000
DTSTAMP:20260421T115447
CREATED:20260116T004449Z
LAST-MODIFIED:20260116T004450Z
UID:10000787-1773770400-1773774000@www.windsorpalms-resort.com
SUMMARY:Bingo
DESCRIPTION:Get your daubers ready and bring your A-game as we roll the numbered balls and call out those winning combinations. You’re in for a night of fun and friendly competition. Whether you’re a seasoned pro or a first-time player\, our Bingo Night promises an entertaining blend of luck and laughter.
URL:https://www.windsorpalms-resort.com/event/bingo-32/
LOCATION:Clubhouse Lobby
ATTACH;FMTTYPE=image/png:https://www.windsorpalms-resort.com/wp-content/uploads/2024/01/bingo.png
END:VEVENT
BEGIN:VEVENT
DTSTART;TZID=America/New_York:20260315T120000
DTEND;TZID=America/New_York:20260315T170000
DTSTAMP:20260421T115447
CREATED:20260113T231134Z
LAST-MODIFIED:20260113T231137Z
UID:10000774-1773576000-1773594000@www.windsorpalms-resort.com
SUMMARY:Board Game Day
DESCRIPTION:Get ready to roll\, strategize\, and have a blast at our Family Board Game Day! Every move counts and every decision could lead to triumph. Don’t miss this chance to bond\, connect\, and create lasting memories over some of the best board games in town.
URL:https://www.windsorpalms-resort.com/event/board-game-day-32/
LOCATION:Clubhouse Lobby
ATTACH;FMTTYPE=image/jpeg:https://www.windsorpalms-resort.com/wp-content/uploads/2023/08/board-game.jpg
END:VEVENT
BEGIN:VEVENT
DTSTART;TZID=America/New_York:20260313T160000
DTEND;TZID=America/New_York:20260313T200000
DTSTAMP:20260421T115447
CREATED:20260409T092656Z
LAST-MODIFIED:20260410T033842Z
UID:10000810-1773417600-1773432000@www.windsorpalms-resort.com
SUMMARY:Roll for Soda
DESCRIPTION:In Roll for Soda\, players roll dice to build their drink step by step. The rolls decide everything from the base to the flavors and toppings\, making every soda a surprise! \n\n\n\n$10 | Includes one drink\, Roll for Soda is all about surprise! Since drinks are created by chance\, no refunds or remakes are offered. Guests with allergies must notify staff before playing. Allergy-related rerolls are allowed to ensure a safe experience.
URL:https://www.windsorpalms-resort.com/event/roll-for-soda-4/
LOCATION:Clubhouse Pool
ATTACH;FMTTYPE=image/png:https://www.windsorpalms-resort.com/wp-content/uploads/2026/01/084de508-b724-46cb-b480-99df9fe91d43.png
END:VEVENT
BEGIN:VEVENT
DTSTART;TZID=America/New_York:20260313T160000
DTEND;TZID=America/New_York:20260313T180000
DTSTAMP:20260421T115447
CREATED:20260116T010655Z
LAST-MODIFIED:20260116T011452Z
UID:10000799-1773417600-1773424800@www.windsorpalms-resort.com
SUMMARY:3D Printing Workshop
DESCRIPTION:Learn about 3D printing and make your own model to take home! \n\n\n\n$15 per model
URL:https://www.windsorpalms-resort.com/event/3d-printing-workshop/
LOCATION:Clubhouse Lobby
ATTACH;FMTTYPE=image/jpeg:https://www.windsorpalms-resort.com/wp-content/uploads/2026/01/513063_20351_XXL.jpg
END:VEVENT
BEGIN:VEVENT
DTSTART;TZID=America/New_York:20260310T180000
DTEND;TZID=America/New_York:20260310T190000
DTSTAMP:20260421T115447
CREATED:20260116T004435Z
LAST-MODIFIED:20260116T004437Z
UID:10000786-1773165600-1773169200@www.windsorpalms-resort.com
SUMMARY:Bingo
DESCRIPTION:Get your daubers ready and bring your A-game as we roll the numbered balls and call out those winning combinations. You’re in for a night of fun and friendly competition. Whether you’re a seasoned pro or a first-time player\, our Bingo Night promises an entertaining blend of luck and laughter.
URL:https://www.windsorpalms-resort.com/event/bingo-31/
LOCATION:Clubhouse Lobby
ATTACH;FMTTYPE=image/png:https://www.windsorpalms-resort.com/wp-content/uploads/2024/01/bingo.png
END:VEVENT
BEGIN:VEVENT
DTSTART;TZID=America/New_York:20260308T150000
DTEND;TZID=America/New_York:20260308T170000
DTSTAMP:20260421T115447
CREATED:20260113T230736Z
LAST-MODIFIED:20260113T230737Z
UID:10000771-1772982000-1772989200@www.windsorpalms-resort.com
SUMMARY:Disney Pin Trading
DESCRIPTION:Calling all Disney enthusiasts and pin collectors! Whether you’re a seasoned collector or new to the magic\, this event promises excitement\, and a touch of Disney magic. \n\n\n\nPlease bring or provide your own authentic Disney pins. Pins are not provided or available for sale. Non-Disney pins cannot be traded at this event. \n\n\n\nTrade a pin and get $1 off any Flavored ice.
URL:https://www.windsorpalms-resort.com/event/disney-pin-trading-31/
LOCATION:Clubhouse Lobby
ATTACH;FMTTYPE=image/jpeg:https://www.windsorpalms-resort.com/wp-content/uploads/2023/08/pin-trading.jpg
END:VEVENT
BEGIN:VEVENT
DTSTART;TZID=America/New_York:20260305T180000
DTEND;TZID=America/New_York:20260305T190000
DTSTAMP:20260421T115447
CREATED:20260116T004651Z
LAST-MODIFIED:20260116T004653Z
UID:10000790-1772733600-1772737200@www.windsorpalms-resort.com
SUMMARY:Bingo
DESCRIPTION:Get your daubers ready and bring your A-game as we roll the numbered balls and call out those winning combinations. You’re in for a night of fun and friendly competition. Whether you’re a seasoned pro or a first-time player\, our Bingo Night promises an entertaining blend of luck and laughter.
URL:https://www.windsorpalms-resort.com/event/bingo-35/
LOCATION:Clubhouse Lobby
ATTACH;FMTTYPE=image/png:https://www.windsorpalms-resort.com/wp-content/uploads/2024/01/bingo.png
END:VEVENT
BEGIN:VEVENT
DTSTART;TZID=America/New_York:20260303T180000
DTEND;TZID=America/New_York:20260303T190000
DTSTAMP:20260421T115447
CREATED:20260116T004409Z
LAST-MODIFIED:20260116T004411Z
UID:10000785-1772560800-1772564400@www.windsorpalms-resort.com
SUMMARY:Bingo
DESCRIPTION:Get your daubers ready and bring your A-game as we roll the numbered balls and call out those winning combinations. You’re in for a night of fun and friendly competition. Whether you’re a seasoned pro or a first-time player\, our Bingo Night promises an entertaining blend of luck and laughter.
URL:https://www.windsorpalms-resort.com/event/bingo-30/
LOCATION:Clubhouse Lobby
ATTACH;FMTTYPE=image/png:https://www.windsorpalms-resort.com/wp-content/uploads/2024/01/bingo.png
END:VEVENT
BEGIN:VEVENT
DTSTART;TZID=America/New_York:20260301T120000
DTEND;TZID=America/New_York:20260301T170000
DTSTAMP:20260421T115447
CREATED:20260113T231118Z
LAST-MODIFIED:20260113T231121Z
UID:10000773-1772366400-1772384400@www.windsorpalms-resort.com
SUMMARY:Board Game Day
DESCRIPTION:Get ready to roll\, strategize\, and have a blast at our Family Board Game Day! Every move counts and every decision could lead to triumph. Don’t miss this chance to bond\, connect\, and create lasting memories over some of the best board games in town.
URL:https://www.windsorpalms-resort.com/event/board-game-day-31/
LOCATION:Clubhouse Lobby
ATTACH;FMTTYPE=image/jpeg:https://www.windsorpalms-resort.com/wp-content/uploads/2023/08/board-game.jpg
END:VEVENT
BEGIN:VEVENT
DTSTART;TZID=America/New_York:20260227T190000
DTEND;TZID=America/New_York:20260227T210000
DTSTAMP:20260421T115447
CREATED:20260113T223104Z
LAST-MODIFIED:20260113T223108Z
UID:10000763-1772218800-1772226000@www.windsorpalms-resort.com
SUMMARY:Owner's Night
DESCRIPTION:Join us for a laid-back evening at our monthly “Owner’s Night”. We invite all Windsor Palms Resort owners to meet and become acquainted with our new management team from Associa. Meet fellow owners and enjoy a 50% discount on all food and beverages from 7-9pm.  \n\n\n\n\n\n\n\nThis is a closed event for Windsor Palms property owners and immediate family only. ID required for entry.
URL:https://www.windsorpalms-resort.com/event/owners-night-27/
LOCATION:The Oasis (Tiki Bar)
ATTACH;FMTTYPE=image/jpeg:https://www.windsorpalms-resort.com/wp-content/uploads/2023/08/tiki-bar.jpg
END:VEVENT
BEGIN:VEVENT
DTSTART;TZID=America/New_York:20260226T180000
DTEND;TZID=America/New_York:20260226T190000
DTSTAMP:20260421T115447
CREATED:20260116T004309Z
LAST-MODIFIED:20260116T004310Z
UID:10000784-1772128800-1772132400@www.windsorpalms-resort.com
SUMMARY:Bingo
DESCRIPTION:Get your daubers ready and bring your A-game as we roll the numbered balls and call out those winning combinations. You’re in for a night of fun and friendly competition. Whether you’re a seasoned pro or a first-time player\, our Bingo Night promises an entertaining blend of luck and laughter.
URL:https://www.windsorpalms-resort.com/event/bingo-29/
LOCATION:Clubhouse Lobby
ATTACH;FMTTYPE=image/png:https://www.windsorpalms-resort.com/wp-content/uploads/2024/01/bingo.png
END:VEVENT
BEGIN:VEVENT
DTSTART;TZID=America/New_York:20260222T150000
DTEND;TZID=America/New_York:20260222T170000
DTSTAMP:20260421T115447
CREATED:20260113T230051Z
LAST-MODIFIED:20260113T230053Z
UID:10000770-1771772400-1771779600@www.windsorpalms-resort.com
SUMMARY:Disney Pin Trading
DESCRIPTION:Calling all Disney enthusiasts and pin collectors! Whether you’re a seasoned collector or new to the magic\, this event promises excitement\, and a touch of Disney magic. \n\n\n\nPlease bring or provide your own authentic Disney pins. Pins are not provided or available for sale. Non-Disney pins cannot be traded at this event. \n\n\n\nTrade a pin and get $1 off any Flavored ice.
URL:https://www.windsorpalms-resort.com/event/disney-pin-trading-30/
LOCATION:Clubhouse Lobby
ATTACH;FMTTYPE=image/jpeg:https://www.windsorpalms-resort.com/wp-content/uploads/2023/08/pin-trading.jpg
END:VEVENT
BEGIN:VEVENT
DTSTART;TZID=America/New_York:20260219T180000
DTEND;TZID=America/New_York:20260219T190000
DTSTAMP:20260421T115447
CREATED:20260116T004227Z
LAST-MODIFIED:20260116T004229Z
UID:10000783-1771524000-1771527600@www.windsorpalms-resort.com
SUMMARY:Bingo
DESCRIPTION:Get your daubers ready and bring your A-game as we roll the numbered balls and call out those winning combinations. You’re in for a night of fun and friendly competition. Whether you’re a seasoned pro or a first-time player\, our Bingo Night promises an entertaining blend of luck and laughter.
URL:https://www.windsorpalms-resort.com/event/bingo-28/
LOCATION:Clubhouse Lobby
ATTACH;FMTTYPE=image/png:https://www.windsorpalms-resort.com/wp-content/uploads/2024/01/bingo.png
END:VEVENT
BEGIN:VEVENT
DTSTART;TZID=America/New_York:20260217T180000
DTEND;TZID=America/New_York:20260217T190000
DTSTAMP:20260421T115447
CREATED:20260116T004215Z
LAST-MODIFIED:20260116T004217Z
UID:10000782-1771351200-1771354800@www.windsorpalms-resort.com
SUMMARY:Bingo
DESCRIPTION:Get your daubers ready and bring your A-game as we roll the numbered balls and call out those winning combinations. You’re in for a night of fun and friendly competition. Whether you’re a seasoned pro or a first-time player\, our Bingo Night promises an entertaining blend of luck and laughter.
URL:https://www.windsorpalms-resort.com/event/bingo-27/
LOCATION:Clubhouse Lobby
ATTACH;FMTTYPE=image/png:https://www.windsorpalms-resort.com/wp-content/uploads/2024/01/bingo.png
END:VEVENT
BEGIN:VEVENT
DTSTART;TZID=America/New_York:20260215T120000
DTEND;TZID=America/New_York:20260215T170000
DTSTAMP:20260421T115447
CREATED:20260113T225715Z
LAST-MODIFIED:20260113T225717Z
UID:10000769-1771156800-1771174800@www.windsorpalms-resort.com
SUMMARY:Board Game Day
DESCRIPTION:Get ready to roll\, strategize\, and have a blast at our Family Board Game Day! Every move counts and every decision could lead to triumph. Don’t miss this chance to bond\, connect\, and create lasting memories over some of the best board games in town.
URL:https://www.windsorpalms-resort.com/event/board-game-day-30/
LOCATION:Clubhouse Lobby
ATTACH;FMTTYPE=image/jpeg:https://www.windsorpalms-resort.com/wp-content/uploads/2023/08/board-game.jpg
END:VEVENT
BEGIN:VEVENT
DTSTART;TZID=America/New_York:20260213T160000
DTEND;TZID=America/New_York:20260213T200000
DTSTAMP:20260421T115447
CREATED:20260113T233114Z
LAST-MODIFIED:20260410T034117Z
UID:10000776-1770998400-1771012800@www.windsorpalms-resort.com
SUMMARY:Roll for Soda
DESCRIPTION:In Roll for Soda\, players roll dice to build their drink step by step. The rolls decide everything from the base to the flavors and toppings\, making every soda a surprise! \n\n\n\n$10 | Includes one drink\, Roll for Soda is all about surprise! Since drinks are created by chance\, no refunds or remakes are offered. Guests with allergies must notify staff before playing. Allergy-related rerolls are allowed to ensure a safe experience.
URL:https://www.windsorpalms-resort.com/event/roll-for-soda/
LOCATION:Clubhouse Pool
ATTACH;FMTTYPE=image/png:https://www.windsorpalms-resort.com/wp-content/uploads/2026/01/084de508-b724-46cb-b480-99df9fe91d43.png
END:VEVENT
BEGIN:VEVENT
DTSTART;TZID=America/New_York:20260213T160000
DTEND;TZID=America/New_York:20260213T180000
DTSTAMP:20260421T115447
CREATED:20260116T010830Z
LAST-MODIFIED:20260116T010945Z
UID:10000800-1770998400-1771005600@www.windsorpalms-resort.com
SUMMARY:3D Printing Workshop
DESCRIPTION:Learn about 3D printing and make your own model to take home! \n\n\n\n$15 per model
URL:https://www.windsorpalms-resort.com/event/3d-printing-workshop-2/
LOCATION:Clubhouse Lobby
ATTACH;FMTTYPE=image/jpeg:https://www.windsorpalms-resort.com/wp-content/uploads/2026/01/513063_20351_XXL.jpg
END:VEVENT
BEGIN:VEVENT
DTSTART;TZID=America/New_York:20260212T180000
DTEND;TZID=America/New_York:20260212T190000
DTSTAMP:20260421T115447
CREATED:20260116T004154Z
LAST-MODIFIED:20260116T004156Z
UID:10000781-1770919200-1770922800@www.windsorpalms-resort.com
SUMMARY:Bingo
DESCRIPTION:Get your daubers ready and bring your A-game as we roll the numbered balls and call out those winning combinations. You’re in for a night of fun and friendly competition. Whether you’re a seasoned pro or a first-time player\, our Bingo Night promises an entertaining blend of luck and laughter.
URL:https://www.windsorpalms-resort.com/event/bingo-26/
LOCATION:Clubhouse Lobby
ATTACH;FMTTYPE=image/png:https://www.windsorpalms-resort.com/wp-content/uploads/2024/01/bingo.png
END:VEVENT
BEGIN:VEVENT
DTSTART;TZID=America/New_York:20260208T180000
DTEND;TZID=America/New_York:20260208T220000
DTSTAMP:20260421T115447
CREATED:20260113T225508Z
LAST-MODIFIED:20260125T194446Z
UID:10000768-1770573600-1770588000@www.windsorpalms-resort.com
SUMMARY:Superbowl BBQ Party Night
DESCRIPTION:Come and enjoy dinner catered by Pig Floyds Urban Barbakoa while Superbowl LX is played live in our Movie theater\, Tiki Bar and on our Poolside inflatable screen (winds permitting). \n\n\n\n\n\n\n\nPrepurchase your plate in the Sundry Shop before 2/7/2026. You will receive a wristband that grants early access to the line so you ensure your desired choices will be available. \n\n\n\n$20 per plate (BBQ and a canned soda)  \n\n\n\nChoose 1 Main Dish (all dishes include 1 dinner roll) \n\n\n\n Wings (BBQ\, Buffalo or Sweet Chili)\, Pulled Pork\, or Brisket \n\n\n\nChoose 2 Sides \n\n\n\nMac and Cheese\, Street Corn\, Cole Slaw or Baked Beans \n\n\n\nVegetarian options available. Wings come with 6 wings\, choice of ranch or blue cheese\, carrot and/or celery sticks and a dinner roll. \n\n\n\nFood is limited and available on a first come\, first served basis – unless you prepurchase a wristband in the Sundry Shop. \n\n\n\n\nPurchase Tickets
URL:https://www.windsorpalms-resort.com/event/superbowl-bbq-party-night-2/
LOCATION:Clubhouse Pool
ATTACH;FMTTYPE=image/png:https://www.windsorpalms-resort.com/wp-content/uploads/2024/02/rice.png
END:VEVENT
BEGIN:VEVENT
DTSTART;TZID=America/New_York:20260203T180000
DTEND;TZID=America/New_York:20260203T190000
DTSTAMP:20260421T115447
CREATED:20260116T004117Z
LAST-MODIFIED:20260116T004119Z
UID:10000779-1770141600-1770145200@www.windsorpalms-resort.com
SUMMARY:Bingo
DESCRIPTION:Get your daubers ready and bring your A-game as we roll the numbered balls and call out those winning combinations. You’re in for a night of fun and friendly competition. Whether you’re a seasoned pro or a first-time player\, our Bingo Night promises an entertaining blend of luck and laughter.
URL:https://www.windsorpalms-resort.com/event/bingo-22/
LOCATION:Clubhouse Lobby
ATTACH;FMTTYPE=image/png:https://www.windsorpalms-resort.com/wp-content/uploads/2024/01/bingo.png
END:VEVENT
END:VCALENDAR