BEGIN:VCALENDAR
VERSION:2.0
PRODID:-//Windsor Palms Resort - ECPv6.15.13.1//NONSGML v1.0//EN
CALSCALE:GREGORIAN
METHOD:PUBLISH
X-ORIGINAL-URL:https://www.windsorpalms-resort.com
X-WR-CALDESC:Events for Windsor Palms Resort
REFRESH-INTERVAL;VALUE=DURATION:PT1H
X-Robots-Tag:noindex
X-PUBLISHED-TTL:PT1H
BEGIN:VTIMEZONE
TZID:America/New_York
BEGIN:DAYLIGHT
TZOFFSETFROM:-0500
TZOFFSETTO:-0400
TZNAME:EDT
DTSTART:20250309T070000
END:DAYLIGHT
BEGIN:STANDARD
TZOFFSETFROM:-0400
TZOFFSETTO:-0500
TZNAME:EST
DTSTART:20251102T060000
END:STANDARD
BEGIN:DAYLIGHT
TZOFFSETFROM:-0500
TZOFFSETTO:-0400
TZNAME:EDT
DTSTART:20260308T070000
END:DAYLIGHT
BEGIN:STANDARD
TZOFFSETFROM:-0400
TZOFFSETTO:-0500
TZNAME:EST
DTSTART:20261101T060000
END:STANDARD
BEGIN:DAYLIGHT
TZOFFSETFROM:-0500
TZOFFSETTO:-0400
TZNAME:EDT
DTSTART:20270314T070000
END:DAYLIGHT
BEGIN:STANDARD
TZOFFSETFROM:-0400
TZOFFSETTO:-0500
TZNAME:EST
DTSTART:20271107T060000
END:STANDARD
END:VTIMEZONE
BEGIN:VEVENT
DTSTART;TZID=America/New_York:20260421T180000
DTEND;TZID=America/New_York:20260421T190000
DTSTAMP:20260421T082935
CREATED:20260116T004855Z
LAST-MODIFIED:20260116T004857Z
UID:10000797-1776794400-1776798000@www.windsorpalms-resort.com
SUMMARY:Bingo
DESCRIPTION:Get your daubers ready and bring your A-game as we roll the numbered balls and call out those winning combinations. You’re in for a night of fun and friendly competition. Whether you’re a seasoned pro or a first-time player\, our Bingo Night promises an entertaining blend of luck and laughter.
URL:https://www.windsorpalms-resort.com/event/bingo-42/
LOCATION:Clubhouse Lobby
ATTACH;FMTTYPE=image/png:https://www.windsorpalms-resort.com/wp-content/uploads/2024/01/bingo.png
END:VEVENT
BEGIN:VEVENT
DTSTART;TZID=America/New_York:20260422T170000
DTEND;TZID=America/New_York:20260422T190000
DTSTAMP:20260421T082935
CREATED:20260409T091955Z
LAST-MODIFIED:20260410T033251Z
UID:10000804-1776877200-1776884400@www.windsorpalms-resort.com
SUMMARY:Ice Cream Social
DESCRIPTION:Come enjoy a sweet treat\, meet new friends and share some fun! \n\n\n\nChose your flavor of Ice Cream and apply toppings from our topping bar!
URL:https://www.windsorpalms-resort.com/event/ice-cream-social-2/
LOCATION:Clubhouse Pool
ATTACH;FMTTYPE=image/png:https://www.windsorpalms-resort.com/wp-content/uploads/2025/07/icecreamWP.png
END:VEVENT
BEGIN:VEVENT
DTSTART;TZID=America/New_York:20260424T190000
DTEND;TZID=America/New_York:20260424T210000
DTSTAMP:20260421T082935
CREATED:20260409T094308Z
LAST-MODIFIED:20260409T094641Z
UID:10000821-1777057200-1777064400@www.windsorpalms-resort.com
SUMMARY:Owner's Night
DESCRIPTION:Join us for a laid-back evening at our monthly “Owner’s Night”. We invite all Windsor Palms Resort owners to meet other owners and enjoy a 50% discount on all food and beverages from 7-9pm. \n\n\n\n\n\n\n\nThis is a closed event for Windsor Palms property owners and immediate family only. ID required for entry.
URL:https://www.windsorpalms-resort.com/event/owners-night-29/
LOCATION:The Oasis (Tiki Bar)
ATTACH;FMTTYPE=image/jpeg:https://www.windsorpalms-resort.com/wp-content/uploads/2023/08/tiki-bar.jpg
END:VEVENT
BEGIN:VEVENT
DTSTART;TZID=America/New_York:20260424T200000
DTEND;TZID=America/New_York:20260424T220000
DTSTAMP:20260421T082935
CREATED:20260410T035320Z
LAST-MODIFIED:20260410T035322Z
UID:10000823-1777060800-1777068000@www.windsorpalms-resort.com
SUMMARY:Oasis Glow Night
DESCRIPTION:Dive into an electrifying glow pool party under the stars! As the sun sets\, black lights will illuminate the night\, transforming the pool into a glowing paradise. Rent a light up pool raft\, enjoying music and special glowing cocktails/mocktails. Appropriate for all ages\, toys and games available for kids.
URL:https://www.windsorpalms-resort.com/event/oasis-glow-night/
LOCATION:Clubhouse Pool
ATTACH;FMTTYPE=image/png:https://www.windsorpalms-resort.com/wp-content/uploads/2023/08/poolside-activities.png
END:VEVENT
BEGIN:VEVENT
DTSTART;TZID=America/New_York:20260425T150000
DTEND;TZID=America/New_York:20260425T170000
DTSTAMP:20260421T082935
CREATED:20260409T093801Z
LAST-MODIFIED:20260409T093804Z
UID:10000813-1777129200-1777136400@www.windsorpalms-resort.com
SUMMARY:Pool Party
DESCRIPTION:Dive into the night with poolside music\, pool games\, poolside jumbo games (Jenga\, Connect 4\, Kerplunk\, Tetris\, Cornhole etc). Special pricing at The Oasis Bar and $2 off Flavored Ice during this event every Saturday afternoon!
URL:https://www.windsorpalms-resort.com/event/pool-party-34/
LOCATION:Clubhouse Pool
ATTACH;FMTTYPE=image/png:https://www.windsorpalms-resort.com/wp-content/uploads/2023/08/poolside-activities.png
END:VEVENT
BEGIN:VEVENT
DTSTART;TZID=America/New_York:20260427T160000
DTEND;TZID=America/New_York:20260427T200000
DTSTAMP:20260421T082935
CREATED:20260409T092612Z
LAST-MODIFIED:20260410T033158Z
UID:10000809-1777305600-1777320000@www.windsorpalms-resort.com
SUMMARY:Roll for Soda
DESCRIPTION:In Roll for Soda\, players roll dice to build their drink step by step. The rolls decide everything from the base to the flavors and toppings\, making every soda a surprise! \n\n\n\n$10 | Includes one drink\, Roll for Soda is all about surprise! Since drinks are created by chance\, no refunds or remakes are offered. Guests with allergies must notify staff before playing. Allergy-related rerolls are allowed to ensure a safe experience.
URL:https://www.windsorpalms-resort.com/event/roll-for-soda-3/
LOCATION:Clubhouse Pool
ATTACH;FMTTYPE=image/png:https://www.windsorpalms-resort.com/wp-content/uploads/2026/01/084de508-b724-46cb-b480-99df9fe91d43.png
END:VEVENT
BEGIN:VEVENT
DTSTART;TZID=America/New_York:20260430T180000
DTEND;TZID=America/New_York:20260430T190000
DTSTAMP:20260421T082935
CREATED:20260116T004938Z
LAST-MODIFIED:20260116T004940Z
UID:10000798-1777572000-1777575600@www.windsorpalms-resort.com
SUMMARY:Bingo
DESCRIPTION:Get your daubers ready and bring your A-game as we roll the numbered balls and call out those winning combinations. You’re in for a night of fun and friendly competition. Whether you’re a seasoned pro or a first-time player\, our Bingo Night promises an entertaining blend of luck and laughter.
URL:https://www.windsorpalms-resort.com/event/bingo-43/
LOCATION:Clubhouse Lobby
ATTACH;FMTTYPE=image/png:https://www.windsorpalms-resort.com/wp-content/uploads/2024/01/bingo.png
END:VEVENT
BEGIN:VEVENT
DTSTART;TZID=America/New_York:20260502T150000
DTEND;TZID=America/New_York:20260502T170000
DTSTAMP:20260421T082935
CREATED:20260409T093820Z
LAST-MODIFIED:20260409T093821Z
UID:10000814-1777734000-1777741200@www.windsorpalms-resort.com
SUMMARY:Pool Party
DESCRIPTION:Dive into the night with poolside music\, pool games\, poolside jumbo games (Jenga\, Connect 4\, Kerplunk\, Tetris\, Cornhole etc). Special pricing at The Oasis Bar and $2 off Flavored Ice during this event every Saturday afternoon!
URL:https://www.windsorpalms-resort.com/event/pool-party-35/
LOCATION:Clubhouse Pool
ATTACH;FMTTYPE=image/png:https://www.windsorpalms-resort.com/wp-content/uploads/2023/08/poolside-activities.png
END:VEVENT
BEGIN:VEVENT
DTSTART;TZID=America/New_York:20260506T170000
DTEND;TZID=America/New_York:20260506T190000
DTSTAMP:20260421T082935
CREATED:20260409T092154Z
LAST-MODIFIED:20260410T033120Z
UID:10000805-1778086800-1778094000@www.windsorpalms-resort.com
SUMMARY:Ice Cream Social
DESCRIPTION:Come enjoy a sweet treat\, meet new friends and share some fun! \n\n\n\nChose your flavor of Ice Cream and apply toppings from our topping bar!
URL:https://www.windsorpalms-resort.com/event/ice-cream-social-3/
LOCATION:Clubhouse Pool
ATTACH;FMTTYPE=image/png:https://www.windsorpalms-resort.com/wp-content/uploads/2025/07/icecreamWP.png
END:VEVENT
BEGIN:VEVENT
DTSTART;TZID=America/New_York:20260507T180000
DTEND;TZID=America/New_York:20260507T190000
DTSTAMP:20260421T082935
CREATED:20260116T004703Z
LAST-MODIFIED:20260410T033054Z
UID:10000791-1778176800-1778180400@www.windsorpalms-resort.com
SUMMARY:Bingo
DESCRIPTION:Get your daubers ready and bring your A-game as we roll the numbered balls and call out those winning combinations. You’re in for a night of fun and friendly competition. Whether you’re a seasoned pro or a first-time player\, our Bingo Night promises an entertaining blend of luck and laughter.
URL:https://www.windsorpalms-resort.com/event/bingo-36/
LOCATION:Clubhouse Lobby
ATTACH;FMTTYPE=image/png:https://www.windsorpalms-resort.com/wp-content/uploads/2024/01/bingo.png
END:VEVENT
BEGIN:VEVENT
DTSTART;TZID=America/New_York:20260508T200000
DTEND;TZID=America/New_York:20260508T220000
DTSTAMP:20260421T082935
CREATED:20260410T035420Z
LAST-MODIFIED:20260410T035422Z
UID:10000824-1778270400-1778277600@www.windsorpalms-resort.com
SUMMARY:Oasis Glow Night
DESCRIPTION:Dive into an electrifying glow pool party under the stars! As the sun sets\, black lights will illuminate the night\, transforming the pool into a glowing paradise. Rent a light up pool raft\, enjoying music and special glowing cocktails/mocktails. Appropriate for all ages\, toys and games available for kids.
URL:https://www.windsorpalms-resort.com/event/oasis-glow-night-2/
LOCATION:Clubhouse Pool
ATTACH;FMTTYPE=image/png:https://www.windsorpalms-resort.com/wp-content/uploads/2023/08/poolside-activities.png
END:VEVENT
BEGIN:VEVENT
DTSTART;TZID=America/New_York:20260509T150000
DTEND;TZID=America/New_York:20260509T170000
DTSTAMP:20260421T082935
CREATED:20260409T093855Z
LAST-MODIFIED:20260409T093857Z
UID:10000815-1778338800-1778346000@www.windsorpalms-resort.com
SUMMARY:Pool Party
DESCRIPTION:Dive into the night with poolside music\, pool games\, poolside jumbo games (Jenga\, Connect 4\, Kerplunk\, Tetris\, Cornhole etc). Special pricing at The Oasis Bar and $2 off Flavored Ice during this event every Saturday afternoon!
URL:https://www.windsorpalms-resort.com/event/pool-party-36/
LOCATION:Clubhouse Pool
ATTACH;FMTTYPE=image/png:https://www.windsorpalms-resort.com/wp-content/uploads/2023/08/poolside-activities.png
END:VEVENT
BEGIN:VEVENT
DTSTART;TZID=America/New_York:20260513T170000
DTEND;TZID=America/New_York:20260513T190000
DTSTAMP:20260421T082935
CREATED:20260409T092345Z
LAST-MODIFIED:20260410T033223Z
UID:10000806-1778691600-1778698800@www.windsorpalms-resort.com
SUMMARY:Ice Cream Social
DESCRIPTION:Come enjoy a sweet treat\, meet new friends and share some fun! \n\n\n\nChose your flavor of Ice Cream and apply toppings from our topping bar!
URL:https://www.windsorpalms-resort.com/event/ice-cream-social-4/
LOCATION:Clubhouse Pool
ATTACH;FMTTYPE=image/png:https://www.windsorpalms-resort.com/wp-content/uploads/2025/07/icecreamWP.png
END:VEVENT
BEGIN:VEVENT
DTSTART;TZID=America/New_York:20260516T150000
DTEND;TZID=America/New_York:20260516T170000
DTSTAMP:20260421T082935
CREATED:20260409T094011Z
LAST-MODIFIED:20260409T094012Z
UID:10000817-1778943600-1778950800@www.windsorpalms-resort.com
SUMMARY:Pool Party
DESCRIPTION:Dive into the night with poolside music\, pool games\, poolside jumbo games (Jenga\, Connect 4\, Kerplunk\, Tetris\, Cornhole etc). Special pricing at The Oasis Bar and $2 off Flavored Ice during this event every Saturday afternoon!
URL:https://www.windsorpalms-resort.com/event/pool-party-37/
LOCATION:Clubhouse Pool
ATTACH;FMTTYPE=image/png:https://www.windsorpalms-resort.com/wp-content/uploads/2023/08/poolside-activities.png
END:VEVENT
BEGIN:VEVENT
DTSTART;TZID=America/New_York:20260521T160000
DTEND;TZID=America/New_York:20260521T180000
DTSTAMP:20260421T082935
CREATED:20260409T025729Z
LAST-MODIFIED:20260409T025731Z
UID:10000802-1779379200-1779386400@www.windsorpalms-resort.com
SUMMARY:3D Printing Workshop
DESCRIPTION:Learn about 3D printing and make your own model to take home! \n\n\n\n$10 per model
URL:https://www.windsorpalms-resort.com/event/3d-printing-workshop-4/
LOCATION:Clubhouse Lobby
ATTACH;FMTTYPE=image/jpeg:https://www.windsorpalms-resort.com/wp-content/uploads/2026/01/513063_20351_XXL.jpg
END:VEVENT
BEGIN:VEVENT
DTSTART;TZID=America/New_York:20260522T200000
DTEND;TZID=America/New_York:20260522T220000
DTSTAMP:20260421T082935
CREATED:20260410T035527Z
LAST-MODIFIED:20260410T035529Z
UID:10000825-1779480000-1779487200@www.windsorpalms-resort.com
SUMMARY:Oasis Glow Night
DESCRIPTION:Dive into an electrifying glow pool party under the stars! As the sun sets\, black lights will illuminate the night\, transforming the pool into a glowing paradise. Rent a light up pool raft\, enjoying music and special glowing cocktails/mocktails. Appropriate for all ages\, toys and games available for kids.
URL:https://www.windsorpalms-resort.com/event/oasis-glow-night-3/
LOCATION:Clubhouse Pool
ATTACH;FMTTYPE=image/png:https://www.windsorpalms-resort.com/wp-content/uploads/2023/08/poolside-activities.png
END:VEVENT
BEGIN:VEVENT
DTSTART;TZID=America/New_York:20260523T150000
DTEND;TZID=America/New_York:20260523T170000
DTSTAMP:20260421T082935
CREATED:20260409T094053Z
LAST-MODIFIED:20260409T094055Z
UID:10000818-1779548400-1779555600@www.windsorpalms-resort.com
SUMMARY:Pool Party
DESCRIPTION:Dive into the night with poolside music\, pool games\, poolside jumbo games (Jenga\, Connect 4\, Kerplunk\, Tetris\, Cornhole etc). Special pricing at The Oasis Bar and $2 off Flavored Ice during this event every Saturday afternoon!
URL:https://www.windsorpalms-resort.com/event/pool-party-38/
LOCATION:Clubhouse Pool
ATTACH;FMTTYPE=image/png:https://www.windsorpalms-resort.com/wp-content/uploads/2023/08/poolside-activities.png
END:VEVENT
BEGIN:VEVENT
DTSTART;TZID=America/New_York:20260527T170000
DTEND;TZID=America/New_York:20260527T190000
DTSTAMP:20260421T082935
CREATED:20260409T092420Z
LAST-MODIFIED:20260410T032859Z
UID:10000807-1779901200-1779908400@www.windsorpalms-resort.com
SUMMARY:Ice Cream Social
DESCRIPTION:Come enjoy a sweet treat\, meet new friends and share some fun! \n\n\n\nChose your flavor of Ice Cream and apply toppings from our topping bar!
URL:https://www.windsorpalms-resort.com/event/ice-cream-social-5/
LOCATION:Clubhouse Pool
ATTACH;FMTTYPE=image/png:https://www.windsorpalms-resort.com/wp-content/uploads/2025/07/icecreamWP.png
END:VEVENT
BEGIN:VEVENT
DTSTART;TZID=America/New_York:20260528T180000
DTEND;TZID=America/New_York:20260528T190000
DTSTAMP:20260421T082935
CREATED:20260409T091803Z
LAST-MODIFIED:20260409T091805Z
UID:10000803-1779991200-1779994800@www.windsorpalms-resort.com
SUMMARY:Bingo
DESCRIPTION:Get your daubers ready and bring your A-game as we roll the numbered balls and call out those winning combinations. You’re in for a night of fun and friendly competition. Whether you’re a seasoned pro or a first-time player\, our Bingo Night promises an entertaining blend of luck and laughter.
URL:https://www.windsorpalms-resort.com/event/bingo-44/
LOCATION:Clubhouse Lobby
ATTACH;FMTTYPE=image/png:https://www.windsorpalms-resort.com/wp-content/uploads/2024/01/bingo.png
END:VEVENT
BEGIN:VEVENT
DTSTART;TZID=America/New_York:20260529T190000
DTEND;TZID=America/New_York:20260529T210000
DTSTAMP:20260421T082935
CREATED:20260409T094450Z
LAST-MODIFIED:20260409T094452Z
UID:10000822-1780081200-1780088400@www.windsorpalms-resort.com
SUMMARY:Owner's Night
DESCRIPTION:Join us for a laid-back evening at our monthly “Owner’s Night”. We invite all Windsor Palms Resort owners to meet other owners and enjoy a 50% discount on all food and beverages from 7-9pm. \n\n\n\n\n\n\n\nThis is a closed event for Windsor Palms property owners and immediate family only. ID required for entry.
URL:https://www.windsorpalms-resort.com/event/owners-night-30/
LOCATION:The Oasis (Tiki Bar)
ATTACH;FMTTYPE=image/jpeg:https://www.windsorpalms-resort.com/wp-content/uploads/2023/08/tiki-bar.jpg
END:VEVENT
BEGIN:VEVENT
DTSTART;TZID=America/New_York:20260530T150000
DTEND;TZID=America/New_York:20260530T170000
DTSTAMP:20260421T082935
CREATED:20260409T094207Z
LAST-MODIFIED:20260409T094209Z
UID:10000820-1780153200-1780160400@www.windsorpalms-resort.com
SUMMARY:Pool Party
DESCRIPTION:Dive into the night with poolside music\, pool games\, poolside jumbo games (Jenga\, Connect 4\, Kerplunk\, Tetris\, Cornhole etc). Special pricing at The Oasis Bar and $2 off Flavored Ice during this event every Saturday afternoon!
URL:https://www.windsorpalms-resort.com/event/pool-party-40/
LOCATION:Clubhouse Pool
ATTACH;FMTTYPE=image/png:https://www.windsorpalms-resort.com/wp-content/uploads/2023/08/poolside-activities.png
END:VEVENT
END:VCALENDAR