BEGIN:VCALENDAR
VERSION:2.0
PRODID:-//Windsor Palms Resort - ECPv6.15.13.1//NONSGML v1.0//EN
CALSCALE:GREGORIAN
METHOD:PUBLISH
X-WR-CALNAME:Windsor Palms Resort
X-ORIGINAL-URL:https://www.windsorpalms-resort.com
X-WR-CALDESC:Events for Windsor Palms Resort
REFRESH-INTERVAL;VALUE=DURATION:PT1H
X-Robots-Tag:noindex
X-PUBLISHED-TTL:PT1H
BEGIN:VTIMEZONE
TZID:America/New_York
BEGIN:DAYLIGHT
TZOFFSETFROM:-0500
TZOFFSETTO:-0400
TZNAME:EDT
DTSTART:20240310T070000
END:DAYLIGHT
BEGIN:STANDARD
TZOFFSETFROM:-0400
TZOFFSETTO:-0500
TZNAME:EST
DTSTART:20241103T060000
END:STANDARD
BEGIN:DAYLIGHT
TZOFFSETFROM:-0500
TZOFFSETTO:-0400
TZNAME:EDT
DTSTART:20250309T070000
END:DAYLIGHT
BEGIN:STANDARD
TZOFFSETFROM:-0400
TZOFFSETTO:-0500
TZNAME:EST
DTSTART:20251102T060000
END:STANDARD
BEGIN:DAYLIGHT
TZOFFSETFROM:-0500
TZOFFSETTO:-0400
TZNAME:EDT
DTSTART:20260308T070000
END:DAYLIGHT
BEGIN:STANDARD
TZOFFSETFROM:-0400
TZOFFSETTO:-0500
TZNAME:EST
DTSTART:20261101T060000
END:STANDARD
END:VTIMEZONE
BEGIN:VEVENT
DTSTART;TZID=America/New_York:20250430T160000
DTEND;TZID=America/New_York:20250430T170000
DTSTAMP:20260422T180846
CREATED:20250401T050612Z
LAST-MODIFIED:20250401T050614Z
UID:10000656-1746028800-1746032400@www.windsorpalms-resort.com
SUMMARY:Activity Hour
DESCRIPTION:Every Wednesday our Activity Hour will include different ways for kids to have fun and socialize with each other such as crafts\, puzzles\, outdoor sports\, and more! \n\n\n\n \n\n\n\n50% off Flavored Ice during this hour.
URL:https://www.windsorpalms-resort.com/event/activity-hour-13/
LOCATION:Clubhouse Lobby
ATTACH;FMTTYPE=image/png:https://www.windsorpalms-resort.com/wp-content/uploads/2025/01/Activity-Hour-1.png
END:VEVENT
BEGIN:VEVENT
DTSTART;TZID=America/New_York:20250429T180000
DTEND;TZID=America/New_York:20250429T190000
DTSTAMP:20260422T180846
CREATED:20250401T053126Z
LAST-MODIFIED:20250401T053129Z
UID:10000665-1745949600-1745953200@www.windsorpalms-resort.com
SUMMARY:Bingo
DESCRIPTION:Get your daubers ready and bring your A-game as we roll the numbered balls and call out those winning combinations. You’re in for a night of fun and friendly competition. Whether you’re a seasoned pro or a first-time player\, our Bingo Night promises an entertaining blend of luck and laughter.
URL:https://www.windsorpalms-resort.com/event/bingo-24/
LOCATION:Clubhouse Lobby
ATTACH;FMTTYPE=image/png:https://www.windsorpalms-resort.com/wp-content/uploads/2024/01/bingo.png
END:VEVENT
BEGIN:VEVENT
DTSTART;TZID=America/New_York:20250427T120000
DTEND;TZID=America/New_York:20250427T170000
DTSTAMP:20260422T180846
CREATED:20250401T050804Z
LAST-MODIFIED:20250401T050806Z
UID:10000658-1745755200-1745773200@www.windsorpalms-resort.com
SUMMARY:Board Game Day
DESCRIPTION:Get ready to roll\, strategize\, and have a blast at our Family Board Game Day! Every move counts and every decision could lead to triumph. Don’t miss this chance to bond\, connect\, and create lasting memories over some of the best board games in town.
URL:https://www.windsorpalms-resort.com/event/board-game-day-17/
LOCATION:Clubhouse Lobby
ATTACH;FMTTYPE=image/jpeg:https://www.windsorpalms-resort.com/wp-content/uploads/2023/08/board-game.jpg
END:VEVENT
BEGIN:VEVENT
DTSTART;TZID=America/New_York:20250426T100000
DTEND;TZID=America/New_York:20250426T180000
DTSTAMP:20260422T180846
CREATED:20250401T050142Z
LAST-MODIFIED:20250401T050144Z
UID:10000648-1745661600-1745690400@www.windsorpalms-resort.com
SUMMARY:Bucket Golf
DESCRIPTION:Play a 9 hole bucket golf course perfect for all ages and skill levels\, from a scratch golfer to someone who has never played before\, from kids to adults. Come see how low you can score! The rental includes a club and ball.
URL:https://www.windsorpalms-resort.com/event/bucket-golf-28/
LOCATION:Clubhouse Lawn
ATTACH;FMTTYPE=image/png:https://www.windsorpalms-resort.com/wp-content/uploads/2024/04/bucket.png
END:VEVENT
BEGIN:VEVENT
DTSTART;TZID=America/New_York:20250425T190000
DTEND;TZID=America/New_York:20250425T220000
DTSTAMP:20260422T180846
CREATED:20250401T050243Z
LAST-MODIFIED:20250401T050244Z
UID:10000649-1745607600-1745618400@www.windsorpalms-resort.com
SUMMARY:Owner's Night
DESCRIPTION:Join us for a laid-back and vibrant evening at our “Owner’s Night” Tiki Happy Hour – a gathering designed exclusively for our valued property owners. Sip on event exclusive cocktails\, enjoy hors d’oeuvres\, event exclusive menu pricing\, and connect with fellow owners in a relaxed and picturesque setting. \n\n\n\n\n\n\n\nThis is a closed event for Windsor Palms property owners and immediate family only. ID required for entry.
URL:https://www.windsorpalms-resort.com/event/owners-night-18/
LOCATION:Tiki Bar
ATTACH;FMTTYPE=image/jpeg:https://www.windsorpalms-resort.com/wp-content/uploads/2023/08/tiki-bar.jpg
END:VEVENT
BEGIN:VEVENT
DTSTART;TZID=America/New_York:20250424T190000
DTEND;TZID=America/New_York:20250424T203000
DTSTAMP:20260422T180846
CREATED:20250401T051037Z
LAST-MODIFIED:20250401T053513Z
UID:10000659-1745521200-1745526600@www.windsorpalms-resort.com
SUMMARY:Watercolor & Wine
DESCRIPTION:Follow along as you paint with watercolors and enjoy wine. \n\n\n\nParticipants must be 21 or older and have a valid form of ID.
URL:https://www.windsorpalms-resort.com/event/watercolor-wine-4/
LOCATION:Clubhouse Lobby
ATTACH;FMTTYPE=image/png:https://www.windsorpalms-resort.com/wp-content/uploads/2025/01/watercolor-wine.png
END:VEVENT
BEGIN:VEVENT
DTSTART;TZID=America/New_York:20250423T160000
DTEND;TZID=America/New_York:20250423T170000
DTSTAMP:20260422T180846
CREATED:20250401T050549Z
LAST-MODIFIED:20250401T050550Z
UID:10000655-1745424000-1745427600@www.windsorpalms-resort.com
SUMMARY:Activity Hour
DESCRIPTION:Every Wednesday our Activity Hour will include different ways for kids to have fun and socialize with each other such as crafts\, puzzles\, outdoor sports\, and more! \n\n\n\n \n\n\n\n50% off Flavored Ice during this hour.
URL:https://www.windsorpalms-resort.com/event/activity-hour-12/
LOCATION:Clubhouse Lobby
ATTACH;FMTTYPE=image/png:https://www.windsorpalms-resort.com/wp-content/uploads/2025/01/Activity-Hour-1.png
END:VEVENT
BEGIN:VEVENT
DTSTART;TZID=America/New_York:20250422T190000
DTEND;TZID=America/New_York:20250422T210000
DTSTAMP:20260422T180846
CREATED:20250401T051925Z
LAST-MODIFIED:20250401T052117Z
UID:10000661-1745348400-1745355600@www.windsorpalms-resort.com
SUMMARY:Movie Night
DESCRIPTION:Hop PG
URL:https://www.windsorpalms-resort.com/event/movie-night-59/
LOCATION:Clubhouse Theater
ATTACH;FMTTYPE=image/png:https://www.windsorpalms-resort.com/wp-content/uploads/2024/02/hop.png
END:VEVENT
BEGIN:VEVENT
DTSTART;TZID=America/New_York:20250420T150000
DTEND;TZID=America/New_York:20250420T170000
DTSTAMP:20260422T180846
CREATED:20250401T052254Z
LAST-MODIFIED:20250401T053633Z
UID:10000662-1745161200-1745168400@www.windsorpalms-resort.com
SUMMARY:Disney Pin Trading
DESCRIPTION:Calling all Disney enthusiasts and pin collectors! Whether you’re a seasoned collector or new to the magic\, this event promises excitement\, and a touch of Disney magic. \n\n\n\nPlease bring or provide your own authentic Disney pins. Pins are not provided or available for sale. Non-Disney pins cannot be traded at this event. \n\n\n\nTrade a pin and get $1 off any Flavored ice.
URL:https://www.windsorpalms-resort.com/event/disney-pin-trading-19/
LOCATION:Clubhouse Lobby
ATTACH;FMTTYPE=image/jpeg:https://www.windsorpalms-resort.com/wp-content/uploads/2023/08/pin-trading.jpg
END:VEVENT
BEGIN:VEVENT
DTSTART;TZID=America/New_York:20250419T100000
DTEND;TZID=America/New_York:20250419T133000
DTSTAMP:20260422T180846
CREATED:20250324T232801Z
LAST-MODIFIED:20250419T031240Z
UID:10000647-1745056800-1745069400@www.windsorpalms-resort.com
SUMMARY:Egg Hunt & Spring Carnival
DESCRIPTION:A ticket is required to participate in this event.  \n\n\n\nThis is an extremely popular event that sells out every year. We will have limited Bunny Pass tickets available for purchase the day of the event (until 10am). Tickets purchased same day will be priced at $10 but are not guaranteed to be available.. The Bunny Pass includes entry and tickets to our Carnival. In order to manage crowds\, there are 3 start times to chose from (11am\, 1130am\, and 12pm). The Egg Hunt will begin at 10am for everyone. \n\n\n\n\nView Event Information
URL:https://www.windsorpalms-resort.com/event/egg-hunt-spring-festival/
LOCATION:Clubhouse Area
ATTACH;FMTTYPE=image/png:https://www.windsorpalms-resort.com/wp-content/uploads/2024/02/logosquare.png
END:VEVENT
BEGIN:VEVENT
DTSTART;TZID=America/New_York:20250417T180000
DTEND;TZID=America/New_York:20250417T190000
DTSTAMP:20260422T180846
CREATED:20250401T053734Z
LAST-MODIFIED:20250401T053735Z
UID:10000666-1744912800-1744916400@www.windsorpalms-resort.com
SUMMARY:Bingo
DESCRIPTION:Get your daubers ready and bring your A-game as we roll the numbered balls and call out those winning combinations. You’re in for a night of fun and friendly competition. Whether you’re a seasoned pro or a first-time player\, our Bingo Night promises an entertaining blend of luck and laughter.
URL:https://www.windsorpalms-resort.com/event/bingo-23/
LOCATION:Clubhouse Lobby
ATTACH;FMTTYPE=image/png:https://www.windsorpalms-resort.com/wp-content/uploads/2024/01/bingo.png
END:VEVENT
BEGIN:VEVENT
DTSTART;TZID=America/New_York:20250416T160000
DTEND;TZID=America/New_York:20250416T170000
DTSTAMP:20260422T180846
CREATED:20250401T050528Z
LAST-MODIFIED:20250401T050529Z
UID:10000654-1744819200-1744822800@www.windsorpalms-resort.com
SUMMARY:Activity Hour
DESCRIPTION:Every Wednesday our Activity Hour will include different ways for kids to have fun and socialize with each other such as crafts\, puzzles\, outdoor sports\, and more! \n\n\n\n \n\n\n\n50% off Flavored Ice during this hour.
URL:https://www.windsorpalms-resort.com/event/activity-hour-11/
LOCATION:Clubhouse Lobby
ATTACH;FMTTYPE=image/png:https://www.windsorpalms-resort.com/wp-content/uploads/2025/01/Activity-Hour-1.png
END:VEVENT
BEGIN:VEVENT
DTSTART;TZID=America/New_York:20250415T190000
DTEND;TZID=America/New_York:20250415T210000
DTSTAMP:20260422T180846
CREATED:20250401T051534Z
LAST-MODIFIED:20250401T051536Z
UID:10000660-1744743600-1744750800@www.windsorpalms-resort.com
SUMMARY:Movie Night
DESCRIPTION:Peter Rabbit PG
URL:https://www.windsorpalms-resort.com/event/movie-night-58/
LOCATION:Clubhouse Theater
ATTACH;FMTTYPE=image/jpeg:https://www.windsorpalms-resort.com/wp-content/uploads/2025/04/MPW-122141.jpg
END:VEVENT
BEGIN:VEVENT
DTSTART;TZID=America/New_York:20250413T150000
DTEND;TZID=America/New_York:20250413T170000
DTSTAMP:20260422T180846
CREATED:20250303T014511Z
LAST-MODIFIED:20250401T045916Z
UID:10000639-1744556400-1744563600@www.windsorpalms-resort.com
SUMMARY:3v3 Pickup Soccer
DESCRIPTION:3v3 soccer equipment and field will be setup from 3pm to 5pm open to anyone to play. Games start each half hour starting at 3pm. A waiver is required for participation in the Sundry Shop.
URL:https://www.windsorpalms-resort.com/event/3v3-pickup-soccer/
LOCATION:Clubhouse Lawn
ATTACH;FMTTYPE=image/png:https://www.windsorpalms-resort.com/wp-content/uploads/2025/03/3v3.png
END:VEVENT
BEGIN:VEVENT
DTSTART;TZID=America/New_York:20250412T100000
DTEND;TZID=America/New_York:20250412T180000
DTSTAMP:20260422T180846
CREATED:20250303T011902Z
LAST-MODIFIED:20250401T045947Z
UID:10000622-1744452000-1744480800@www.windsorpalms-resort.com
SUMMARY:Bucket Golf
DESCRIPTION:Play a 9 hole bucket golf course perfect for all ages and skill levels\, from a scratch golfer to someone who has never played before\, from kids to adults. Come see how low you can score! The rental includes a club and ball.
URL:https://www.windsorpalms-resort.com/event/bucket-golf-27/
LOCATION:Clubhouse Lawn
ATTACH;FMTTYPE=image/png:https://www.windsorpalms-resort.com/wp-content/uploads/2024/04/bucket.png
END:VEVENT
BEGIN:VEVENT
DTSTART;TZID=America/New_York:20250410T150000
DTEND;TZID=America/New_York:20250410T170000
DTSTAMP:20260422T180846
CREATED:20250401T050710Z
LAST-MODIFIED:20250401T050714Z
UID:10000657-1744297200-1744304400@www.windsorpalms-resort.com
SUMMARY:Disney Pin Trading
DESCRIPTION:Calling all Disney enthusiasts and pin collectors! Whether you’re a seasoned collector or new to the magic\, this event promises excitement\, and a touch of Disney magic. \n\n\n\nPlease bring or provide your own authentic Disney pins. Pins are not provided or available for sale. Non-Disney pins cannot be traded at this event. \n\n\n\nTrade a pin and get $1 off any Flavored ice.
URL:https://www.windsorpalms-resort.com/event/disney-pin-trading-18/
LOCATION:Clubhouse Lobby
ATTACH;FMTTYPE=image/jpeg:https://www.windsorpalms-resort.com/wp-content/uploads/2023/08/pin-trading.jpg
END:VEVENT
BEGIN:VEVENT
DTSTART;TZID=America/New_York:20250409T160000
DTEND;TZID=America/New_York:20250409T170000
DTSTAMP:20260422T180846
CREATED:20250401T050507Z
LAST-MODIFIED:20250401T050510Z
UID:10000653-1744214400-1744218000@www.windsorpalms-resort.com
SUMMARY:Activity Hour
DESCRIPTION:Every Wednesday our Activity Hour will include different ways for kids to have fun and socialize with each other such as crafts\, puzzles\, outdoor sports\, and more! \n\n\n\n \n\n\n\n50% off Flavored Ice during this hour.
URL:https://www.windsorpalms-resort.com/event/activity-hour-10/
LOCATION:Clubhouse Lobby
ATTACH;FMTTYPE=image/png:https://www.windsorpalms-resort.com/wp-content/uploads/2025/01/Activity-Hour-1.png
END:VEVENT
BEGIN:VEVENT
DTSTART;TZID=America/New_York:20250406T120000
DTEND;TZID=America/New_York:20250406T170000
DTSTAMP:20260422T180846
CREATED:20250401T052349Z
LAST-MODIFIED:20250401T052350Z
UID:10000663-1743940800-1743958800@www.windsorpalms-resort.com
SUMMARY:Board Game Day
DESCRIPTION:Get ready to roll\, strategize\, and have a blast at our Family Board Game Day! Every move counts and every decision could lead to triumph. Don’t miss this chance to bond\, connect\, and create lasting memories over some of the best board games in town.
URL:https://www.windsorpalms-resort.com/event/board-game-day-18/
LOCATION:Clubhouse Lobby
ATTACH;FMTTYPE=image/jpeg:https://www.windsorpalms-resort.com/wp-content/uploads/2023/08/board-game.jpg
END:VEVENT
BEGIN:VEVENT
DTSTART;TZID=America/New_York:20250402T160000
DTEND;TZID=America/New_York:20250402T170000
DTSTAMP:20260422T180846
CREATED:20250401T050446Z
LAST-MODIFIED:20250401T050448Z
UID:10000652-1743609600-1743613200@www.windsorpalms-resort.com
SUMMARY:Activity Hour
DESCRIPTION:Every Wednesday our Activity Hour will include different ways for kids to have fun and socialize with each other such as crafts\, puzzles\, outdoor sports\, and more! \n\n\n\n \n\n\n\n50% off Flavored Ice during this hour.
URL:https://www.windsorpalms-resort.com/event/activity-hour-9/
LOCATION:Clubhouse Lobby
ATTACH;FMTTYPE=image/png:https://www.windsorpalms-resort.com/wp-content/uploads/2025/01/Activity-Hour-1.png
END:VEVENT
BEGIN:VEVENT
DTSTART;TZID=America/New_York:20250401T190000
DTEND;TZID=America/New_York:20250401T210000
DTSTAMP:20260422T180846
CREATED:20250401T052628Z
LAST-MODIFIED:20250401T052630Z
UID:10000664-1743534000-1743541200@www.windsorpalms-resort.com
SUMMARY:Movie Night
DESCRIPTION:Moana 2 PG
URL:https://www.windsorpalms-resort.com/event/movie-night-60/
LOCATION:Clubhouse Theater
ATTACH;FMTTYPE=image/png:https://www.windsorpalms-resort.com/wp-content/uploads/2025/03/moana2-1.png
END:VEVENT
BEGIN:VEVENT
DTSTART;TZID=America/New_York:20250401T180000
DTEND;TZID=America/New_York:20250401T190000
DTSTAMP:20260422T180846
CREATED:20250401T053803Z
LAST-MODIFIED:20250401T053806Z
UID:10000667-1743530400-1743534000@www.windsorpalms-resort.com
SUMMARY:Bingo
DESCRIPTION:Get your daubers ready and bring your A-game as we roll the numbered balls and call out those winning combinations. You’re in for a night of fun and friendly competition. Whether you’re a seasoned pro or a first-time player\, our Bingo Night promises an entertaining blend of luck and laughter.
URL:https://www.windsorpalms-resort.com/event/bingo-25/
LOCATION:Clubhouse Lobby
ATTACH;FMTTYPE=image/png:https://www.windsorpalms-resort.com/wp-content/uploads/2024/01/bingo.png
END:VEVENT
BEGIN:VEVENT
DTSTART;TZID=America/New_York:20250328T190000
DTEND;TZID=America/New_York:20250328T220000
DTSTAMP:20260422T180846
CREATED:20250303T011709Z
LAST-MODIFIED:20250303T011710Z
UID:10000620-1743188400-1743199200@www.windsorpalms-resort.com
SUMMARY:Owner's Night
DESCRIPTION:Join us for a laid-back and vibrant evening at our “Owner’s Night” Tiki Happy Hour – a gathering designed exclusively for our valued property owners. Sip on event exclusive cocktails\, enjoy hors d’oeuvres\, event exclusive menu pricing\, and connect with fellow owners in a relaxed and picturesque setting. \n\n\n\n\n\n\n\nThis is a closed event for Windsor Palms property owners and immediate family only. ID required for entry.
URL:https://www.windsorpalms-resort.com/event/owners-night-17/
LOCATION:Tiki Bar
ATTACH;FMTTYPE=image/jpeg:https://www.windsorpalms-resort.com/wp-content/uploads/2023/08/tiki-bar.jpg
END:VEVENT
BEGIN:VEVENT
DTSTART;TZID=America/New_York:20250327T180000
DTEND;TZID=America/New_York:20250327T190000
DTSTAMP:20260422T180846
CREATED:20250303T012345Z
LAST-MODIFIED:20250303T012347Z
UID:10000626-1743098400-1743102000@www.windsorpalms-resort.com
SUMMARY:Bingo
DESCRIPTION:Get your daubers ready and bring your A-game as we roll the numbered balls and call out those winning combinations. You’re in for a night of fun and friendly competition. Whether you’re a seasoned pro or a first-time player\, our Bingo Night promises an entertaining blend of luck and laughter.
URL:https://www.windsorpalms-resort.com/event/bingo-20/
LOCATION:Clubhouse Lobby
ATTACH;FMTTYPE=image/png:https://www.windsorpalms-resort.com/wp-content/uploads/2024/01/bingo.png
END:VEVENT
BEGIN:VEVENT
DTSTART;TZID=America/New_York:20250326T160000
DTEND;TZID=America/New_York:20250326T170000
DTSTAMP:20260422T180846
CREATED:20250303T012827Z
LAST-MODIFIED:20250303T012829Z
UID:10000631-1743004800-1743008400@www.windsorpalms-resort.com
SUMMARY:Activity Hour
DESCRIPTION:Every Wednesday our Activity Hour will include different ways for kids to have fun and socialize with each other such as crafts\, puzzles\, outdoor sports\, and more! \n\n\n\n \n\n\n\n50% off Flavored Ice during this hour.
URL:https://www.windsorpalms-resort.com/event/activity-hour-7/
LOCATION:Clubhouse Lobby
ATTACH;FMTTYPE=image/png:https://www.windsorpalms-resort.com/wp-content/uploads/2025/01/Activity-Hour-1.png
END:VEVENT
BEGIN:VEVENT
DTSTART;TZID=America/New_York:20250325T190000
DTEND;TZID=America/New_York:20250325T210000
DTSTAMP:20260422T180846
CREATED:20250303T021217Z
LAST-MODIFIED:20250303T021218Z
UID:10000646-1742929200-1742936400@www.windsorpalms-resort.com
SUMMARY:Movie Night
DESCRIPTION:Irish Wish PG
URL:https://www.windsorpalms-resort.com/event/movie-night-57/
LOCATION:Clubhouse Theater
ATTACH;FMTTYPE=image/png:https://www.windsorpalms-resort.com/wp-content/uploads/2025/03/irishwish.png
END:VEVENT
BEGIN:VEVENT
DTSTART;TZID=America/New_York:20250325T190000
DTEND;TZID=America/New_York:20250325T203000
DTSTAMP:20260422T180846
CREATED:20250303T013640Z
LAST-MODIFIED:20250303T013642Z
UID:10000636-1742929200-1742934600@www.windsorpalms-resort.com
SUMMARY:Watercolor & Wine
DESCRIPTION:Follow along as you paint with watercolors and enjoy wine. \n\n\n\nParticipants must be 21 or older and have a valid form of ID.
URL:https://www.windsorpalms-resort.com/event/watercolor-wine-3/
LOCATION:Clubhouse Lobby
ATTACH;FMTTYPE=image/png:https://www.windsorpalms-resort.com/wp-content/uploads/2025/01/watercolor-wine.png
END:VEVENT
BEGIN:VEVENT
DTSTART;TZID=America/New_York:20250323T150000
DTEND;TZID=America/New_York:20250323T170000
DTSTAMP:20260422T180846
CREATED:20250303T012611Z
LAST-MODIFIED:20250303T012613Z
UID:10000628-1742742000-1742749200@www.windsorpalms-resort.com
SUMMARY:Disney Pin Trading
DESCRIPTION:Calling all Disney enthusiasts and pin collectors! Whether you’re a seasoned collector or new to the magic\, this event promises excitement\, and a touch of Disney magic. \n\n\n\nPlease bring or provide your own authentic Disney pins. Pins are not provided or available for sale. Non-Disney pins cannot be traded at this event. \n\n\n\nTrade a pin and get $1 off any Flavored ice.
URL:https://www.windsorpalms-resort.com/event/disney-pin-trading-17/
LOCATION:Clubhouse Lobby
ATTACH;FMTTYPE=image/jpeg:https://www.windsorpalms-resort.com/wp-content/uploads/2023/08/pin-trading.jpg
END:VEVENT
BEGIN:VEVENT
DTSTART;TZID=America/New_York:20250322T120000
DTEND;TZID=America/New_York:20250322T170000
DTSTAMP:20260422T180846
CREATED:20250303T013911Z
LAST-MODIFIED:20250303T013912Z
UID:10000638-1742644800-1742662800@www.windsorpalms-resort.com
SUMMARY:Board Game Day
DESCRIPTION:Get ready to roll\, strategize\, and have a blast at our Family Board Game Day! Every move counts and every decision could lead to triumph. Don’t miss this chance to bond\, connect\, and create lasting memories over some of the best board games in town.
URL:https://www.windsorpalms-resort.com/event/board-game-day-16/
LOCATION:Clubhouse Lobby
ATTACH;FMTTYPE=image/jpeg:https://www.windsorpalms-resort.com/wp-content/uploads/2023/08/board-game.jpg
END:VEVENT
BEGIN:VEVENT
DTSTART;TZID=America/New_York:20250319T160000
DTEND;TZID=America/New_York:20250319T170000
DTSTAMP:20260422T180846
CREATED:20250303T012912Z
LAST-MODIFIED:20250303T012913Z
UID:10000632-1742400000-1742403600@www.windsorpalms-resort.com
SUMMARY:Activity Hour
DESCRIPTION:Every Wednesday our Activity Hour will include different ways for kids to have fun and socialize with each other such as crafts\, puzzles\, outdoor sports\, and more! \n\n\n\n \n\n\n\n50% off Flavored Ice during this hour.
URL:https://www.windsorpalms-resort.com/event/activity-hour-8/
LOCATION:Clubhouse Lobby
ATTACH;FMTTYPE=image/png:https://www.windsorpalms-resort.com/wp-content/uploads/2025/01/Activity-Hour-1.png
END:VEVENT
BEGIN:VEVENT
DTSTART;TZID=America/New_York:20250319T113000
DTEND;TZID=America/New_York:20250319T133000
DTSTAMP:20260422T180846
CREATED:20250303T013344Z
LAST-MODIFIED:20250303T013345Z
UID:10000635-1742383800-1742391000@www.windsorpalms-resort.com
SUMMARY:Weekday BBQ
DESCRIPTION:Sink your teeth into juicy hamburgers and savor the smoky flavors of grilled hotdogs\, all served with a side of coleslaw\, baked beans\, chips\, and a drink. \n\n\n\n$10 | Burger Platter with coleslaw\, baked beans\, chips\, and soda$7 | Hot Dog Platter with coleslaw\, baked beans\, chips\, and soda$5 | Burger$3 | Hot Dog
URL:https://www.windsorpalms-resort.com/event/weekday-bbq-2/
LOCATION:Clubhouse Atrium
ATTACH;FMTTYPE=image/png:https://www.windsorpalms-resort.com/wp-content/uploads/2024/02/bbq.png
END:VEVENT
END:VCALENDAR