BEGIN:VCALENDAR
VERSION:2.0
PRODID:-//Windsor Palms Resort - ECPv6.15.13.1//NONSGML v1.0//EN
CALSCALE:GREGORIAN
METHOD:PUBLISH
X-WR-CALNAME:Windsor Palms Resort
X-ORIGINAL-URL:https://www.windsorpalms-resort.com
X-WR-CALDESC:Events for Windsor Palms Resort
REFRESH-INTERVAL;VALUE=DURATION:PT1H
X-Robots-Tag:noindex
X-PUBLISHED-TTL:PT1H
BEGIN:VTIMEZONE
TZID:America/New_York
BEGIN:DAYLIGHT
TZOFFSETFROM:-0500
TZOFFSETTO:-0400
TZNAME:EDT
DTSTART:20240310T070000
END:DAYLIGHT
BEGIN:STANDARD
TZOFFSETFROM:-0400
TZOFFSETTO:-0500
TZNAME:EST
DTSTART:20241103T060000
END:STANDARD
BEGIN:DAYLIGHT
TZOFFSETFROM:-0500
TZOFFSETTO:-0400
TZNAME:EDT
DTSTART:20250309T070000
END:DAYLIGHT
BEGIN:STANDARD
TZOFFSETFROM:-0400
TZOFFSETTO:-0500
TZNAME:EST
DTSTART:20251102T060000
END:STANDARD
BEGIN:DAYLIGHT
TZOFFSETFROM:-0500
TZOFFSETTO:-0400
TZNAME:EDT
DTSTART:20260308T070000
END:DAYLIGHT
BEGIN:STANDARD
TZOFFSETFROM:-0400
TZOFFSETTO:-0500
TZNAME:EST
DTSTART:20261101T060000
END:STANDARD
END:VTIMEZONE
BEGIN:VEVENT
DTSTART;TZID=America/New_York:20250315T100000
DTEND;TZID=America/New_York:20250315T180000
DTSTAMP:20260422T032439
CREATED:20250303T011843Z
LAST-MODIFIED:20250303T011844Z
UID:10000621-1742032800-1742061600@www.windsorpalms-resort.com
SUMMARY:Bucket Golf
DESCRIPTION:Play a 9 hole bucket golf course perfect for all ages and skill levels\, from a scratch golfer to someone who has never played before\, from kids to adults. Come see how low you can score! The rental includes a club and ball.
URL:https://www.windsorpalms-resort.com/event/bucket-golf-26/
LOCATION:Clubhouse Lawn
ATTACH;FMTTYPE=image/png:https://www.windsorpalms-resort.com/wp-content/uploads/2024/04/bucket.png
END:VEVENT
BEGIN:VEVENT
DTSTART;TZID=America/New_York:20250313T180000
DTEND;TZID=America/New_York:20250313T190000
DTSTAMP:20260422T032439
CREATED:20250303T012414Z
LAST-MODIFIED:20250303T012519Z
UID:10000625-1741888800-1741892400@www.windsorpalms-resort.com
SUMMARY:Bingo
DESCRIPTION:Get your daubers ready and bring your A-game as we roll the numbered balls and call out those winning combinations. You’re in for a night of fun and friendly competition. Whether you’re a seasoned pro or a first-time player\, our Bingo Night promises an entertaining blend of luck and laughter.
URL:https://www.windsorpalms-resort.com/event/bingo-21/
LOCATION:Clubhouse Lobby
ATTACH;FMTTYPE=image/png:https://www.windsorpalms-resort.com/wp-content/uploads/2024/01/bingo.png
END:VEVENT
BEGIN:VEVENT
DTSTART;TZID=America/New_York:20250312T190000
DTEND;TZID=America/New_York:20250312T210000
DTSTAMP:20260422T032439
CREATED:20250303T015945Z
LAST-MODIFIED:20250303T020241Z
UID:10000642-1741806000-1741813200@www.windsorpalms-resort.com
SUMMARY:Movie Night
DESCRIPTION:Moana 2 PG
URL:https://www.windsorpalms-resort.com/event/movie-night-53/
LOCATION:Clubhouse Theater
ATTACH;FMTTYPE=image/png:https://www.windsorpalms-resort.com/wp-content/uploads/2025/03/moana2-1.png
END:VEVENT
BEGIN:VEVENT
DTSTART;TZID=America/New_York:20250312T160000
DTEND;TZID=America/New_York:20250312T170000
DTSTAMP:20260422T032439
CREATED:20250303T012807Z
LAST-MODIFIED:20250303T012809Z
UID:10000630-1741795200-1741798800@www.windsorpalms-resort.com
SUMMARY:Activity Hour
DESCRIPTION:Every Wednesday our Activity Hour will include different ways for kids to have fun and socialize with each other such as crafts\, puzzles\, outdoor sports\, and more! \n\n\n\n \n\n\n\n50% off Flavored Ice during this hour.
URL:https://www.windsorpalms-resort.com/event/activity-hour-6/
LOCATION:Clubhouse Lobby
ATTACH;FMTTYPE=image/png:https://www.windsorpalms-resort.com/wp-content/uploads/2025/01/Activity-Hour-1.png
END:VEVENT
BEGIN:VEVENT
DTSTART;TZID=America/New_York:20250312T113000
DTEND;TZID=America/New_York:20250312T133000
DTSTAMP:20260422T032439
CREATED:20250303T013322Z
LAST-MODIFIED:20250303T013323Z
UID:10000634-1741779000-1741786200@www.windsorpalms-resort.com
SUMMARY:Weekday BBQ
DESCRIPTION:Sink your teeth into juicy hamburgers and savor the smoky flavors of grilled hotdogs\, all served with a side of coleslaw\, baked beans\, chips\, and a drink. \n\n\n\n$10 | Burger Platter with coleslaw\, baked beans\, chips\, and soda$7 | Hot Dog Platter with coleslaw\, baked beans\, chips\, and soda$5 | Burger$3 | Hot Dog
URL:https://www.windsorpalms-resort.com/event/weekday-bbq/
LOCATION:Clubhouse Atrium
ATTACH;FMTTYPE=image/png:https://www.windsorpalms-resort.com/wp-content/uploads/2024/02/bbq.png
END:VEVENT
BEGIN:VEVENT
DTSTART;TZID=America/New_York:20250311T190000
DTEND;TZID=America/New_York:20250311T210000
DTSTAMP:20260422T032439
CREATED:20250303T020759Z
LAST-MODIFIED:20250303T020802Z
UID:10000645-1741719600-1741726800@www.windsorpalms-resort.com
SUMMARY:Movie Night
DESCRIPTION:La Dolce Villa (2025)
URL:https://www.windsorpalms-resort.com/event/movie-night-56/
LOCATION:Clubhouse Theater
ATTACH;FMTTYPE=image/png:https://www.windsorpalms-resort.com/wp-content/uploads/2025/03/Untitled-420-x-600-px-1.png
END:VEVENT
BEGIN:VEVENT
DTSTART;TZID=America/New_York:20250309T150000
DTEND;TZID=America/New_York:20250309T170000
DTSTAMP:20260422T032439
CREATED:20250303T012542Z
LAST-MODIFIED:20250303T012543Z
UID:10000627-1741532400-1741539600@www.windsorpalms-resort.com
SUMMARY:Disney Pin Trading
DESCRIPTION:Calling all Disney enthusiasts and pin collectors! Whether you’re a seasoned collector or new to the magic\, this event promises excitement\, and a touch of Disney magic. \n\n\n\nPlease bring or provide your own authentic Disney pins. Pins are not provided or available for sale. Non-Disney pins cannot be traded at this event. \n\n\n\nTrade a pin and get $1 off any Flavored ice.
URL:https://www.windsorpalms-resort.com/event/disney-pin-trading-16/
LOCATION:Clubhouse Lobby
ATTACH;FMTTYPE=image/jpeg:https://www.windsorpalms-resort.com/wp-content/uploads/2023/08/pin-trading.jpg
END:VEVENT
BEGIN:VEVENT
DTSTART;TZID=America/New_York:20250308T120000
DTEND;TZID=America/New_York:20250308T170000
DTSTAMP:20260422T032439
CREATED:20250303T013846Z
LAST-MODIFIED:20250303T013848Z
UID:10000637-1741435200-1741453200@www.windsorpalms-resort.com
SUMMARY:Board Game Day
DESCRIPTION:Get ready to roll\, strategize\, and have a blast at our Family Board Game Day! Every move counts and every decision could lead to triumph. Don’t miss this chance to bond\, connect\, and create lasting memories over some of the best board games in town.
URL:https://www.windsorpalms-resort.com/event/board-game-day-15/
LOCATION:Clubhouse Lobby
ATTACH;FMTTYPE=image/jpeg:https://www.windsorpalms-resort.com/wp-content/uploads/2023/08/board-game.jpg
END:VEVENT
BEGIN:VEVENT
DTSTART;TZID=America/New_York:20250305T160000
DTEND;TZID=America/New_York:20250305T170000
DTSTAMP:20260422T032439
CREATED:20250303T012737Z
LAST-MODIFIED:20250303T012738Z
UID:10000629-1741190400-1741194000@www.windsorpalms-resort.com
SUMMARY:Activity Hour
DESCRIPTION:Every Wednesday our Activity Hour will include different ways for kids to have fun and socialize with each other such as crafts\, puzzles\, outdoor sports\, and more! \n\n\n\n \n\n\n\n50% off Flavored Ice during this hour.
URL:https://www.windsorpalms-resort.com/event/activity-hour-5/
LOCATION:Clubhouse Lobby
ATTACH;FMTTYPE=image/png:https://www.windsorpalms-resort.com/wp-content/uploads/2025/01/Activity-Hour-1.png
END:VEVENT
BEGIN:VEVENT
DTSTART;TZID=America/New_York:20250305T113000
DTEND;TZID=America/New_York:20250305T133000
DTSTAMP:20260422T032439
CREATED:20240301T022308Z
LAST-MODIFIED:20250303T013257Z
UID:10000364-1741174200-1741181400@www.windsorpalms-resort.com
SUMMARY:Weekday BBQ
DESCRIPTION:Sink your teeth into juicy hamburgers and savor the smoky flavors of grilled hotdogs\, all served with a side of coleslaw\, baked beans\, chips\, and a drink. \n\n\n\n$10 | Burger Platter with coleslaw\, baked beans\, chips\, and soda$7 | Hot Dog Platter with coleslaw\, baked beans\, chips\, and soda$5 | Burger$3 | Hot Dog
URL:https://www.windsorpalms-resort.com/event/tiki-bar-bbq-4/
LOCATION:Clubhouse Atrium
ATTACH;FMTTYPE=image/png:https://www.windsorpalms-resort.com/wp-content/uploads/2024/02/bbq.png
END:VEVENT
BEGIN:VEVENT
DTSTART;TZID=America/New_York:20250304T190000
DTEND;TZID=America/New_York:20250304T210000
DTSTAMP:20260422T032439
CREATED:20250303T020111Z
LAST-MODIFIED:20250303T020250Z
UID:10000641-1741114800-1741122000@www.windsorpalms-resort.com
SUMMARY:Movie Night
DESCRIPTION:Leap Year (2010)
URL:https://www.windsorpalms-resort.com/event/movie-night-54/
LOCATION:Clubhouse Theater
ATTACH;FMTTYPE=image/png:https://www.windsorpalms-resort.com/wp-content/uploads/2025/03/Untitled-420-x-600-px.png
END:VEVENT
BEGIN:VEVENT
DTSTART;TZID=America/New_York:20250304T180000
DTEND;TZID=America/New_York:20250304T190000
DTSTAMP:20260422T032439
CREATED:20250303T012221Z
LAST-MODIFIED:20250303T012222Z
UID:10000623-1741111200-1741114800@www.windsorpalms-resort.com
SUMMARY:Bingo
DESCRIPTION:Get your daubers ready and bring your A-game as we roll the numbered balls and call out those winning combinations. You’re in for a night of fun and friendly competition. Whether you’re a seasoned pro or a first-time player\, our Bingo Night promises an entertaining blend of luck and laughter.
URL:https://www.windsorpalms-resort.com/event/bingo-18/
LOCATION:Clubhouse Lobby
ATTACH;FMTTYPE=image/png:https://www.windsorpalms-resort.com/wp-content/uploads/2024/01/bingo.png
END:VEVENT
BEGIN:VEVENT
DTSTART;TZID=America/New_York:20250228T190000
DTEND;TZID=America/New_York:20250228T220000
DTSTAMP:20260422T032439
CREATED:20250131T174702Z
LAST-MODIFIED:20250131T174703Z
UID:10000608-1740769200-1740780000@www.windsorpalms-resort.com
SUMMARY:Owner's Night
DESCRIPTION:Join us for a laid-back and vibrant evening at our “Owner’s Night” Tiki Happy Hour – a gathering designed exclusively for our valued property owners. Sip on event exclusive cocktails\, enjoy hors d’oeuvres\, event exclusive menu pricing\, and connect with fellow owners in a relaxed and picturesque setting. \n\n\n\n\n\n\n\nThis is a closed event for Windsor Palms property owners and immediate family only. ID required for entry.
URL:https://www.windsorpalms-resort.com/event/owners-night-16/
LOCATION:Tiki Bar
ATTACH;FMTTYPE=image/jpeg:https://www.windsorpalms-resort.com/wp-content/uploads/2023/08/tiki-bar.jpg
END:VEVENT
BEGIN:VEVENT
DTSTART;TZID=America/New_York:20250227T180000
DTEND;TZID=America/New_York:20250227T190000
DTSTAMP:20260422T032439
CREATED:20250131T172521Z
LAST-MODIFIED:20250131T181839Z
UID:10000599-1740679200-1740682800@www.windsorpalms-resort.com
SUMMARY:Bingo
DESCRIPTION:Get your daubers ready and bring your A-game as we roll the numbered balls and call out those winning combinations. You’re in for a night of fun and friendly competition. Whether you’re a seasoned pro or a first-time player\, our Bingo Night promises an entertaining blend of luck and laughter.
URL:https://www.windsorpalms-resort.com/event/bingo-16/
LOCATION:Clubhouse Lobby
ATTACH;FMTTYPE=image/png:https://www.windsorpalms-resort.com/wp-content/uploads/2024/01/bingo.png
END:VEVENT
BEGIN:VEVENT
DTSTART;TZID=America/New_York:20250226T160000
DTEND;TZID=America/New_York:20250226T170000
DTSTAMP:20260422T032439
CREATED:20250131T181633Z
LAST-MODIFIED:20250131T181730Z
UID:10000613-1740585600-1740589200@www.windsorpalms-resort.com
SUMMARY:Activity Hour
DESCRIPTION:Every Wednesday our Activity Hour will include different ways for kids to have fun and socialize with each other such as crafts\, puzzles\, outdoor sports\, and more! \n\n\n\n \n\n\n\n50% off Flavored Ice during this hour.
URL:https://www.windsorpalms-resort.com/event/activity-hour-4/
LOCATION:Clubhouse Lobby
ATTACH;FMTTYPE=image/png:https://www.windsorpalms-resort.com/wp-content/uploads/2025/01/Activity-Hour-1.png
END:VEVENT
BEGIN:VEVENT
DTSTART;TZID=America/New_York:20250225T190000
DTEND;TZID=America/New_York:20250225T210000
DTSTAMP:20260422T032439
CREATED:20250131T184652Z
LAST-MODIFIED:20250131T184653Z
UID:10000618-1740510000-1740517200@www.windsorpalms-resort.com
SUMMARY:Movie Night
DESCRIPTION:50 First Dates PG-13
URL:https://www.windsorpalms-resort.com/event/movie-night-52/
LOCATION:Clubhouse Theater
ATTACH;FMTTYPE=image/jpeg:https://www.windsorpalms-resort.com/wp-content/uploads/2023/08/50-first-dates.jpg
END:VEVENT
BEGIN:VEVENT
DTSTART;TZID=America/New_York:20250223T150000
DTEND;TZID=America/New_York:20250223T170000
DTSTAMP:20260422T032439
CREATED:20250131T173105Z
LAST-MODIFIED:20250131T173107Z
UID:10000606-1740322800-1740330000@www.windsorpalms-resort.com
SUMMARY:Disney Pin Trading
DESCRIPTION:Calling all Disney enthusiasts and pin collectors! Whether you’re a seasoned collector or new to the magic\, this event promises excitement\, and a touch of Disney magic. \n\n\n\nPlease bring or provide your own authentic Disney pins. Pins are not provided or available for sale. Non-Disney pins cannot be traded at this event. \n\n\n\nTrade a pin and get $1 off any Flavored ice.
URL:https://www.windsorpalms-resort.com/event/disney-pin-trading-15/
LOCATION:Clubhouse Lobby
ATTACH;FMTTYPE=image/jpeg:https://www.windsorpalms-resort.com/wp-content/uploads/2023/08/pin-trading.jpg
END:VEVENT
BEGIN:VEVENT
DTSTART;TZID=America/New_York:20250222T100000
DTEND;TZID=America/New_York:20250222T170000
DTSTAMP:20260422T032439
CREATED:20250131T172716Z
LAST-MODIFIED:20250131T172819Z
UID:10000602-1740218400-1740243600@www.windsorpalms-resort.com
SUMMARY:Bucket Golf
DESCRIPTION:Play a 9 hole bucket golf course perfect for all ages and skill levels\, from a scratch golfer to someone who has never played before\, from kids to adults. Come see how low you can score! The rental includes a club and ball.
URL:https://www.windsorpalms-resort.com/event/bucket-golf-25/
LOCATION:Clubhouse Lawn
ATTACH;FMTTYPE=image/png:https://www.windsorpalms-resort.com/wp-content/uploads/2024/04/bucket.png
END:VEVENT
BEGIN:VEVENT
DTSTART;TZID=America/New_York:20250220T190000
DTEND;TZID=America/New_York:20250220T203000
DTSTAMP:20260422T032439
CREATED:20250131T182112Z
LAST-MODIFIED:20250131T182114Z
UID:10000614-1740078000-1740083400@www.windsorpalms-resort.com
SUMMARY:Watercolor & Wine
DESCRIPTION:Follow along as you paint with watercolors and enjoy wine. \n\n\n\nParticipants must be 21 or older and have a valid form of ID.
URL:https://www.windsorpalms-resort.com/event/watercolor-wine-2/
LOCATION:Clubhouse Lobby
ATTACH;FMTTYPE=image/png:https://www.windsorpalms-resort.com/wp-content/uploads/2025/01/watercolor-wine.png
END:VEVENT
BEGIN:VEVENT
DTSTART;TZID=America/New_York:20250219T160000
DTEND;TZID=America/New_York:20250219T170000
DTSTAMP:20260422T032439
CREATED:20250131T181528Z
LAST-MODIFIED:20250131T181529Z
UID:10000612-1739980800-1739984400@www.windsorpalms-resort.com
SUMMARY:Activity Hour
DESCRIPTION:Every Wednesday our Activity Hour will include different ways for kids to have fun and socialize with each other such as crafts\, puzzles\, outdoor sports\, and more! \n\n\n\n \n\n\n\n50% off Flavored Ice during this hour.
URL:https://www.windsorpalms-resort.com/event/activity-hour-3/
LOCATION:Clubhouse Lobby
ATTACH;FMTTYPE=image/png:https://www.windsorpalms-resort.com/wp-content/uploads/2025/01/Activity-Hour-1.png
END:VEVENT
BEGIN:VEVENT
DTSTART;TZID=America/New_York:20250218T190000
DTEND;TZID=America/New_York:20250218T210000
DTSTAMP:20260422T032439
CREATED:20250131T184635Z
LAST-MODIFIED:20250131T184638Z
UID:10000619-1739905200-1739912400@www.windsorpalms-resort.com
SUMMARY:Movie Night
DESCRIPTION:Crazy Rich Asians PG-13
URL:https://www.windsorpalms-resort.com/event/movie-night-51/
LOCATION:Clubhouse Theater
ATTACH;FMTTYPE=image/png:https://www.windsorpalms-resort.com/wp-content/uploads/2025/01/Untitled-design-5.png
END:VEVENT
BEGIN:VEVENT
DTSTART;TZID=America/New_York:20250218T180000
DTEND;TZID=America/New_York:20250218T190000
DTSTAMP:20260422T032439
CREATED:20250131T173043Z
LAST-MODIFIED:20250131T180707Z
UID:10000604-1739901600-1739905200@www.windsorpalms-resort.com
SUMMARY:Bingo
DESCRIPTION:Get your daubers ready and bring your A-game as we roll the numbered balls and call out those winning combinations. You’re in for a night of fun and friendly competition. Whether you’re a seasoned pro or a first-time player\, our Bingo Night promises an entertaining blend of luck and laughter.
URL:https://www.windsorpalms-resort.com/event/bingo-17/
LOCATION:Clubhouse Lobby
ATTACH;FMTTYPE=image/png:https://www.windsorpalms-resort.com/wp-content/uploads/2024/01/bingo.png
END:VEVENT
BEGIN:VEVENT
DTSTART;TZID=America/New_York:20250213T180000
DTEND;TZID=America/New_York:20250213T190000
DTSTAMP:20260422T032439
CREATED:20250131T172447Z
LAST-MODIFIED:20250131T172449Z
UID:10000598-1739469600-1739473200@www.windsorpalms-resort.com
SUMMARY:Bingo
DESCRIPTION:Get your daubers ready and bring your A-game as we roll the numbered balls and call out those winning combinations. You’re in for a night of fun and friendly competition. Whether you’re a seasoned pro or a first-time player\, our Bingo Night promises an entertaining blend of luck and laughter.
URL:https://www.windsorpalms-resort.com/event/bingo-15/
LOCATION:Clubhouse Lobby
ATTACH;FMTTYPE=image/png:https://www.windsorpalms-resort.com/wp-content/uploads/2024/01/bingo.png
END:VEVENT
BEGIN:VEVENT
DTSTART;TZID=America/New_York:20250212T160000
DTEND;TZID=America/New_York:20250212T170000
DTSTAMP:20260422T032439
CREATED:20250131T181513Z
LAST-MODIFIED:20250131T181514Z
UID:10000611-1739376000-1739379600@www.windsorpalms-resort.com
SUMMARY:Activity Hour
DESCRIPTION:Every Wednesday our Activity Hour will include different ways for kids to have fun and socialize with each other such as crafts\, puzzles\, outdoor sports\, and more! \n\n\n\n \n\n\n\n50% off Flavored Ice during this hour.
URL:https://www.windsorpalms-resort.com/event/activity-hour-2/
LOCATION:Clubhouse Lobby
ATTACH;FMTTYPE=image/png:https://www.windsorpalms-resort.com/wp-content/uploads/2025/01/Activity-Hour-1.png
END:VEVENT
BEGIN:VEVENT
DTSTART;TZID=America/New_York:20250211T190000
DTEND;TZID=America/New_York:20250211T210000
DTSTAMP:20260422T032439
CREATED:20250131T183755Z
LAST-MODIFIED:20250131T184036Z
UID:10000617-1739300400-1739307600@www.windsorpalms-resort.com
SUMMARY:Movie Night
DESCRIPTION:Valentine’s Day PG-13
URL:https://www.windsorpalms-resort.com/event/movie-night-50/
LOCATION:Clubhouse Theater
ATTACH;FMTTYPE=image/png:https://www.windsorpalms-resort.com/wp-content/uploads/2025/01/notebook.png
END:VEVENT
BEGIN:VEVENT
DTSTART;TZID=America/New_York:20250209T173000
DTEND;TZID=America/New_York:20250209T220000
DTSTAMP:20260422T032439
CREATED:20250131T174258Z
LAST-MODIFIED:20250204T201820Z
UID:10000607-1739122200-1739138400@www.windsorpalms-resort.com
SUMMARY:Superbowl BBQ Party Night
DESCRIPTION:Come and enjoy dinner catered by Pig Floyds Urban Barbakoa while Superbowl LIX is played live in our Movie theater\, Tiki Bar and on our Poolside inflatable screen (winds permitting). \n\n\n\n\n\n\n\nPrepurchase your plate in the Sundry Shop before 2/8/2025. You will receive a wristband that grants early access to the line so you ensure your desired choices will be available.  \n\n\n\n$20 per plate (BBQ and a canned soda)  \n\n\n\nChoose 1 Main Dish (all dishes include 1 dinner roll) \n\n\n\n Wings (BBQ\, Buffalo or Sweet Chili)\, Pulled Pork\, or Brisket \n\n\n\nChoose 2 Sides \n\n\n\nMac and Cheese\, Street Corn\, Cole Slaw or Baked Beans \n\n\n\nVegetarian options available. Wings come with 6 wings\, choice of ranch or blue cheese\, carrot and/or celery sticks and a dinner roll. \n\n\n\nFood is limited and available on a first come\, first served basis – unless you prepurchase a wristband in the Sundry Shop.
URL:https://www.windsorpalms-resort.com/event/superbowl-bbq-party-night/
LOCATION:Clubhouse Pool
ATTACH;FMTTYPE=image/png:https://www.windsorpalms-resort.com/wp-content/uploads/2024/02/rice.png
END:VEVENT
BEGIN:VEVENT
DTSTART;TZID=America/New_York:20250208T100000
DTEND;TZID=America/New_York:20250208T170000
DTSTAMP:20260422T032439
CREATED:20250131T172629Z
LAST-MODIFIED:20250131T172630Z
UID:10000596-1739008800-1739034000@www.windsorpalms-resort.com
SUMMARY:Bucket Golf
DESCRIPTION:Play a 9 hole bucket golf course perfect for all ages and skill levels\, from a scratch golfer to someone who has never played before\, from kids to adults. Come see how low you can score! The rental includes a club and ball.
URL:https://www.windsorpalms-resort.com/event/bucket-golf-24/
LOCATION:Clubhouse Lawn
ATTACH;FMTTYPE=image/png:https://www.windsorpalms-resort.com/wp-content/uploads/2024/04/bucket.png
END:VEVENT
BEGIN:VEVENT
DTSTART;TZID=America/New_York:20250205T160000
DTEND;TZID=America/New_York:20250205T170000
DTSTAMP:20260422T032439
CREATED:20250131T181344Z
LAST-MODIFIED:20250131T181441Z
UID:10000609-1738771200-1738774800@www.windsorpalms-resort.com
SUMMARY:Activity Hour
DESCRIPTION:Every Wednesday our Activity Hour will include different ways for kids to have fun and socialize with each other such as crafts\, puzzles\, outdoor sports\, and more! \n\n\n\n \n\n\n\n50% off Flavored Ice during this hour.
URL:https://www.windsorpalms-resort.com/event/activity-hour/
LOCATION:Clubhouse Lobby
ATTACH;FMTTYPE=image/png:https://www.windsorpalms-resort.com/wp-content/uploads/2025/01/Activity-Hour-1.png
END:VEVENT
BEGIN:VEVENT
DTSTART;TZID=America/New_York:20250204T190000
DTEND;TZID=America/New_York:20250204T210000
DTSTAMP:20260422T032439
CREATED:20250131T183257Z
LAST-MODIFIED:20250131T183259Z
UID:10000615-1738695600-1738702800@www.windsorpalms-resort.com
SUMMARY:Movie Night
DESCRIPTION:The Notebook PG-13
URL:https://www.windsorpalms-resort.com/event/movie-night-49/
LOCATION:Clubhouse Theater
ATTACH;FMTTYPE=image/png:https://www.windsorpalms-resort.com/wp-content/uploads/2025/01/notebook.png
END:VEVENT
BEGIN:VEVENT
DTSTART;TZID=America/New_York:20250204T180000
DTEND;TZID=America/New_York:20250204T190000
DTSTAMP:20260422T032439
CREATED:20250131T172308Z
LAST-MODIFIED:20250131T172310Z
UID:10000597-1738692000-1738695600@www.windsorpalms-resort.com
SUMMARY:Bingo
DESCRIPTION:Get your daubers ready and bring your A-game as we roll the numbered balls and call out those winning combinations. You’re in for a night of fun and friendly competition. Whether you’re a seasoned pro or a first-time player\, our Bingo Night promises an entertaining blend of luck and laughter.
URL:https://www.windsorpalms-resort.com/event/bingo-14/
LOCATION:Clubhouse Lobby
ATTACH;FMTTYPE=image/png:https://www.windsorpalms-resort.com/wp-content/uploads/2024/01/bingo.png
END:VEVENT
END:VCALENDAR