BEGIN:VCALENDAR
VERSION:2.0
PRODID:-//Windsor Palms Resort - ECPv6.15.13.1//NONSGML v1.0//EN
CALSCALE:GREGORIAN
METHOD:PUBLISH
X-WR-CALNAME:Windsor Palms Resort
X-ORIGINAL-URL:https://www.windsorpalms-resort.com
X-WR-CALDESC:Events for Windsor Palms Resort
REFRESH-INTERVAL;VALUE=DURATION:PT1H
X-Robots-Tag:noindex
X-PUBLISHED-TTL:PT1H
BEGIN:VTIMEZONE
TZID:America/New_York
BEGIN:DAYLIGHT
TZOFFSETFROM:-0500
TZOFFSETTO:-0400
TZNAME:EDT
DTSTART:20230312T070000
END:DAYLIGHT
BEGIN:STANDARD
TZOFFSETFROM:-0400
TZOFFSETTO:-0500
TZNAME:EST
DTSTART:20231105T060000
END:STANDARD
BEGIN:DAYLIGHT
TZOFFSETFROM:-0500
TZOFFSETTO:-0400
TZNAME:EDT
DTSTART:20240310T070000
END:DAYLIGHT
BEGIN:STANDARD
TZOFFSETFROM:-0400
TZOFFSETTO:-0500
TZNAME:EST
DTSTART:20241103T060000
END:STANDARD
BEGIN:DAYLIGHT
TZOFFSETFROM:-0500
TZOFFSETTO:-0400
TZNAME:EDT
DTSTART:20250309T070000
END:DAYLIGHT
BEGIN:STANDARD
TZOFFSETFROM:-0400
TZOFFSETTO:-0500
TZNAME:EST
DTSTART:20251102T060000
END:STANDARD
END:VTIMEZONE
BEGIN:VEVENT
DTSTART;TZID=America/New_York:20240719T093000
DTEND;TZID=America/New_York:20240719T103000
DTSTAMP:20260422T183928
CREATED:20240702T203727Z
LAST-MODIFIED:20240702T203733Z
UID:10000490-1721381400-1721385000@www.windsorpalms-resort.com
SUMMARY:Aqua Fit Class
DESCRIPTION:Get your day started right with an Aqua Fit Class led by a certified personal trainer open to all ages and fitness levels. Swimming is not required to participate.
URL:https://www.windsorpalms-resort.com/event/aqua-fit-class-6/
LOCATION:Clubhouse Pool
ATTACH;FMTTYPE=image/png:https://www.windsorpalms-resort.com/wp-content/uploads/2024/02/aquafit.png
END:VEVENT
BEGIN:VEVENT
DTSTART;TZID=America/New_York:20240718T093000
DTEND;TZID=America/New_York:20240718T110000
DTSTAMP:20260422T183928
CREATED:20240702T203622Z
LAST-MODIFIED:20240702T203623Z
UID:10000488-1721295000-1721300400@www.windsorpalms-resort.com
SUMMARY:Pancake Breakfast
DESCRIPTION:Start your day off right by savoring the aroma of freshly flipped pancakes\, golden and light\, served hot. Sausages\, home fries\, and drinks are also availabe to enjoy with your breakfast. \n\n\n\n$12 | 2 Pancakes\, 2 sausages\, home fries\, and drink$7 | 3 Pancakes and drink$6 | Kids Breakfast (1 pancake\, 1 sausage\, home fries\, and drink)$3 | Single Pancake
URL:https://www.windsorpalms-resort.com/event/pancake-breakfast-50/
LOCATION:Tiki Bar
ATTACH;FMTTYPE=image/jpeg:https://www.windsorpalms-resort.com/wp-content/uploads/2023/11/pancake.jpg
END:VEVENT
BEGIN:VEVENT
DTSTART;TZID=America/New_York:20240717T150000
DTEND;TZID=America/New_York:20240717T170000
DTSTAMP:20260422T183928
CREATED:20240702T203343Z
LAST-MODIFIED:20240702T203344Z
UID:10000480-1721228400-1721235600@www.windsorpalms-resort.com
SUMMARY:Pool Party
DESCRIPTION:Dive into the night with Tiki Bar specials\, $2 off flavored ice\, and poolside games such as cornhole and Jumbo Connect 4.
URL:https://www.windsorpalms-resort.com/event/pool-party-18/
LOCATION:Clubhouse Pool
ATTACH;FMTTYPE=image/png:https://www.windsorpalms-resort.com/wp-content/uploads/2023/08/poolside-activities.png
END:VEVENT
BEGIN:VEVENT
DTSTART;TZID=America/New_York:20240716T093000
DTEND;TZID=America/New_York:20240716T110000
DTSTAMP:20260422T183928
CREATED:20240702T203515Z
LAST-MODIFIED:20240702T203516Z
UID:10000484-1721122200-1721127600@www.windsorpalms-resort.com
SUMMARY:Pancake Breakfast
DESCRIPTION:Start your day off right by savoring the aroma of freshly flipped pancakes\, golden and light\, served hot. Sausages\, home fries\, and drinks are also availabe to enjoy with your breakfast. \n\n\n\n$12 | 2 Pancakes\, 2 sausages\, home fries\, and drink$7 | 3 Pancakes and drink$6 | Kids Breakfast (1 pancake\, 1 sausage\, home fries\, and drink)$3 | Single Pancake
URL:https://www.windsorpalms-resort.com/event/pancake-breakfast-46/
LOCATION:Tiki Bar
ATTACH;FMTTYPE=image/jpeg:https://www.windsorpalms-resort.com/wp-content/uploads/2023/11/pancake.jpg
END:VEVENT
BEGIN:VEVENT
DTSTART;TZID=America/New_York:20240714T170000
DTEND;TZID=America/New_York:20240714T200000
DTSTAMP:20260422T183928
CREATED:20240702T204406Z
LAST-MODIFIED:20240702T204445Z
UID:10000492-1720976400-1720987200@www.windsorpalms-resort.com
SUMMARY:Reel Cajun Cookin' Food Truck
DESCRIPTION:Come enjoy fresh\, authentic Cajun food as we host the Reel Cajun Cookin’ food truck from 5pm to 8pm. Special coupons will be available at the Tiki Bar and Sundry Shop on Saturday and Sunday.
URL:https://www.windsorpalms-resort.com/event/reel-cajun-cookin-food-truck/
LOCATION:Clubhouse Pool
ATTACH;FMTTYPE=image/png:https://www.windsorpalms-resort.com/wp-content/uploads/2024/07/cjun.png
END:VEVENT
BEGIN:VEVENT
DTSTART;TZID=America/New_York:20240712T190000
DTEND;TZID=America/New_York:20240712T210000
DTSTAMP:20260422T183928
CREATED:20240702T203814Z
LAST-MODIFIED:20240702T203815Z
UID:10000491-1720810800-1720818000@www.windsorpalms-resort.com
SUMMARY:Karaoke Night
DESCRIPTION:Get ready to unleash your inner rockstar at our electrifying karaoke night! Grab the mic\, pick your favorite tunes\, and belt out your signature hits in front of an enthusiastic crowd. Whether you’re a seasoned crooner or a first-time performer\, it’s your time to shine!
URL:https://www.windsorpalms-resort.com/event/karaoke-night-4/
LOCATION:Clubhouse Pool
ATTACH;FMTTYPE=image/png:https://www.windsorpalms-resort.com/wp-content/uploads/2024/04/karaoke.png
END:VEVENT
BEGIN:VEVENT
DTSTART;TZID=America/New_York:20240711T093000
DTEND;TZID=America/New_York:20240711T110000
DTSTAMP:20260422T183928
CREATED:20240702T203607Z
LAST-MODIFIED:20240702T203608Z
UID:10000487-1720690200-1720695600@www.windsorpalms-resort.com
SUMMARY:Pancake Breakfast
DESCRIPTION:Start your day off right by savoring the aroma of freshly flipped pancakes\, golden and light\, served hot. Sausages\, home fries\, and drinks are also availabe to enjoy with your breakfast. \n\n\n\n$12 | 2 Pancakes\, 2 sausages\, home fries\, and drink$7 | 3 Pancakes and drink$6 | Kids Breakfast (1 pancake\, 1 sausage\, home fries\, and drink)$3 | Single Pancake
URL:https://www.windsorpalms-resort.com/event/pancake-breakfast-49/
LOCATION:Tiki Bar
ATTACH;FMTTYPE=image/jpeg:https://www.windsorpalms-resort.com/wp-content/uploads/2023/11/pancake.jpg
END:VEVENT
BEGIN:VEVENT
DTSTART;TZID=America/New_York:20240710T150000
DTEND;TZID=America/New_York:20240710T170000
DTSTAMP:20260422T183928
CREATED:20240702T203331Z
LAST-MODIFIED:20240702T203332Z
UID:10000479-1720623600-1720630800@www.windsorpalms-resort.com
SUMMARY:Pool Party
DESCRIPTION:Dive into the night with Tiki Bar specials\, $2 off flavored ice\, and poolside games such as cornhole and Jumbo Connect 4.
URL:https://www.windsorpalms-resort.com/event/pool-party-17/
LOCATION:Clubhouse Pool
ATTACH;FMTTYPE=image/png:https://www.windsorpalms-resort.com/wp-content/uploads/2023/08/poolside-activities.png
END:VEVENT
BEGIN:VEVENT
DTSTART;TZID=America/New_York:20240709T093000
DTEND;TZID=America/New_York:20240709T110000
DTSTAMP:20260422T183928
CREATED:20240702T203505Z
LAST-MODIFIED:20240702T203506Z
UID:10000483-1720517400-1720522800@www.windsorpalms-resort.com
SUMMARY:Pancake Breakfast
DESCRIPTION:Start your day off right by savoring the aroma of freshly flipped pancakes\, golden and light\, served hot. Sausages\, home fries\, and drinks are also availabe to enjoy with your breakfast. \n\n\n\n$12 | 2 Pancakes\, 2 sausages\, home fries\, and drink$7 | 3 Pancakes and drink$6 | Kids Breakfast (1 pancake\, 1 sausage\, home fries\, and drink)$3 | Single Pancake
URL:https://www.windsorpalms-resort.com/event/pancake-breakfast-45/
LOCATION:Tiki Bar
ATTACH;FMTTYPE=image/jpeg:https://www.windsorpalms-resort.com/wp-content/uploads/2023/11/pancake.jpg
END:VEVENT
BEGIN:VEVENT
DTSTART;TZID=America/New_York:20240707T100000
DTEND;TZID=America/New_York:20240707T200000
DTSTAMP:20260422T183928
CREATED:20240702T204707Z
LAST-MODIFIED:20240702T204708Z
UID:10000495-1720346400-1720382400@www.windsorpalms-resort.com
SUMMARY:Bucket Golf
DESCRIPTION:Play a 9 hole bucket golf course perfect for all ages and skill levels\, from a scratch golfer to someone who has never played before\, from kids to adults. Come see how low you can score! The rental includes a club and ball.
URL:https://www.windsorpalms-resort.com/event/bucket-golf-15/
LOCATION:Clubhouse Lawn
ATTACH;FMTTYPE=image/png:https://www.windsorpalms-resort.com/wp-content/uploads/2024/04/bucket.png
END:VEVENT
BEGIN:VEVENT
DTSTART;TZID=America/New_York:20240706T100000
DTEND;TZID=America/New_York:20240706T200000
DTSTAMP:20260422T183928
CREATED:20240702T204655Z
LAST-MODIFIED:20240702T204655Z
UID:10000494-1720260000-1720296000@www.windsorpalms-resort.com
SUMMARY:Bucket Golf
DESCRIPTION:Play a 9 hole bucket golf course perfect for all ages and skill levels\, from a scratch golfer to someone who has never played before\, from kids to adults. Come see how low you can score! The rental includes a club and ball.
URL:https://www.windsorpalms-resort.com/event/bucket-golf-14/
LOCATION:Clubhouse Lawn
ATTACH;FMTTYPE=image/png:https://www.windsorpalms-resort.com/wp-content/uploads/2024/04/bucket.png
END:VEVENT
BEGIN:VEVENT
DTSTART;TZID=America/New_York:20240703T150000
DTEND;TZID=America/New_York:20240703T170000
DTSTAMP:20260422T183928
CREATED:20240702T203317Z
LAST-MODIFIED:20240702T203318Z
UID:10000478-1720018800-1720026000@www.windsorpalms-resort.com
SUMMARY:Pool Party
DESCRIPTION:Dive into the night with Tiki Bar specials\, $2 off flavored ice\, and poolside games such as cornhole and Jumbo Connect 4.
URL:https://www.windsorpalms-resort.com/event/pool-party-16/
LOCATION:Clubhouse Pool
ATTACH;FMTTYPE=image/png:https://www.windsorpalms-resort.com/wp-content/uploads/2023/08/poolside-activities.png
END:VEVENT
BEGIN:VEVENT
DTSTART;TZID=America/New_York:20240630T110000
DTEND;TZID=America/New_York:20240630T130000
DTSTAMP:20260422T183928
CREATED:20240605T061227Z
LAST-MODIFIED:20240605T201703Z
UID:10000476-1719745200-1719752400@www.windsorpalms-resort.com
SUMMARY:Herb Garden Planter
DESCRIPTION:Drill\, assemble\, stain\, and plant your own herb garden planter box. Choose from a variety of herbs to plant and stains to color your box and grow some fresh herbs for the summer. \n\n\n\nRegistration is required for this event. You can register and pay in the Sundry Shop or with the button below. Registration or payment must be complete by June 28th.
URL:https://www.windsorpalms-resort.com/event/herb-garden-planter/
LOCATION:Clubhouse Lobby
ATTACH;FMTTYPE=image/jpeg:https://www.windsorpalms-resort.com/wp-content/uploads/2024/06/herb-garden.jpg
END:VEVENT
BEGIN:VEVENT
DTSTART;TZID=America/New_York:20240629T140000
DTEND;TZID=America/New_York:20240629T170000
DTSTAMP:20260422T183928
CREATED:20240604T235110Z
LAST-MODIFIED:20240604T235118Z
UID:10000462-1719669600-1719680400@www.windsorpalms-resort.com
SUMMARY:Board Game Day
DESCRIPTION:Get ready to roll\, strategize\, and have a blast at our Family Board Game Day! Every move counts and every decision could lead to triumph. Don’t miss this chance to bond\, connect\, and create lasting memories over some of the best board games in town.
URL:https://www.windsorpalms-resort.com/event/board-game-day-5/
LOCATION:Clubhouse Lobby
ATTACH;FMTTYPE=image/jpeg:https://www.windsorpalms-resort.com/wp-content/uploads/2023/08/board-game.jpg
END:VEVENT
BEGIN:VEVENT
DTSTART;TZID=America/New_York:20240628T203000
DTEND;TZID=America/New_York:20240628T220000
DTSTAMP:20260422T183928
CREATED:20240605T055036Z
LAST-MODIFIED:20240628T132210Z
UID:10000470-1719606600-1719612000@www.windsorpalms-resort.com
SUMMARY:Movie Night
DESCRIPTION:Murder Mystery | PG-13 \n\n\n\n\n\n\n\nThis movie has been moved indoors due to weather.
URL:https://www.windsorpalms-resort.com/event/pool-movie-night-28/
LOCATION:Clubhouse Theater
ATTACH;FMTTYPE=image/png:https://www.windsorpalms-resort.com/wp-content/uploads/2024/06/murder-mystery.png
END:VEVENT
BEGIN:VEVENT
DTSTART;TZID=America/New_York:20240628T190000
DTEND;TZID=America/New_York:20240628T220000
DTSTAMP:20260422T183928
CREATED:20240605T054609Z
LAST-MODIFIED:20240605T054610Z
UID:10000469-1719601200-1719612000@www.windsorpalms-resort.com
SUMMARY:Owner's Night
DESCRIPTION:Join us for a laid-back and vibrant evening at our “Owner’s Night” Tiki Happy Hour – a gathering designed exclusively for our valued property owners. Sip on event exclusive cocktails\, enjoy hors d’oeuvres\, event exclusive menu pricing\, and connect with fellow owners in a relaxed and picturesque setting. \n\n\n\n\n\n\n\nThis is a closed event for Windsor Palms property owners and immediate family only. ID required for entry.
URL:https://www.windsorpalms-resort.com/event/owners-night-9/
LOCATION:Tiki Bar
ATTACH;FMTTYPE=image/jpeg:https://www.windsorpalms-resort.com/wp-content/uploads/2023/08/tiki-bar.jpg
END:VEVENT
BEGIN:VEVENT
DTSTART;TZID=America/New_York:20240628T120000
DTEND;TZID=America/New_York:20240628T130000
DTSTAMP:20260422T183928
CREATED:20240605T061440Z
LAST-MODIFIED:20240628T144519Z
UID:10000477-1719576000-1719579600@www.windsorpalms-resort.com
SUMMARY:Aqua Fit Class
DESCRIPTION:Get your day started right with an Aqua Fit Class led by a certified personal trainer open to all ages and fitness levels. Swimming is not required to participate.
URL:https://www.windsorpalms-resort.com/event/aqua-fit-class-5/
LOCATION:Clubhouse Pool
ATTACH;FMTTYPE=image/png:https://www.windsorpalms-resort.com/wp-content/uploads/2024/02/aquafit.png
END:VEVENT
BEGIN:VEVENT
DTSTART;TZID=America/New_York:20240627T093000
DTEND;TZID=America/New_York:20240627T110000
DTSTAMP:20260422T183928
CREATED:20240604T234147Z
LAST-MODIFIED:20240604T234148Z
UID:10000455-1719480600-1719486000@www.windsorpalms-resort.com
SUMMARY:Pancake Breakfast
DESCRIPTION:Start your day off right by savoring the aroma of freshly flipped pancakes\, golden and light\, served hot. Sausages\, home fries\, and drinks are also availabe to enjoy with your breakfast. \n\n\n\n$12 | 2 Pancakes\, 2 sausages\, home fries\, and drink$7 | 3 Pancakes and drink$6 | Kids Breakfast (1 pancake\, 1 sausage\, home fries\, and drink)$3 | Single Pancake
URL:https://www.windsorpalms-resort.com/event/pancake-breakfast-41/
LOCATION:Tiki Bar
ATTACH;FMTTYPE=image/jpeg:https://www.windsorpalms-resort.com/wp-content/uploads/2023/11/pancake.jpg
END:VEVENT
BEGIN:VEVENT
DTSTART;TZID=America/New_York:20240626T150000
DTEND;TZID=America/New_York:20240626T170000
DTSTAMP:20260422T183928
CREATED:20240604T231706Z
LAST-MODIFIED:20240604T231707Z
UID:10000450-1719414000-1719421200@www.windsorpalms-resort.com
SUMMARY:Pool Party
DESCRIPTION:Dive into the night with Tiki Bar specials\, $2 off flavored ice\, and poolside games such as cornhole and Jumbo Connect 4.
URL:https://www.windsorpalms-resort.com/event/pool-party-15/
LOCATION:Clubhouse Pool
ATTACH;FMTTYPE=image/png:https://www.windsorpalms-resort.com/wp-content/uploads/2023/08/poolside-activities.png
END:VEVENT
BEGIN:VEVENT
DTSTART;TZID=America/New_York:20240625T190000
DTEND;TZID=America/New_York:20240625T210000
DTSTAMP:20260422T183928
CREATED:20240605T060555Z
LAST-MODIFIED:20240605T060612Z
UID:10000475-1719342000-1719349200@www.windsorpalms-resort.com
SUMMARY:Movie Night
DESCRIPTION:The Lion King (2019)
URL:https://www.windsorpalms-resort.com/event/movie-night-47/
LOCATION:Clubhouse Theater
ATTACH;FMTTYPE=image/jpeg:https://www.windsorpalms-resort.com/wp-content/uploads/2023/08/moana.jpg
END:VEVENT
BEGIN:VEVENT
DTSTART;TZID=America/New_York:20240625T093000
DTEND;TZID=America/New_York:20240625T110000
DTSTAMP:20260422T183928
CREATED:20240604T234327Z
LAST-MODIFIED:20240604T234329Z
UID:10000458-1719307800-1719313200@www.windsorpalms-resort.com
SUMMARY:Pancake Breakfast
DESCRIPTION:Start your day off right by savoring the aroma of freshly flipped pancakes\, golden and light\, served hot. Sausages\, home fries\, and drinks are also availabe to enjoy with your breakfast. \n\n\n\n$12 | 2 Pancakes\, 2 sausages\, home fries\, and drink$7 | 3 Pancakes and drink$6 | Kids Breakfast (1 pancake\, 1 sausage\, home fries\, and drink)$3 | Single Pancake
URL:https://www.windsorpalms-resort.com/event/pancake-breakfast-44/
LOCATION:Tiki Bar
ATTACH;FMTTYPE=image/jpeg:https://www.windsorpalms-resort.com/wp-content/uploads/2023/11/pancake.jpg
END:VEVENT
BEGIN:VEVENT
DTSTART;TZID=America/New_York:20240622T100000
DTEND;TZID=America/New_York:20240622T200000
DTSTAMP:20260422T183928
CREATED:20240604T235326Z
LAST-MODIFIED:20240604T235327Z
UID:10000464-1719050400-1719086400@www.windsorpalms-resort.com
SUMMARY:Bucket Golf
DESCRIPTION:Play a 9 hole bucket golf course perfect for all ages and skill levels\, from a scratch golfer to someone who has never played before\, from kids to adults. Come see how low you can score! The rental includes a club and ball.
URL:https://www.windsorpalms-resort.com/event/bucket-golf-12/
LOCATION:Clubhouse Lawn
ATTACH;FMTTYPE=image/png:https://www.windsorpalms-resort.com/wp-content/uploads/2024/04/bucket.png
END:VEVENT
BEGIN:VEVENT
DTSTART;TZID=America/New_York:20240621T190000
DTEND;TZID=America/New_York:20240621T210000
DTSTAMP:20260422T183928
CREATED:20240605T054526Z
LAST-MODIFIED:20240605T054527Z
UID:10000468-1718996400-1719003600@www.windsorpalms-resort.com
SUMMARY:Karaoke Night
DESCRIPTION:Get ready to unleash your inner rockstar at our electrifying karaoke night! Grab the mic\, pick your favorite tunes\, and belt out your signature hits in front of an enthusiastic crowd. Whether you’re a seasoned crooner or a first-time performer\, it’s your time to shine!
URL:https://www.windsorpalms-resort.com/event/karaoke-night-3/
LOCATION:Clubhouse Pool
ATTACH;FMTTYPE=image/png:https://www.windsorpalms-resort.com/wp-content/uploads/2024/04/karaoke.png
END:VEVENT
BEGIN:VEVENT
DTSTART;TZID=America/New_York:20240620T093000
DTEND;TZID=America/New_York:20240620T110000
DTSTAMP:20260422T183928
CREATED:20240604T234118Z
LAST-MODIFIED:20240604T234120Z
UID:10000454-1718875800-1718881200@www.windsorpalms-resort.com
SUMMARY:Pancake Breakfast
DESCRIPTION:Start your day off right by savoring the aroma of freshly flipped pancakes\, golden and light\, served hot. Sausages\, home fries\, and drinks are also availabe to enjoy with your breakfast. \n\n\n\n$12 | 2 Pancakes\, 2 sausages\, home fries\, and drink$7 | 3 Pancakes and drink$6 | Kids Breakfast (1 pancake\, 1 sausage\, home fries\, and drink)$3 | Single Pancake
URL:https://www.windsorpalms-resort.com/event/pancake-breakfast-40/
LOCATION:Tiki Bar
ATTACH;FMTTYPE=image/jpeg:https://www.windsorpalms-resort.com/wp-content/uploads/2023/11/pancake.jpg
END:VEVENT
BEGIN:VEVENT
DTSTART;TZID=America/New_York:20240619T180000
DTEND;TZID=America/New_York:20240619T200000
DTSTAMP:20260422T183928
CREATED:20240604T233819Z
LAST-MODIFIED:20240604T233853Z
UID:10000451-1718820000-1718827200@www.windsorpalms-resort.com
SUMMARY:Painted Pebble Tic-Tac-Toe
DESCRIPTION:Paint mini river rocks however you’d like and create a customized and unique tic-tac-toe game to take with you wherever you go.
URL:https://www.windsorpalms-resort.com/event/painted-pebble-tic-tac-toe/
LOCATION:Clubhouse Lobby
ATTACH;FMTTYPE=image/png:https://www.windsorpalms-resort.com/wp-content/uploads/2024/06/tic-tac-toe.png
END:VEVENT
BEGIN:VEVENT
DTSTART;TZID=America/New_York:20240619T150000
DTEND;TZID=America/New_York:20240619T170000
DTSTAMP:20260422T183928
CREATED:20240604T231637Z
LAST-MODIFIED:20240604T231638Z
UID:10000449-1718809200-1718816400@www.windsorpalms-resort.com
SUMMARY:Pool Party
DESCRIPTION:Dive into the night with Tiki Bar specials\, $2 off flavored ice\, and poolside games such as cornhole and Jumbo Connect 4.
URL:https://www.windsorpalms-resort.com/event/pool-party-14/
LOCATION:Clubhouse Pool
ATTACH;FMTTYPE=image/png:https://www.windsorpalms-resort.com/wp-content/uploads/2023/08/poolside-activities.png
END:VEVENT
BEGIN:VEVENT
DTSTART;TZID=America/New_York:20240618T190000
DTEND;TZID=America/New_York:20240618T210000
DTSTAMP:20260422T183928
CREATED:20240605T060449Z
LAST-MODIFIED:20240605T060451Z
UID:10000474-1718737200-1718744400@www.windsorpalms-resort.com
SUMMARY:Movie Night
DESCRIPTION:The Incredibles
URL:https://www.windsorpalms-resort.com/event/movie-night-46/
LOCATION:Clubhouse Theater
ATTACH;FMTTYPE=image/webp:https://www.windsorpalms-resort.com/wp-content/uploads/2024/06/incredibles.webp
END:VEVENT
BEGIN:VEVENT
DTSTART;TZID=America/New_York:20240618T093000
DTEND;TZID=America/New_York:20240618T110000
DTSTAMP:20260422T183928
CREATED:20240604T234313Z
LAST-MODIFIED:20240604T234315Z
UID:10000457-1718703000-1718708400@www.windsorpalms-resort.com
SUMMARY:Pancake Breakfast
DESCRIPTION:Start your day off right by savoring the aroma of freshly flipped pancakes\, golden and light\, served hot. Sausages\, home fries\, and drinks are also availabe to enjoy with your breakfast. \n\n\n\n$12 | 2 Pancakes\, 2 sausages\, home fries\, and drink$7 | 3 Pancakes and drink$6 | Kids Breakfast (1 pancake\, 1 sausage\, home fries\, and drink)$3 | Single Pancake
URL:https://www.windsorpalms-resort.com/event/pancake-breakfast-43/
LOCATION:Tiki Bar
ATTACH;FMTTYPE=image/jpeg:https://www.windsorpalms-resort.com/wp-content/uploads/2023/11/pancake.jpg
END:VEVENT
BEGIN:VEVENT
DTSTART;TZID=America/New_York:20240616T190000
DTEND;TZID=America/New_York:20240616T220000
DTSTAMP:20260422T183928
CREATED:20240604T235341Z
LAST-MODIFIED:20240616T144538Z
UID:10000465-1718564400-1718575200@www.windsorpalms-resort.com
SUMMARY:Bucket Golf Glow Golf
DESCRIPTION:Play a 9 hole bucket golf course perfect for all ages and skill levels\, from a scratch golfer to someone who has never played before\, from kids to adults. Come see how low you can score! The rental includes a club and ball. \n\n\n\n \n\n\n\nFather’s Day – Dad Plays Free
URL:https://www.windsorpalms-resort.com/event/bucket-golf-13/
LOCATION:Clubhouse Lawn
ATTACH;FMTTYPE=image/png:https://www.windsorpalms-resort.com/wp-content/uploads/2024/06/glow-golf-1.png
END:VEVENT
BEGIN:VEVENT
DTSTART;TZID=America/New_York:20240615T100000
DTEND;TZID=America/New_York:20240615T200000
DTSTAMP:20260422T183928
CREATED:20240604T235204Z
LAST-MODIFIED:20240604T235812Z
UID:10000463-1718445600-1718481600@www.windsorpalms-resort.com
SUMMARY:Bucket Golf
DESCRIPTION:Play a 9 hole bucket golf course perfect for all ages and skill levels\, from a scratch golfer to someone who has never played before\, from kids to adults. Come see how low you can score! The rental includes a club and ball. \n\n\n\nFather’s Day Weekend – Dad Plays Free
URL:https://www.windsorpalms-resort.com/event/bucket-golf-11/
LOCATION:Clubhouse Lawn
ATTACH;FMTTYPE=image/png:https://www.windsorpalms-resort.com/wp-content/uploads/2024/04/bucket.png
END:VEVENT
END:VCALENDAR