BEGIN:VCALENDAR
VERSION:2.0
PRODID:-//Windsor Palms Resort - ECPv6.15.13.1//NONSGML v1.0//EN
CALSCALE:GREGORIAN
METHOD:PUBLISH
X-WR-CALNAME:Windsor Palms Resort
X-ORIGINAL-URL:https://www.windsorpalms-resort.com
X-WR-CALDESC:Events for Windsor Palms Resort
REFRESH-INTERVAL;VALUE=DURATION:PT1H
X-Robots-Tag:noindex
X-PUBLISHED-TTL:PT1H
BEGIN:VTIMEZONE
TZID:America/New_York
BEGIN:DAYLIGHT
TZOFFSETFROM:-0500
TZOFFSETTO:-0400
TZNAME:EDT
DTSTART:20230312T070000
END:DAYLIGHT
BEGIN:STANDARD
TZOFFSETFROM:-0400
TZOFFSETTO:-0500
TZNAME:EST
DTSTART:20231105T060000
END:STANDARD
BEGIN:DAYLIGHT
TZOFFSETFROM:-0500
TZOFFSETTO:-0400
TZNAME:EDT
DTSTART:20240310T070000
END:DAYLIGHT
BEGIN:STANDARD
TZOFFSETFROM:-0400
TZOFFSETTO:-0500
TZNAME:EST
DTSTART:20241103T060000
END:STANDARD
BEGIN:DAYLIGHT
TZOFFSETFROM:-0500
TZOFFSETTO:-0400
TZNAME:EDT
DTSTART:20250309T070000
END:DAYLIGHT
BEGIN:STANDARD
TZOFFSETFROM:-0400
TZOFFSETTO:-0500
TZNAME:EST
DTSTART:20251102T060000
END:STANDARD
END:VTIMEZONE
BEGIN:VEVENT
DTSTART;TZID=America/New_York:20240618T190000
DTEND;TZID=America/New_York:20240618T210000
DTSTAMP:20260423T021356
CREATED:20240605T060449Z
LAST-MODIFIED:20240605T060451Z
UID:10000474-1718737200-1718744400@www.windsorpalms-resort.com
SUMMARY:Movie Night
DESCRIPTION:The Incredibles
URL:https://www.windsorpalms-resort.com/event/movie-night-46/
LOCATION:Clubhouse Theater
ATTACH;FMTTYPE=image/webp:https://www.windsorpalms-resort.com/wp-content/uploads/2024/06/incredibles.webp
END:VEVENT
BEGIN:VEVENT
DTSTART;TZID=America/New_York:20240618T093000
DTEND;TZID=America/New_York:20240618T110000
DTSTAMP:20260423T021356
CREATED:20240604T234313Z
LAST-MODIFIED:20240604T234315Z
UID:10000457-1718703000-1718708400@www.windsorpalms-resort.com
SUMMARY:Pancake Breakfast
DESCRIPTION:Start your day off right by savoring the aroma of freshly flipped pancakes\, golden and light\, served hot. Sausages\, home fries\, and drinks are also availabe to enjoy with your breakfast. \n\n\n\n$12 | 2 Pancakes\, 2 sausages\, home fries\, and drink$7 | 3 Pancakes and drink$6 | Kids Breakfast (1 pancake\, 1 sausage\, home fries\, and drink)$3 | Single Pancake
URL:https://www.windsorpalms-resort.com/event/pancake-breakfast-43/
LOCATION:Tiki Bar
ATTACH;FMTTYPE=image/jpeg:https://www.windsorpalms-resort.com/wp-content/uploads/2023/11/pancake.jpg
END:VEVENT
BEGIN:VEVENT
DTSTART;TZID=America/New_York:20240616T190000
DTEND;TZID=America/New_York:20240616T220000
DTSTAMP:20260423T021356
CREATED:20240604T235341Z
LAST-MODIFIED:20240616T144538Z
UID:10000465-1718564400-1718575200@www.windsorpalms-resort.com
SUMMARY:Bucket Golf Glow Golf
DESCRIPTION:Play a 9 hole bucket golf course perfect for all ages and skill levels\, from a scratch golfer to someone who has never played before\, from kids to adults. Come see how low you can score! The rental includes a club and ball. \n\n\n\n \n\n\n\nFather’s Day – Dad Plays Free
URL:https://www.windsorpalms-resort.com/event/bucket-golf-13/
LOCATION:Clubhouse Lawn
ATTACH;FMTTYPE=image/png:https://www.windsorpalms-resort.com/wp-content/uploads/2024/06/glow-golf-1.png
END:VEVENT
BEGIN:VEVENT
DTSTART;TZID=America/New_York:20240615T100000
DTEND;TZID=America/New_York:20240615T200000
DTSTAMP:20260423T021356
CREATED:20240604T235204Z
LAST-MODIFIED:20240604T235812Z
UID:10000463-1718445600-1718481600@www.windsorpalms-resort.com
SUMMARY:Bucket Golf
DESCRIPTION:Play a 9 hole bucket golf course perfect for all ages and skill levels\, from a scratch golfer to someone who has never played before\, from kids to adults. Come see how low you can score! The rental includes a club and ball. \n\n\n\nFather’s Day Weekend – Dad Plays Free
URL:https://www.windsorpalms-resort.com/event/bucket-golf-11/
LOCATION:Clubhouse Lawn
ATTACH;FMTTYPE=image/png:https://www.windsorpalms-resort.com/wp-content/uploads/2024/04/bucket.png
END:VEVENT
BEGIN:VEVENT
DTSTART;TZID=America/New_York:20240614T203000
DTEND;TZID=America/New_York:20240614T213000
DTSTAMP:20260423T021356
CREATED:20240605T201312Z
LAST-MODIFIED:20240605T201419Z
UID:10000467-1718397000-1718400600@www.windsorpalms-resort.com
SUMMARY:Trivia Night
DESCRIPTION:Gather your brainiac buddies and join us for an electrifying Trivia Night! Put your wits to the test as you tackle a variety of challenging questions spanning pop culture\, history\, sports\, and more. It’s the ultimate showdown of intellect and fun. Whether you’re a trivia novice or a seasoned pro\, everyone’s welcome to join in the excitement
URL:https://www.windsorpalms-resort.com/event/trivia-night-4/
LOCATION:Clubhouse Pool
ATTACH;FMTTYPE=image/png:https://www.windsorpalms-resort.com/wp-content/uploads/2024/02/trivia.png
END:VEVENT
BEGIN:VEVENT
DTSTART;TZID=America/New_York:20240613T093000
DTEND;TZID=America/New_York:20240613T110000
DTSTAMP:20260423T021356
CREATED:20240604T234102Z
LAST-MODIFIED:20240604T234104Z
UID:10000453-1718271000-1718276400@www.windsorpalms-resort.com
SUMMARY:Pancake Breakfast
DESCRIPTION:Start your day off right by savoring the aroma of freshly flipped pancakes\, golden and light\, served hot. Sausages\, home fries\, and drinks are also availabe to enjoy with your breakfast. \n\n\n\n$12 | 2 Pancakes\, 2 sausages\, home fries\, and drink$7 | 3 Pancakes and drink$6 | Kids Breakfast (1 pancake\, 1 sausage\, home fries\, and drink)$3 | Single Pancake
URL:https://www.windsorpalms-resort.com/event/pancake-breakfast-39/
LOCATION:Tiki Bar
ATTACH;FMTTYPE=image/jpeg:https://www.windsorpalms-resort.com/wp-content/uploads/2023/11/pancake.jpg
END:VEVENT
BEGIN:VEVENT
DTSTART;TZID=America/New_York:20240612T150000
DTEND;TZID=America/New_York:20240612T170000
DTSTAMP:20260423T021356
CREATED:20240604T231600Z
LAST-MODIFIED:20240604T231602Z
UID:10000448-1718204400-1718211600@www.windsorpalms-resort.com
SUMMARY:Pool Party
DESCRIPTION:Dive into the night with Tiki Bar specials\, $2 off flavored ice\, and poolside games such as cornhole and Jumbo Connect 4.
URL:https://www.windsorpalms-resort.com/event/pool-party-13/
LOCATION:Clubhouse Pool
ATTACH;FMTTYPE=image/png:https://www.windsorpalms-resort.com/wp-content/uploads/2023/08/poolside-activities.png
END:VEVENT
BEGIN:VEVENT
DTSTART;TZID=America/New_York:20240611T190000
DTEND;TZID=America/New_York:20240611T210000
DTSTAMP:20260423T021356
CREATED:20240605T060136Z
LAST-MODIFIED:20240605T060212Z
UID:10000473-1718132400-1718139600@www.windsorpalms-resort.com
SUMMARY:Movie Night
DESCRIPTION:The Lion King (2019)
URL:https://www.windsorpalms-resort.com/event/movie-night-45/
LOCATION:Clubhouse Theater
ATTACH;FMTTYPE=image/jpeg:https://www.windsorpalms-resort.com/wp-content/uploads/2024/06/lion-king.jpeg
END:VEVENT
BEGIN:VEVENT
DTSTART;TZID=America/New_York:20240611T093000
DTEND;TZID=America/New_York:20240611T110000
DTSTAMP:20260423T021356
CREATED:20240604T234253Z
LAST-MODIFIED:20240604T234255Z
UID:10000456-1718098200-1718103600@www.windsorpalms-resort.com
SUMMARY:Pancake Breakfast
DESCRIPTION:Start your day off right by savoring the aroma of freshly flipped pancakes\, golden and light\, served hot. Sausages\, home fries\, and drinks are also availabe to enjoy with your breakfast. \n\n\n\n$12 | 2 Pancakes\, 2 sausages\, home fries\, and drink$7 | 3 Pancakes and drink$6 | Kids Breakfast (1 pancake\, 1 sausage\, home fries\, and drink)$3 | Single Pancake
URL:https://www.windsorpalms-resort.com/event/pancake-breakfast-42/
LOCATION:Tiki Bar
ATTACH;FMTTYPE=image/jpeg:https://www.windsorpalms-resort.com/wp-content/uploads/2023/11/pancake.jpg
END:VEVENT
BEGIN:VEVENT
DTSTART;TZID=America/New_York:20240609T100000
DTEND;TZID=America/New_York:20240609T200000
DTSTAMP:20260423T021356
CREATED:20240604T235009Z
LAST-MODIFIED:20240604T235010Z
UID:10000461-1717927200-1717963200@www.windsorpalms-resort.com
SUMMARY:Bucket Golf
DESCRIPTION:Play a 9 hole bucket golf course perfect for all ages and skill levels\, from a scratch golfer to someone who has never played before\, from kids to adults. Come see how low you can score! The rental includes a club and ball.
URL:https://www.windsorpalms-resort.com/event/bucket-golf-10/
LOCATION:Clubhouse Lawn
ATTACH;FMTTYPE=image/png:https://www.windsorpalms-resort.com/wp-content/uploads/2024/04/bucket.png
END:VEVENT
BEGIN:VEVENT
DTSTART;TZID=America/New_York:20240608T100000
DTEND;TZID=America/New_York:20240608T200000
DTSTAMP:20260423T021356
CREATED:20240604T234922Z
LAST-MODIFIED:20240604T234932Z
UID:10000460-1717840800-1717876800@www.windsorpalms-resort.com
SUMMARY:Bucket Golf
DESCRIPTION:Play a 9 hole bucket golf course perfect for all ages and skill levels\, from a scratch golfer to someone who has never played before\, from kids to adults. Come see how low you can score! The rental includes a club and ball.
URL:https://www.windsorpalms-resort.com/event/bucket-golf-9/
LOCATION:Clubhouse Lawn
ATTACH;FMTTYPE=image/png:https://www.windsorpalms-resort.com/wp-content/uploads/2024/04/bucket.png
END:VEVENT
BEGIN:VEVENT
DTSTART;TZID=America/New_York:20240607T190000
DTEND;TZID=America/New_York:20240607T210000
DTSTAMP:20260423T021356
CREATED:20240605T055817Z
LAST-MODIFIED:20240605T055842Z
UID:10000472-1717786800-1717794000@www.windsorpalms-resort.com
SUMMARY:Movie Night
DESCRIPTION:Lilo & Stitch
URL:https://www.windsorpalms-resort.com/event/movie-night-44/
LOCATION:Clubhouse Theater
ATTACH;FMTTYPE=image/jpeg:https://www.windsorpalms-resort.com/wp-content/uploads/2023/08/lilo-stitch.jpg
END:VEVENT
BEGIN:VEVENT
DTSTART;TZID=America/New_York:20240606T093000
DTEND;TZID=America/New_York:20240606T110000
DTSTAMP:20260423T021356
CREATED:20240604T234037Z
LAST-MODIFIED:20240604T234039Z
UID:10000452-1717666200-1717671600@www.windsorpalms-resort.com
SUMMARY:Pancake Breakfast
DESCRIPTION:Start your day off right by savoring the aroma of freshly flipped pancakes\, golden and light\, served hot. Sausages\, home fries\, and drinks are also availabe to enjoy with your breakfast. \n\n\n\n$12 | 2 Pancakes\, 2 sausages\, home fries\, and drink$7 | 3 Pancakes and drink$6 | Kids Breakfast (1 pancake\, 1 sausage\, home fries\, and drink)$3 | Single Pancake
URL:https://www.windsorpalms-resort.com/event/pancake-breakfast-38/
LOCATION:Tiki Bar
ATTACH;FMTTYPE=image/jpeg:https://www.windsorpalms-resort.com/wp-content/uploads/2023/11/pancake.jpg
END:VEVENT
BEGIN:VEVENT
DTSTART;TZID=America/New_York:20240605T150000
DTEND;TZID=America/New_York:20240605T170000
DTSTAMP:20260423T021356
CREATED:20240604T231544Z
LAST-MODIFIED:20240604T231546Z
UID:10000447-1717599600-1717606800@www.windsorpalms-resort.com
SUMMARY:Pool Party
DESCRIPTION:Dive into the night with Tiki Bar specials\, $2 off flavored ice\, and poolside games such as cornhole and Jumbo Connect 4.
URL:https://www.windsorpalms-resort.com/event/pool-party-12/
LOCATION:Clubhouse Pool
ATTACH;FMTTYPE=image/png:https://www.windsorpalms-resort.com/wp-content/uploads/2023/08/poolside-activities.png
END:VEVENT
BEGIN:VEVENT
DTSTART;TZID=America/New_York:20240530T093000
DTEND;TZID=America/New_York:20240530T110000
DTSTAMP:20260423T021356
CREATED:20240503T011610Z
LAST-MODIFIED:20240508T145332Z
UID:10000423-1717061400-1717066800@www.windsorpalms-resort.com
SUMMARY:Pancake Breakfast
DESCRIPTION:Start your day off right by savoring the aroma of freshly flipped pancakes\, golden and light\, served hot. Sausages\, home fries\, and drinks are also availabe to enjoy with your breakfast. \n\n\n\n$12 | 2 Pancakes\, 2 sausages\, home fries\, and drink$7 | 3 Pancakes and drink$6 | Kids Breakfast (1 pancake\, 1 sausage\, home fries\, and drink)$3 | Single Pancake
URL:https://www.windsorpalms-resort.com/event/pancake-breakfast-33/
LOCATION:Tiki Bar
ATTACH;FMTTYPE=image/jpeg:https://www.windsorpalms-resort.com/wp-content/uploads/2023/11/pancake.jpg
END:VEVENT
BEGIN:VEVENT
DTSTART;TZID=America/New_York:20240529T150000
DTEND;TZID=America/New_York:20240529T170000
DTSTAMP:20260423T021356
CREATED:20240503T011330Z
LAST-MODIFIED:20240503T011332Z
UID:10000418-1716994800-1717002000@www.windsorpalms-resort.com
SUMMARY:Pool Party
DESCRIPTION:Dive into the night with Tiki Bar specials\, $2 off flavored ice\, and poolside games such as cornhole and Jumbo Connect 4.
URL:https://www.windsorpalms-resort.com/event/pool-party-11/
LOCATION:Clubhouse Pool
ATTACH;FMTTYPE=image/png:https://www.windsorpalms-resort.com/wp-content/uploads/2023/08/poolside-activities.png
END:VEVENT
BEGIN:VEVENT
DTSTART;TZID=America/New_York:20240528T190000
DTEND;TZID=America/New_York:20240528T210000
DTSTAMP:20260423T021356
CREATED:20240503T022933Z
LAST-MODIFIED:20240503T022934Z
UID:10000443-1716922800-1716930000@www.windsorpalms-resort.com
SUMMARY:Movie Night
DESCRIPTION:Descendants
URL:https://www.windsorpalms-resort.com/event/movie-night-43/
LOCATION:Clubhouse Theater
ATTACH;FMTTYPE=image/png:https://www.windsorpalms-resort.com/wp-content/uploads/2024/05/descendants.png
END:VEVENT
BEGIN:VEVENT
DTSTART;TZID=America/New_York:20240528T093000
DTEND;TZID=America/New_York:20240528T110000
DTSTAMP:20260423T021356
CREATED:20240503T014039Z
LAST-MODIFIED:20240508T150218Z
UID:10000438-1716888600-1716894000@www.windsorpalms-resort.com
SUMMARY:Pancake Breakfast
DESCRIPTION:Start your day off right by savoring the aroma of freshly flipped pancakes\, golden and light\, served hot. Sausages\, home fries\, and drinks are also availabe to enjoy with your breakfast. \n\n\n\n$12 | 2 Pancakes\, 2 sausages\, home fries\, and drink$7 | 3 Pancakes and drink$6 | Kids Breakfast (1 pancake\, 1 sausage\, home fries\, and drink)$3 | Single Pancake
URL:https://www.windsorpalms-resort.com/event/pancake-breakfast-37/
LOCATION:Tiki Bar
ATTACH;FMTTYPE=image/jpeg:https://www.windsorpalms-resort.com/wp-content/uploads/2023/11/pancake.jpg
END:VEVENT
BEGIN:VEVENT
DTSTART;TZID=America/New_York:20240526T120000
DTEND;TZID=America/New_York:20240526T140000
DTSTAMP:20260423T021356
CREATED:20240503T012716Z
LAST-MODIFIED:20240503T012716Z
UID:10000434-1716724800-1716732000@www.windsorpalms-resort.com
SUMMARY:Kite Flying
DESCRIPTION:Join us for some high-flying fun as you take to the skies with colorful kites available for you to use!
URL:https://www.windsorpalms-resort.com/event/kite-flying-2/
LOCATION:Clubhouse Lawn
ATTACH;FMTTYPE=image/png:https://www.windsorpalms-resort.com/wp-content/uploads/2024/04/kite-1.png
END:VEVENT
BEGIN:VEVENT
DTSTART;TZID=America/New_York:20240524T203000
DTEND;TZID=America/New_York:20240524T220000
DTSTAMP:20260423T021356
CREATED:20240503T023138Z
LAST-MODIFIED:20240503T023213Z
UID:10000444-1716582600-1716588000@www.windsorpalms-resort.com
SUMMARY:Pool Movie Night
DESCRIPTION:Brave \n\n\n\n\n\n\n\nThis movie is free to watch\, a limited amount of glow chairs\, floats\, and tubes are available for rent.
URL:https://www.windsorpalms-resort.com/event/pool-movie-night-27/
LOCATION:Clubhouse Pool
ATTACH;FMTTYPE=image/png:https://www.windsorpalms-resort.com/wp-content/uploads/2024/05/brave.png
END:VEVENT
BEGIN:VEVENT
DTSTART;TZID=America/New_York:20240524T190000
DTEND;TZID=America/New_York:20240524T220000
DTSTAMP:20260423T021356
CREATED:20240503T011939Z
LAST-MODIFIED:20240503T011940Z
UID:10000427-1716577200-1716588000@www.windsorpalms-resort.com
SUMMARY:Owner's Night
DESCRIPTION:Join us for a laid-back and vibrant evening at our “Owner’s Night” Tiki Happy Hour – a gathering designed exclusively for our valued property owners. Sip on event exclusive cocktails\, enjoy hors d’oeuvres\, event exclusive menu pricing\, and connect with fellow owners in a relaxed and picturesque setting. \n\n\n\n\n\n\n\nThis is a closed event for Windsor Palms property owners and immediate family only. ID required for entry.
URL:https://www.windsorpalms-resort.com/event/owners-night-8/
LOCATION:Tiki Bar
ATTACH;FMTTYPE=image/jpeg:https://www.windsorpalms-resort.com/wp-content/uploads/2023/08/tiki-bar.jpg
END:VEVENT
BEGIN:VEVENT
DTSTART;TZID=America/New_York:20240523T093000
DTEND;TZID=America/New_York:20240523T110000
DTSTAMP:20260423T021356
CREATED:20240503T011553Z
LAST-MODIFIED:20240508T150121Z
UID:10000422-1716456600-1716462000@www.windsorpalms-resort.com
SUMMARY:Pancake Breakfast
DESCRIPTION:Start your day off right by savoring the aroma of freshly flipped pancakes\, golden and light\, served hot. Sausages\, home fries\, and drinks are also availabe to enjoy with your breakfast. \n\n\n\n$12 | 2 Pancakes\, 2 sausages\, home fries\, and drink$7 | 3 Pancakes and drink$6 | Kids Breakfast (1 pancake\, 1 sausage\, home fries\, and drink)$3 | Single Pancake
URL:https://www.windsorpalms-resort.com/event/pancake-breakfast-32/
LOCATION:Tiki Bar
ATTACH;FMTTYPE=image/jpeg:https://www.windsorpalms-resort.com/wp-content/uploads/2023/11/pancake.jpg
END:VEVENT
BEGIN:VEVENT
DTSTART;TZID=America/New_York:20240522T150000
DTEND;TZID=America/New_York:20240522T170000
DTSTAMP:20260423T021356
CREATED:20240503T011318Z
LAST-MODIFIED:20240503T011319Z
UID:10000417-1716390000-1716397200@www.windsorpalms-resort.com
SUMMARY:Pool Party
DESCRIPTION:Dive into the night with Tiki Bar specials\, $2 off flavored ice\, and poolside games such as cornhole and Jumbo Connect 4.
URL:https://www.windsorpalms-resort.com/event/pool-party-10/
LOCATION:Clubhouse Pool
ATTACH;FMTTYPE=image/png:https://www.windsorpalms-resort.com/wp-content/uploads/2023/08/poolside-activities.png
END:VEVENT
BEGIN:VEVENT
DTSTART;TZID=America/New_York:20240521T190000
DTEND;TZID=America/New_York:20240521T210000
DTSTAMP:20260423T021356
CREATED:20240503T022821Z
LAST-MODIFIED:20240503T022822Z
UID:10000442-1716318000-1716325200@www.windsorpalms-resort.com
SUMMARY:Movie Night
DESCRIPTION:Book of Life
URL:https://www.windsorpalms-resort.com/event/movie-night-42/
LOCATION:Clubhouse Theater
ATTACH;FMTTYPE=image/png:https://www.windsorpalms-resort.com/wp-content/uploads/2024/05/book-of-life.png
END:VEVENT
BEGIN:VEVENT
DTSTART;TZID=America/New_York:20240521T093000
DTEND;TZID=America/New_York:20240521T110000
DTSTAMP:20260423T021356
CREATED:20240503T014015Z
LAST-MODIFIED:20240508T145200Z
UID:10000437-1716283800-1716289200@www.windsorpalms-resort.com
SUMMARY:Pancake Breakfast
DESCRIPTION:Start your day off right by savoring the aroma of freshly flipped pancakes\, golden and light\, served hot. Sausages\, home fries\, and drinks are also availabe to enjoy with your breakfast. \n\n\n\n$12 | 2 Pancakes\, 2 sausages\, home fries\, and drink$7 | 3 Pancakes and drink$6 | Kids Breakfast (1 pancake\, 1 sausage\, home fries\, and drink)$3 | Single Pancake
URL:https://www.windsorpalms-resort.com/event/pancake-breakfast-36/
LOCATION:Tiki Bar
ATTACH;FMTTYPE=image/jpeg:https://www.windsorpalms-resort.com/wp-content/uploads/2023/11/pancake.jpg
END:VEVENT
BEGIN:VEVENT
DTSTART;TZID=America/New_York:20240518T190000
DTEND;TZID=America/New_York:20240518T210000
DTSTAMP:20260423T021356
CREATED:20240503T012545Z
LAST-MODIFIED:20240503T012547Z
UID:10000432-1716058800-1716066000@www.windsorpalms-resort.com
SUMMARY:Karaoke Night
DESCRIPTION:Get ready to unleash your inner rockstar at our electrifying karaoke night! Grab the mic\, pick your favorite tunes\, and belt out your signature hits in front of an enthusiastic crowd. Whether you’re a seasoned crooner or a first-time performer\, it’s your time to shine!
URL:https://www.windsorpalms-resort.com/event/karaoke-night-2/
LOCATION:Clubhouse Pool
ATTACH;FMTTYPE=image/png:https://www.windsorpalms-resort.com/wp-content/uploads/2024/04/karaoke.png
END:VEVENT
BEGIN:VEVENT
DTSTART;TZID=America/New_York:20240518T100000
DTEND;TZID=America/New_York:20240518T193000
DTSTAMP:20260423T021356
CREATED:20240503T012315Z
LAST-MODIFIED:20240503T012316Z
UID:10000430-1716026400-1716060600@www.windsorpalms-resort.com
SUMMARY:Bucket Golf
DESCRIPTION:Play a 9 hole bucket golf course perfect for all ages and skill levels\, from a scratch golfer to someone who has never played before\, from kids to adults. Come see how low you can score! The rental includes a club and ball.
URL:https://www.windsorpalms-resort.com/event/bucket-golf-8/
LOCATION:Clubhouse Lawn
ATTACH;FMTTYPE=image/png:https://www.windsorpalms-resort.com/wp-content/uploads/2024/04/bucket.png
END:VEVENT
BEGIN:VEVENT
DTSTART;TZID=America/New_York:20240516T093000
DTEND;TZID=America/New_York:20240516T110000
DTSTAMP:20260423T021356
CREATED:20240503T011524Z
LAST-MODIFIED:20240508T150046Z
UID:10000421-1715851800-1715857200@www.windsorpalms-resort.com
SUMMARY:Pancake Breakfast
DESCRIPTION:Start your day off right by savoring the aroma of freshly flipped pancakes\, golden and light\, served hot. Sausages\, home fries\, and drinks are also availabe to enjoy with your breakfast. \n\n\n\n$12 | 2 Pancakes\, 2 sausages\, home fries\, and drink$7 | 3 Pancakes and drink$6 | Kids Breakfast (1 pancake\, 1 sausage\, home fries\, and drink)$3 | Single Pancake
URL:https://www.windsorpalms-resort.com/event/pancake-breakfast-31/
LOCATION:Tiki Bar
ATTACH;FMTTYPE=image/jpeg:https://www.windsorpalms-resort.com/wp-content/uploads/2023/11/pancake.jpg
END:VEVENT
BEGIN:VEVENT
DTSTART;TZID=America/New_York:20240515T180000
DTEND;TZID=America/New_York:20240515T190000
DTSTAMP:20260423T021356
CREATED:20240508T143257Z
LAST-MODIFIED:20240508T143258Z
UID:10000445-1715796000-1715799600@www.windsorpalms-resort.com
SUMMARY:Cosmic Characters
DESCRIPTION:Build your own customized cosmic character with provided craft materials.
URL:https://www.windsorpalms-resort.com/event/cosmic-characters/
LOCATION:Clubhouse Lobby
ATTACH;FMTTYPE=image/png:https://www.windsorpalms-resort.com/wp-content/uploads/2024/04/cosm.png
END:VEVENT
BEGIN:VEVENT
DTSTART;TZID=America/New_York:20240515T150000
DTEND;TZID=America/New_York:20240515T170000
DTSTAMP:20260423T021356
CREATED:20240503T011304Z
LAST-MODIFIED:20240503T011305Z
UID:10000416-1715785200-1715792400@www.windsorpalms-resort.com
SUMMARY:Pool Party
DESCRIPTION:Dive into the night with Tiki Bar specials\, $2 off flavored ice\, and poolside games such as cornhole and Jumbo Connect 4.
URL:https://www.windsorpalms-resort.com/event/pool-party-9/
LOCATION:Clubhouse Pool
ATTACH;FMTTYPE=image/png:https://www.windsorpalms-resort.com/wp-content/uploads/2023/08/poolside-activities.png
END:VEVENT
END:VCALENDAR