BEGIN:VCALENDAR
VERSION:2.0
PRODID:-//Windsor Palms Resort - ECPv6.15.13.1//NONSGML v1.0//EN
CALSCALE:GREGORIAN
METHOD:PUBLISH
X-WR-CALNAME:Windsor Palms Resort
X-ORIGINAL-URL:https://www.windsorpalms-resort.com
X-WR-CALDESC:Events for Windsor Palms Resort
REFRESH-INTERVAL;VALUE=DURATION:PT1H
X-Robots-Tag:noindex
X-PUBLISHED-TTL:PT1H
BEGIN:VTIMEZONE
TZID:America/New_York
BEGIN:DAYLIGHT
TZOFFSETFROM:-0500
TZOFFSETTO:-0400
TZNAME:EDT
DTSTART:20230312T070000
END:DAYLIGHT
BEGIN:STANDARD
TZOFFSETFROM:-0400
TZOFFSETTO:-0500
TZNAME:EST
DTSTART:20231105T060000
END:STANDARD
BEGIN:DAYLIGHT
TZOFFSETFROM:-0500
TZOFFSETTO:-0400
TZNAME:EDT
DTSTART:20240310T070000
END:DAYLIGHT
BEGIN:STANDARD
TZOFFSETFROM:-0400
TZOFFSETTO:-0500
TZNAME:EST
DTSTART:20241103T060000
END:STANDARD
BEGIN:DAYLIGHT
TZOFFSETFROM:-0500
TZOFFSETTO:-0400
TZNAME:EDT
DTSTART:20250309T070000
END:DAYLIGHT
BEGIN:STANDARD
TZOFFSETFROM:-0400
TZOFFSETTO:-0500
TZNAME:EST
DTSTART:20251102T060000
END:STANDARD
END:VTIMEZONE
BEGIN:VEVENT
DTSTART;TZID=America/New_York:20240510T203000
DTEND;TZID=America/New_York:20240510T213000
DTSTAMP:20260423T021439
CREATED:20240503T011836Z
LAST-MODIFIED:20240503T011837Z
UID:10000426-1715373000-1715376600@www.windsorpalms-resort.com
SUMMARY:Trivia Night
DESCRIPTION:Gather your brainiac buddies and join us for an electrifying Trivia Night! Put your wits to the test as you tackle a variety of challenging questions spanning pop culture\, history\, sports\, and more. It’s the ultimate showdown of intellect and fun. Whether you’re a trivia novice or a seasoned pro\, everyone’s welcome to join in the excitement
URL:https://www.windsorpalms-resort.com/event/trivia-night-3/
LOCATION:Clubhouse Pool
ATTACH;FMTTYPE=image/png:https://www.windsorpalms-resort.com/wp-content/uploads/2024/02/trivia.png
END:VEVENT
BEGIN:VEVENT
DTSTART;TZID=America/New_York:20240509T110000
DTEND;TZID=America/New_York:20240509T120000
DTSTAMP:20260423T021439
CREATED:20240503T011650Z
LAST-MODIFIED:20240503T011650Z
UID:10000424-1715252400-1715256000@www.windsorpalms-resort.com
SUMMARY:Aqua Fit Class
DESCRIPTION:Get your day started right with an Aqua Fit Class led by a certified personal trainer open to all ages and fitness levels. Swimming is not required to participate.
URL:https://www.windsorpalms-resort.com/event/aqua-fit-class-4/
LOCATION:Clubhouse Pool
ATTACH;FMTTYPE=image/png:https://www.windsorpalms-resort.com/wp-content/uploads/2024/02/aquafit.png
END:VEVENT
BEGIN:VEVENT
DTSTART;TZID=America/New_York:20240509T093000
DTEND;TZID=America/New_York:20240509T110000
DTSTAMP:20260423T021439
CREATED:20240503T011510Z
LAST-MODIFIED:20240508T150001Z
UID:10000420-1715247000-1715252400@www.windsorpalms-resort.com
SUMMARY:Pancake Breakfast
DESCRIPTION:Start your day off right by savoring the aroma of freshly flipped pancakes\, golden and light\, served hot. Sausages\, home fries\, and drinks are also availabe to enjoy with your breakfast. \n\n\n\n$12 | 2 Pancakes\, 2 sausages\, home fries\, and drink$7 | 3 Pancakes and drink$6 | Kids Breakfast (1 pancake\, 1 sausage\, home fries\, and drink)$3 | Single Pancake
URL:https://www.windsorpalms-resort.com/event/pancake-breakfast-30/
LOCATION:Tiki Bar
ATTACH;FMTTYPE=image/jpeg:https://www.windsorpalms-resort.com/wp-content/uploads/2023/11/pancake.jpg
END:VEVENT
BEGIN:VEVENT
DTSTART;TZID=America/New_York:20240508T150000
DTEND;TZID=America/New_York:20240508T170000
DTSTAMP:20260423T021439
CREATED:20240503T011247Z
LAST-MODIFIED:20240503T011248Z
UID:10000415-1715180400-1715187600@www.windsorpalms-resort.com
SUMMARY:Pool Party
DESCRIPTION:Dive into the night with Tiki Bar specials\, $2 off flavored ice\, and poolside games such as cornhole and Jumbo Connect 4.
URL:https://www.windsorpalms-resort.com/event/pool-party-8/
LOCATION:Clubhouse Pool
ATTACH;FMTTYPE=image/png:https://www.windsorpalms-resort.com/wp-content/uploads/2023/08/poolside-activities.png
END:VEVENT
BEGIN:VEVENT
DTSTART;TZID=America/New_York:20240507T190000
DTEND;TZID=America/New_York:20240507T210000
DTSTAMP:20260423T021439
CREATED:20240503T022527Z
LAST-MODIFIED:20240503T022528Z
UID:10000440-1715108400-1715115600@www.windsorpalms-resort.com
SUMMARY:Movie Night
DESCRIPTION:Coco
URL:https://www.windsorpalms-resort.com/event/movie-night-40/
LOCATION:Clubhouse Theater
ATTACH;FMTTYPE=image/png:https://www.windsorpalms-resort.com/wp-content/uploads/2024/05/coco.png
END:VEVENT
BEGIN:VEVENT
DTSTART;TZID=America/New_York:20240507T093000
DTEND;TZID=America/New_York:20240507T110000
DTSTAMP:20260423T021439
CREATED:20240503T013858Z
LAST-MODIFIED:20240508T145258Z
UID:10000435-1715074200-1715079600@www.windsorpalms-resort.com
SUMMARY:Pancake Breakfast
DESCRIPTION:Start your day off right by savoring the aroma of freshly flipped pancakes\, golden and light\, served hot. Sausages\, home fries\, and drinks are also availabe to enjoy with your breakfast. \n\n\n\n$12 | 2 Pancakes\, 2 sausages\, home fries\, and drink$7 | 3 Pancakes and drink$6 | Kids Breakfast (1 pancake\, 1 sausage\, home fries\, and drink)$3 | Single Pancake
URL:https://www.windsorpalms-resort.com/event/pancake-breakfast-34/
LOCATION:Tiki Bar
ATTACH;FMTTYPE=image/jpeg:https://www.windsorpalms-resort.com/wp-content/uploads/2023/11/pancake.jpg
END:VEVENT
BEGIN:VEVENT
DTSTART;TZID=America/New_York:20240505T100000
DTEND;TZID=America/New_York:20240505T193000
DTSTAMP:20260423T021439
CREATED:20240503T012042Z
LAST-MODIFIED:20240503T012043Z
UID:10000429-1714903200-1714937400@www.windsorpalms-resort.com
SUMMARY:Bucket Golf
DESCRIPTION:Play a 9 hole bucket golf course perfect for all ages and skill levels\, from a scratch golfer to someone who has never played before\, from kids to adults. Come see how low you can score! The rental includes a club and ball.
URL:https://www.windsorpalms-resort.com/event/bucket-golf-7/
LOCATION:Clubhouse Lawn
ATTACH;FMTTYPE=image/png:https://www.windsorpalms-resort.com/wp-content/uploads/2024/04/bucket.png
END:VEVENT
BEGIN:VEVENT
DTSTART;TZID=America/New_York:20240504T100000
DTEND;TZID=America/New_York:20240504T193000
DTSTAMP:20260423T021439
CREATED:20240503T012028Z
LAST-MODIFIED:20240503T012029Z
UID:10000428-1714816800-1714851000@www.windsorpalms-resort.com
SUMMARY:Bucket Golf
DESCRIPTION:Play a 9 hole bucket golf course perfect for all ages and skill levels\, from a scratch golfer to someone who has never played before\, from kids to adults. Come see how low you can score! The rental includes a club and ball.
URL:https://www.windsorpalms-resort.com/event/bucket-golf-6/
LOCATION:Clubhouse Lawn
ATTACH;FMTTYPE=image/png:https://www.windsorpalms-resort.com/wp-content/uploads/2024/04/bucket.png
END:VEVENT
BEGIN:VEVENT
DTSTART;TZID=America/New_York:20240504T090000
DTEND;TZID=America/New_York:20240504T210000
DTSTAMP:20260423T021439
CREATED:20240503T022420Z
LAST-MODIFIED:20240503T022600Z
UID:10000439-1714813200-1714856400@www.windsorpalms-resort.com
SUMMARY:May the 4th Star Wars Movie Day
DESCRIPTION:Star Wars
URL:https://www.windsorpalms-resort.com/event/star-wars-movie-day/
LOCATION:Clubhouse Theater
ATTACH;FMTTYPE=image/png:https://www.windsorpalms-resort.com/wp-content/uploads/2024/05/star-wars.png
END:VEVENT
BEGIN:VEVENT
DTSTART;TZID=America/New_York:20240502T180000
DTEND;TZID=America/New_York:20240502T200000
DTSTAMP:20260423T021439
CREATED:20240503T011753Z
LAST-MODIFIED:20240503T011754Z
UID:10000425-1714672800-1714680000@www.windsorpalms-resort.com
SUMMARY:Bingo
DESCRIPTION:Get your daubers ready and bring your A-game as we roll the numbered balls and call out those winning combinations. You’re in for a night of fun and friendly competition. Whether you’re a seasoned pro or a first-time player\, our Bingo Night promises an entertaining blend of luck and laughter.
URL:https://www.windsorpalms-resort.com/event/bingo-11/
LOCATION:Clubhouse Lobby
ATTACH;FMTTYPE=image/png:https://www.windsorpalms-resort.com/wp-content/uploads/2024/01/bingo.png
END:VEVENT
BEGIN:VEVENT
DTSTART;TZID=America/New_York:20240502T093000
DTEND;TZID=America/New_York:20240502T110000
DTSTAMP:20260423T021439
CREATED:20240503T011453Z
LAST-MODIFIED:20240503T011454Z
UID:10000419-1714642200-1714647600@www.windsorpalms-resort.com
SUMMARY:Pancake Breakfast
DESCRIPTION:Start your day off right by savoring the aroma of freshly flipped pancakes\, golden and light\, served hot. Sausages\, home fries\, and drinks are also availabe to enjoy with your breakfast. \n\n\n\n$12 | 2 Pancakes\, 2 sausages\, home fries\, and drink$7 | 3 Pancakes and drink$6 | Kids Breakfast (1 pancake\, 1 sausage\, home fries\, and drink)$3 | Single Pancake
URL:https://www.windsorpalms-resort.com/event/pancake-breakfast-29/
LOCATION:Tiki Bar
ATTACH;FMTTYPE=image/jpeg:https://www.windsorpalms-resort.com/wp-content/uploads/2023/11/pancake.jpg
END:VEVENT
BEGIN:VEVENT
DTSTART;TZID=America/New_York:20240501T150000
DTEND;TZID=America/New_York:20240501T170000
DTSTAMP:20260423T021439
CREATED:20240503T011218Z
LAST-MODIFIED:20240503T011219Z
UID:10000414-1714575600-1714582800@www.windsorpalms-resort.com
SUMMARY:Pool Party
DESCRIPTION:Dive into the night with Tiki Bar specials\, $2 off flavored ice\, and poolside games such as cornhole and Jumbo Connect 4.
URL:https://www.windsorpalms-resort.com/event/pool-party-7/
LOCATION:Clubhouse Pool
ATTACH;FMTTYPE=image/png:https://www.windsorpalms-resort.com/wp-content/uploads/2023/08/poolside-activities.png
END:VEVENT
BEGIN:VEVENT
DTSTART;TZID=America/New_York:20240430T190000
DTEND;TZID=America/New_York:20240430T210000
DTSTAMP:20260423T021439
CREATED:20240404T011358Z
LAST-MODIFIED:20240404T011504Z
UID:10000400-1714503600-1714510800@www.windsorpalms-resort.com
SUMMARY:Movie Night
DESCRIPTION:Enchanted
URL:https://www.windsorpalms-resort.com/event/movie-night-39/
LOCATION:Clubhouse Theater
ATTACH;FMTTYPE=image/png:https://www.windsorpalms-resort.com/wp-content/uploads/2024/04/enchanted.png
END:VEVENT
BEGIN:VEVENT
DTSTART;TZID=America/New_York:20240430T093000
DTEND;TZID=America/New_York:20240430T110000
DTSTAMP:20260423T021439
CREATED:20240403T234529Z
LAST-MODIFIED:20240403T234530Z
UID:10000381-1714469400-1714474800@www.windsorpalms-resort.com
SUMMARY:Pancake Breakfast
DESCRIPTION:Start your day off right by savoring the aroma of freshly flipped pancakes\, golden and light\, served hot. Sausages\, home fries\, and drinks are also availabe to enjoy with your breakfast. \n\n\n\n$12 | 2 Pancakes\, 2 sausages\, home fries\, and drink$7 | 3 Pancakes and drink$6 | Kids Breakfast (1 pancake\, 1 sausage\, home fries\, and drink)$3 | Single Pancake
URL:https://www.windsorpalms-resort.com/event/pancake-breakfast-23/
LOCATION:Tiki Bar
ATTACH;FMTTYPE=image/jpeg:https://www.windsorpalms-resort.com/wp-content/uploads/2023/11/pancake.jpg
END:VEVENT
BEGIN:VEVENT
DTSTART;TZID=America/New_York:20240428T140000
DTEND;TZID=America/New_York:20240428T170000
DTSTAMP:20260423T021439
CREATED:20240404T001109Z
LAST-MODIFIED:20240404T001109Z
UID:10000387-1714312800-1714323600@www.windsorpalms-resort.com
SUMMARY:Board Game Day
DESCRIPTION:Get ready to roll\, strategize\, and have a blast at our Family Board Game Day! Every move counts and every decision could lead to triumph. Don’t miss this chance to bond\, connect\, and create lasting memories over some of the best board games in town.
URL:https://www.windsorpalms-resort.com/event/board-game-day-3/
LOCATION:Clubhouse Lobby
ATTACH;FMTTYPE=image/jpeg:https://www.windsorpalms-resort.com/wp-content/uploads/2023/08/board-game.jpg
END:VEVENT
BEGIN:VEVENT
DTSTART;TZID=America/New_York:20240428T100000
DTEND;TZID=America/New_York:20240428T193000
DTSTAMP:20260423T021439
CREATED:20240417T000108Z
LAST-MODIFIED:20240417T000117Z
UID:10000413-1714298400-1714332600@www.windsorpalms-resort.com
SUMMARY:Bucket Golf
DESCRIPTION:Play a 9 hole bucket golf course perfect for all ages and skill levels\, from a scratch golfer to someone who has never played before\, from kids to adults. Come see how low you can score! The rental includes a club and ball.
URL:https://www.windsorpalms-resort.com/event/bucket-golf-5/
LOCATION:Clubhouse Lawn
ATTACH;FMTTYPE=image/png:https://www.windsorpalms-resort.com/wp-content/uploads/2024/04/bucket.png
END:VEVENT
BEGIN:VEVENT
DTSTART;TZID=America/New_York:20240427T100000
DTEND;TZID=America/New_York:20240427T213000
DTSTAMP:20260423T021439
CREATED:20240415T010108Z
LAST-MODIFIED:20240415T010109Z
UID:10000412-1714212000-1714253400@www.windsorpalms-resort.com
SUMMARY:Bucket Golf
DESCRIPTION:Play a 9 hole bucket golf course perfect for all ages and skill levels\, from a scratch golfer to someone who has never played before\, from kids to adults. Come see how low you can score! The rental includes a club and ball.
URL:https://www.windsorpalms-resort.com/event/bucket-golf-4/
LOCATION:Clubhouse Lawn
ATTACH;FMTTYPE=image/png:https://www.windsorpalms-resort.com/wp-content/uploads/2024/04/bucket.png
END:VEVENT
BEGIN:VEVENT
DTSTART;TZID=America/New_York:20240426T200000
DTEND;TZID=America/New_York:20240426T220000
DTSTAMP:20260423T021439
CREATED:20240404T011917Z
LAST-MODIFIED:20240404T011919Z
UID:10000401-1714161600-1714168800@www.windsorpalms-resort.com
SUMMARY:Pool Movie Night
DESCRIPTION:Peter Pan & Wendy \n\n\n\n\n\n\n\nThis movie is free to watch\, a limited amount of glow chairs\, floats\, and tubes are available for rent.
URL:https://www.windsorpalms-resort.com/event/pool-movie-night-26/
LOCATION:Clubhouse Pool
ATTACH;FMTTYPE=image/png:https://www.windsorpalms-resort.com/wp-content/uploads/2024/04/peter-pan.png
END:VEVENT
BEGIN:VEVENT
DTSTART;TZID=America/New_York:20240426T190000
DTEND;TZID=America/New_York:20240426T220000
DTSTAMP:20260423T021439
CREATED:20240404T002748Z
LAST-MODIFIED:20240404T002749Z
UID:10000395-1714158000-1714168800@www.windsorpalms-resort.com
SUMMARY:Owner's Night
DESCRIPTION:Join us for a laid-back and vibrant evening at our “Owner’s Night” Tiki Happy Hour – a gathering designed exclusively for our valued property owners. Sip on event exclusive cocktails\, enjoy hors d’oeuvres\, event exclusive menu pricing\, and connect with fellow owners in a relaxed and picturesque setting. \n\n\n\n\n\n\n\nThis is a closed event for Windsor Palms property owners and immediate family only. ID required for entry.
URL:https://www.windsorpalms-resort.com/event/owners-night-7/
LOCATION:Tiki Bar
ATTACH;FMTTYPE=image/jpeg:https://www.windsorpalms-resort.com/wp-content/uploads/2023/08/tiki-bar.jpg
END:VEVENT
BEGIN:VEVENT
DTSTART;TZID=America/New_York:20240426T100000
DTEND;TZID=America/New_York:20240426T213000
DTSTAMP:20260423T021439
CREATED:20240415T010039Z
LAST-MODIFIED:20240415T010040Z
UID:10000411-1714125600-1714167000@www.windsorpalms-resort.com
SUMMARY:Bucket Golf
DESCRIPTION:Play a 9 hole bucket golf course perfect for all ages and skill levels\, from a scratch golfer to someone who has never played before\, from kids to adults. Come see how low you can score! The rental includes a club and ball.
URL:https://www.windsorpalms-resort.com/event/bucket-golf-3/
LOCATION:Clubhouse Lawn
ATTACH;FMTTYPE=image/png:https://www.windsorpalms-resort.com/wp-content/uploads/2024/04/bucket.png
END:VEVENT
BEGIN:VEVENT
DTSTART;TZID=America/New_York:20240425T093000
DTEND;TZID=America/New_York:20240425T110000
DTSTAMP:20260423T021439
CREATED:20240403T234734Z
LAST-MODIFIED:20240403T234735Z
UID:10000386-1714037400-1714042800@www.windsorpalms-resort.com
SUMMARY:Pancake Breakfast
DESCRIPTION:Start your day off right by savoring the aroma of freshly flipped pancakes\, golden and light\, served hot. Sausages\, home fries\, and drinks are also availabe to enjoy with your breakfast. \n\n\n\n$12 | 2 Pancakes\, 2 sausages\, home fries\, and drink$7 | 3 Pancakes and drink$6 | Kids Breakfast (1 pancake\, 1 sausage\, home fries\, and drink)$3 | Single Pancake
URL:https://www.windsorpalms-resort.com/event/pancake-breakfast-28/
LOCATION:Tiki Bar
ATTACH;FMTTYPE=image/jpeg:https://www.windsorpalms-resort.com/wp-content/uploads/2023/11/pancake.jpg
END:VEVENT
BEGIN:VEVENT
DTSTART;TZID=America/New_York:20240424T180000
DTEND;TZID=America/New_York:20240424T190000
DTSTAMP:20260423T021439
CREATED:20240404T020148Z
LAST-MODIFIED:20240404T020149Z
UID:10000405-1713981600-1713985200@www.windsorpalms-resort.com
SUMMARY:Princess Mandala 3D Paper Craft
DESCRIPTION:Using pre-cut cardstock layers\, create a 3D mandala of your favorite princess.
URL:https://www.windsorpalms-resort.com/event/princess-mandala-3d-paper-craft-2/
LOCATION:Clubhouse Lobby
ATTACH;FMTTYPE=image/png:https://www.windsorpalms-resort.com/wp-content/uploads/2024/04/princess.png
END:VEVENT
BEGIN:VEVENT
DTSTART;TZID=America/New_York:20240424T150000
DTEND;TZID=America/New_York:20240424T170000
DTSTAMP:20260423T021439
CREATED:20240404T001451Z
LAST-MODIFIED:20240404T001451Z
UID:10000391-1713970800-1713978000@www.windsorpalms-resort.com
SUMMARY:Pool Party
DESCRIPTION:Dive into the night with Tiki Bar specials\, $2 off flavored ice\, and poolside games such as cornhole and Jumbo Connect 4.
URL:https://www.windsorpalms-resort.com/event/pool-party-6/
LOCATION:Clubhouse Pool
ATTACH;FMTTYPE=image/png:https://www.windsorpalms-resort.com/wp-content/uploads/2023/08/poolside-activities.png
END:VEVENT
BEGIN:VEVENT
DTSTART;TZID=America/New_York:20240423T190000
DTEND;TZID=America/New_York:20240423T210000
DTSTAMP:20260423T021439
CREATED:20240404T011315Z
LAST-MODIFIED:20240404T011316Z
UID:10000399-1713898800-1713906000@www.windsorpalms-resort.com
SUMMARY:Movie Night
DESCRIPTION:Tinker Bell
URL:https://www.windsorpalms-resort.com/event/movie-night-38/
LOCATION:Clubhouse Theater
ATTACH;FMTTYPE=image/png:https://www.windsorpalms-resort.com/wp-content/uploads/2024/04/tinker-bell.png
END:VEVENT
BEGIN:VEVENT
DTSTART;TZID=America/New_York:20240423T093000
DTEND;TZID=America/New_York:20240423T110000
DTSTAMP:20260423T021439
CREATED:20240403T234557Z
LAST-MODIFIED:20240403T234558Z
UID:10000382-1713864600-1713870000@www.windsorpalms-resort.com
SUMMARY:Pancake Breakfast
DESCRIPTION:Start your day off right by savoring the aroma of freshly flipped pancakes\, golden and light\, served hot. Sausages\, home fries\, and drinks are also availabe to enjoy with your breakfast. \n\n\n\n$12 | 2 Pancakes\, 2 sausages\, home fries\, and drink$7 | 3 Pancakes and drink$6 | Kids Breakfast (1 pancake\, 1 sausage\, home fries\, and drink)$3 | Single Pancake
URL:https://www.windsorpalms-resort.com/event/pancake-breakfast-24/
LOCATION:Tiki Bar
ATTACH;FMTTYPE=image/jpeg:https://www.windsorpalms-resort.com/wp-content/uploads/2023/11/pancake.jpg
END:VEVENT
BEGIN:VEVENT
DTSTART;TZID=America/New_York:20240420T190000
DTEND;TZID=America/New_York:20240420T210000
DTSTAMP:20260423T021439
CREATED:20240404T021922Z
LAST-MODIFIED:20240404T022417Z
UID:10000406-1713639600-1713646800@www.windsorpalms-resort.com
SUMMARY:Karaoke Night
DESCRIPTION:Get ready to unleash your inner rockstar at our electrifying karaoke night! Grab the mic\, pick your favorite tunes\, and belt out your signature hits in front of an enthusiastic crowd. Whether you’re a seasoned crooner or a first-time performer\, it’s your time to shine!
URL:https://www.windsorpalms-resort.com/event/karaoke-night/
LOCATION:Clubhouse Pool
ATTACH;FMTTYPE=image/png:https://www.windsorpalms-resort.com/wp-content/uploads/2024/04/karaoke.png
END:VEVENT
BEGIN:VEVENT
DTSTART;TZID=America/New_York:20240418T180000
DTEND;TZID=America/New_York:20240418T190000
DTSTAMP:20260423T021439
CREATED:20240404T001612Z
LAST-MODIFIED:20240404T001613Z
UID:10000393-1713463200-1713466800@www.windsorpalms-resort.com
SUMMARY:Bingo
DESCRIPTION:Get your daubers ready and bring your A-game as we roll the numbered balls and call out those winning combinations. You’re in for a night of fun and friendly competition. Whether you’re a seasoned pro or a first-time player\, our Bingo Night promises an entertaining blend of luck and laughter.
URL:https://www.windsorpalms-resort.com/event/bingo-10/
LOCATION:Clubhouse Lobby
ATTACH;FMTTYPE=image/png:https://www.windsorpalms-resort.com/wp-content/uploads/2024/01/bingo.png
END:VEVENT
BEGIN:VEVENT
DTSTART;TZID=America/New_York:20240418T110000
DTEND;TZID=America/New_York:20240418T120000
DTSTAMP:20260423T021439
CREATED:20240414T193846Z
LAST-MODIFIED:20240414T193847Z
UID:10000410-1713438000-1713441600@www.windsorpalms-resort.com
SUMMARY:Yoga
DESCRIPTION:Yoga class led by a personal trainer\, open to all ages and fitness levels.
URL:https://www.windsorpalms-resort.com/event/yoga/
LOCATION:Clubhouse Pool
ATTACH;FMTTYPE=image/png:https://www.windsorpalms-resort.com/wp-content/uploads/2024/04/yoga.png
END:VEVENT
BEGIN:VEVENT
DTSTART;TZID=America/New_York:20240418T093000
DTEND;TZID=America/New_York:20240418T110000
DTSTAMP:20260423T021439
CREATED:20240403T234719Z
LAST-MODIFIED:20240403T234720Z
UID:10000385-1713432600-1713438000@www.windsorpalms-resort.com
SUMMARY:Pancake Breakfast
DESCRIPTION:Start your day off right by savoring the aroma of freshly flipped pancakes\, golden and light\, served hot. Sausages\, home fries\, and drinks are also availabe to enjoy with your breakfast. \n\n\n\n$12 | 2 Pancakes\, 2 sausages\, home fries\, and drink$7 | 3 Pancakes and drink$6 | Kids Breakfast (1 pancake\, 1 sausage\, home fries\, and drink)$3 | Single Pancake
URL:https://www.windsorpalms-resort.com/event/pancake-breakfast-27/
LOCATION:Tiki Bar
ATTACH;FMTTYPE=image/jpeg:https://www.windsorpalms-resort.com/wp-content/uploads/2023/11/pancake.jpg
END:VEVENT
BEGIN:VEVENT
DTSTART;TZID=America/New_York:20240417T150000
DTEND;TZID=America/New_York:20240417T170000
DTSTAMP:20260423T021439
CREATED:20240404T001426Z
LAST-MODIFIED:20240404T001427Z
UID:10000390-1713366000-1713373200@www.windsorpalms-resort.com
SUMMARY:Pool Party
DESCRIPTION:Dive into the night with Tiki Bar specials\, $2 off flavored ice\, and poolside games such as cornhole and Jumbo Connect 4.
URL:https://www.windsorpalms-resort.com/event/pool-party-5/
LOCATION:Clubhouse Pool
ATTACH;FMTTYPE=image/png:https://www.windsorpalms-resort.com/wp-content/uploads/2023/08/poolside-activities.png
END:VEVENT
END:VCALENDAR