BEGIN:VCALENDAR
VERSION:2.0
PRODID:-//Windsor Palms Resort - ECPv6.15.13.1//NONSGML v1.0//EN
CALSCALE:GREGORIAN
METHOD:PUBLISH
X-WR-CALNAME:Windsor Palms Resort
X-ORIGINAL-URL:https://www.windsorpalms-resort.com
X-WR-CALDESC:Events for Windsor Palms Resort
REFRESH-INTERVAL;VALUE=DURATION:PT1H
X-Robots-Tag:noindex
X-PUBLISHED-TTL:PT1H
BEGIN:VTIMEZONE
TZID:America/New_York
BEGIN:DAYLIGHT
TZOFFSETFROM:-0500
TZOFFSETTO:-0400
TZNAME:EDT
DTSTART:20230312T070000
END:DAYLIGHT
BEGIN:STANDARD
TZOFFSETFROM:-0400
TZOFFSETTO:-0500
TZNAME:EST
DTSTART:20231105T060000
END:STANDARD
BEGIN:DAYLIGHT
TZOFFSETFROM:-0500
TZOFFSETTO:-0400
TZNAME:EDT
DTSTART:20240310T070000
END:DAYLIGHT
BEGIN:STANDARD
TZOFFSETFROM:-0400
TZOFFSETTO:-0500
TZNAME:EST
DTSTART:20241103T060000
END:STANDARD
BEGIN:DAYLIGHT
TZOFFSETFROM:-0500
TZOFFSETTO:-0400
TZNAME:EDT
DTSTART:20250309T070000
END:DAYLIGHT
BEGIN:STANDARD
TZOFFSETFROM:-0400
TZOFFSETTO:-0500
TZNAME:EST
DTSTART:20251102T060000
END:STANDARD
END:VTIMEZONE
BEGIN:VEVENT
DTSTART;TZID=America/New_York:20240328T110000
DTEND;TZID=America/New_York:20240328T120000
DTSTAMP:20260423T134937
CREATED:20240321T231116Z
LAST-MODIFIED:20240321T231116Z
UID:10000377-1711623600-1711627200@www.windsorpalms-resort.com
SUMMARY:Aqua Fit Class
DESCRIPTION:Get your day started right with an Aqua Fit Class led by a certified personal trainer open to all ages and fitness levels. Swimming is not required to participate.
URL:https://www.windsorpalms-resort.com/event/aqua-fit-class-3/
LOCATION:Clubhouse Pool
ATTACH;FMTTYPE=image/png:https://www.windsorpalms-resort.com/wp-content/uploads/2024/02/aquafit.png
END:VEVENT
BEGIN:VEVENT
DTSTART;TZID=America/New_York:20240328T093000
DTEND;TZID=America/New_York:20240328T110000
DTSTAMP:20260423T134937
CREATED:20240301T020900Z
LAST-MODIFIED:20240301T020902Z
UID:10000354-1711618200-1711623600@www.windsorpalms-resort.com
SUMMARY:Pancake Breakfast
DESCRIPTION:Start your day off right by savoring the aroma of freshly flipped pancakes\, golden and light\, served hot. Sausages\, home fries\, and drinks are also availabe to enjoy with your breakfast. \n\n\n\n$12 | 2 Pancakes\, 2 sausages\, home fries\, and drink$7 | 3 Pancakes and drink$6 | Kids Breakfast (1 pancake\, 1 sausage\, home fries\, and drink)$3 | Single Pancake
URL:https://www.windsorpalms-resort.com/event/pancake-breakfast-19/
LOCATION:Tiki Bar
ATTACH;FMTTYPE=image/jpeg:https://www.windsorpalms-resort.com/wp-content/uploads/2023/11/pancake.jpg
END:VEVENT
BEGIN:VEVENT
DTSTART;TZID=America/New_York:20240327T150000
DTEND;TZID=America/New_York:20240327T170000
DTSTAMP:20260423T134937
CREATED:20240301T030026Z
LAST-MODIFIED:20240301T030027Z
UID:10000371-1711551600-1711558800@www.windsorpalms-resort.com
SUMMARY:Pool Party
DESCRIPTION:Dive into the night with Tiki Bar specials\, $2 off flavored ice\, and poolside games such as cornhole and jumbo Connect 4.
URL:https://www.windsorpalms-resort.com/event/pool-party-2/
LOCATION:Clubhouse Pool
ATTACH;FMTTYPE=image/png:https://www.windsorpalms-resort.com/wp-content/uploads/2023/08/poolside-activities.png
END:VEVENT
BEGIN:VEVENT
DTSTART;TZID=America/New_York:20240326T190000
DTEND;TZID=America/New_York:20240326T210000
DTSTAMP:20260423T134937
CREATED:20240301T025438Z
LAST-MODIFIED:20240301T025446Z
UID:10000369-1711479600-1711486800@www.windsorpalms-resort.com
SUMMARY:Movie Night
DESCRIPTION:Follow the mischievous E.B.\, the Easter Bunny’s teenage son\, as he ventures to Hollywood in pursuit of his dream to become a drummer. Along the way\, he crosses paths with Fred\, a slacker who inadvertently becomes E.B.’s unlikely mentor. Filled with colorful characters\, catchy tunes\, and plenty of laughs\, this heartwarming tale celebrates friendship\, family\, and following your dreams. Get ready to hop into an egg-citing adventure that will have you laughing and tapping your feet from beginning to end!
URL:https://www.windsorpalms-resort.com/event/movie-night-34/
LOCATION:Clubhouse Theater
ATTACH;FMTTYPE=image/png:https://www.windsorpalms-resort.com/wp-content/uploads/2024/02/hop.png
END:VEVENT
BEGIN:VEVENT
DTSTART;TZID=America/New_York:20240326T093000
DTEND;TZID=America/New_York:20240326T110000
DTSTAMP:20260423T134937
CREATED:20240301T020708Z
LAST-MODIFIED:20240301T020709Z
UID:10000350-1711445400-1711450800@www.windsorpalms-resort.com
SUMMARY:Pancake Breakfast
DESCRIPTION:Start your day off right by savoring the aroma of freshly flipped pancakes\, golden and light\, served hot. Sausages\, home fries\, and drinks are also availabe to enjoy with your breakfast. \n\n\n\n$12 | 2 Pancakes\, 2 sausages\, home fries\, and drink$7 | 3 Pancakes and drink$6 | Kids Breakfast (1 pancake\, 1 sausage\, home fries\, and drink)$3 | Single Pancake
URL:https://www.windsorpalms-resort.com/event/pancake-breakfast-15/
LOCATION:Tiki Bar
ATTACH;FMTTYPE=image/jpeg:https://www.windsorpalms-resort.com/wp-content/uploads/2023/11/pancake.jpg
END:VEVENT
BEGIN:VEVENT
DTSTART;TZID=America/New_York:20240324T140000
DTEND;TZID=America/New_York:20240324T160000
DTSTAMP:20260423T134937
CREATED:20240301T021302Z
LAST-MODIFIED:20240301T021303Z
UID:10000359-1711288800-1711296000@www.windsorpalms-resort.com
SUMMARY:Board Game Day
DESCRIPTION:Get ready to roll\, strategize\, and have a blast at our Family Board Game Day! Every move counts and every decision could lead to triumph. Don’t miss this chance to bond\, connect\, and create lasting memories over some of the best board games in town.
URL:https://www.windsorpalms-resort.com/event/board-game-day-2/
LOCATION:Clubhouse Lobby
ATTACH;FMTTYPE=image/jpeg:https://www.windsorpalms-resort.com/wp-content/uploads/2023/08/board-game.jpg
END:VEVENT
BEGIN:VEVENT
DTSTART;TZID=America/New_York:20240321T180000
DTEND;TZID=America/New_York:20240321T190000
DTSTAMP:20260423T134937
CREATED:20240301T021053Z
LAST-MODIFIED:20240301T021054Z
UID:10000357-1711044000-1711047600@www.windsorpalms-resort.com
SUMMARY:Bingo
DESCRIPTION:Get your daubers ready and bring your A-game as we roll the numbered balls and call out those winning combinations. You’re in for a night of fun and friendly competition. Whether you’re a seasoned pro or a first-time player\, our Bingo Night promises an entertaining blend of luck and laughter.
URL:https://www.windsorpalms-resort.com/event/bingo-7/
LOCATION:Clubhouse Lobby
ATTACH;FMTTYPE=image/png:https://www.windsorpalms-resort.com/wp-content/uploads/2024/01/bingo.png
END:VEVENT
BEGIN:VEVENT
DTSTART;TZID=America/New_York:20240321T103000
DTEND;TZID=America/New_York:20240321T113000
DTSTAMP:20260423T134937
CREATED:20240314T202807Z
LAST-MODIFIED:20240314T202905Z
UID:10000376-1711017000-1711020600@www.windsorpalms-resort.com
SUMMARY:Aqua Fit Class
DESCRIPTION:Get your day started right with an Aqua Fit Class led by a certified personal trainer open to all ages and fitness levels. Swimming is not required to participate.
URL:https://www.windsorpalms-resort.com/event/aqua-fit-class-2/
LOCATION:Clubhouse Pool
ATTACH;FMTTYPE=image/png:https://www.windsorpalms-resort.com/wp-content/uploads/2024/02/aquafit.png
END:VEVENT
BEGIN:VEVENT
DTSTART;TZID=America/New_York:20240321T093000
DTEND;TZID=America/New_York:20240321T110000
DTSTAMP:20260423T134937
CREATED:20240301T020842Z
LAST-MODIFIED:20240301T020843Z
UID:10000353-1711013400-1711018800@www.windsorpalms-resort.com
SUMMARY:Pancake Breakfast
DESCRIPTION:Start your day off right by savoring the aroma of freshly flipped pancakes\, golden and light\, served hot. Sausages\, home fries\, and drinks are also availabe to enjoy with your breakfast. \n\n\n\n$12 | 2 Pancakes\, 2 sausages\, home fries\, and drink$7 | 3 Pancakes and drink$6 | Kids Breakfast (1 pancake\, 1 sausage\, home fries\, and drink)$3 | Single Pancake
URL:https://www.windsorpalms-resort.com/event/pancake-breakfast-18/
LOCATION:Tiki Bar
ATTACH;FMTTYPE=image/jpeg:https://www.windsorpalms-resort.com/wp-content/uploads/2023/11/pancake.jpg
END:VEVENT
BEGIN:VEVENT
DTSTART;TZID=America/New_York:20240320T150000
DTEND;TZID=America/New_York:20240320T170000
DTSTAMP:20260423T134937
CREATED:20240301T030008Z
LAST-MODIFIED:20240301T030009Z
UID:10000370-1710946800-1710954000@www.windsorpalms-resort.com
SUMMARY:Pool Party
DESCRIPTION:Dive into the night with Tiki Bar specials\, $2 off flavored ice\, and poolside games such as cornhole and jumbo Connect 4.
URL:https://www.windsorpalms-resort.com/event/pool-party/
LOCATION:Clubhouse Pool
ATTACH;FMTTYPE=image/png:https://www.windsorpalms-resort.com/wp-content/uploads/2023/08/poolside-activities.png
END:VEVENT
BEGIN:VEVENT
DTSTART;TZID=America/New_York:20240319T190000
DTEND;TZID=America/New_York:20240319T210000
DTSTAMP:20260423T134938
CREATED:20240301T025233Z
LAST-MODIFIED:20240301T025234Z
UID:10000368-1710874800-1710882000@www.windsorpalms-resort.com
SUMMARY:Movie Night
DESCRIPTION:Follow Judy Hopps\, a determined bunny with big dreams of becoming a police officer\, and Nick Wilde\, a sly fox with a quick wit\, as they team up to solve a mysterious case that threatens to disrupt the city’s peace. Filled with humor\, heart\, and a powerful message of acceptance and inclusion\, this animated gem is a thrilling ride through a world where predators and prey work together to make the impossible possible.
URL:https://www.windsorpalms-resort.com/event/movie-night-33/
LOCATION:Clubhouse Theater
ATTACH;FMTTYPE=image/png:https://www.windsorpalms-resort.com/wp-content/uploads/2024/02/zoo.png
END:VEVENT
BEGIN:VEVENT
DTSTART;TZID=America/New_York:20240319T093000
DTEND;TZID=America/New_York:20240319T110000
DTSTAMP:20260423T134938
CREATED:20240301T020653Z
LAST-MODIFIED:20240301T020654Z
UID:10000349-1710840600-1710846000@www.windsorpalms-resort.com
SUMMARY:Pancake Breakfast
DESCRIPTION:Start your day off right by savoring the aroma of freshly flipped pancakes\, golden and light\, served hot. Sausages\, home fries\, and drinks are also availabe to enjoy with your breakfast. \n\n\n\n$12 | 2 Pancakes\, 2 sausages\, home fries\, and drink$7 | 3 Pancakes and drink$6 | Kids Breakfast (1 pancake\, 1 sausage\, home fries\, and drink)$3 | Single Pancake
URL:https://www.windsorpalms-resort.com/event/pancake-breakfast-14/
LOCATION:Tiki Bar
ATTACH;FMTTYPE=image/jpeg:https://www.windsorpalms-resort.com/wp-content/uploads/2023/11/pancake.jpg
END:VEVENT
BEGIN:VEVENT
DTSTART;TZID=America/New_York:20240318T113000
DTEND;TZID=America/New_York:20240318T133000
DTSTAMP:20260423T134938
CREATED:20240301T022251Z
LAST-MODIFIED:20240301T022252Z
UID:10000363-1710761400-1710768600@www.windsorpalms-resort.com
SUMMARY:Tiki Bar BBQ
DESCRIPTION:Sink your teeth into juicy hamburgers and savor the smoky flavors of grilled hotdogs\, all served with a side of coleslaw\, baked beans\, chips\, and a drink. \n\n\n\n$10 | Burger / Hot Dog Platter with coleslaw\, baked beans\, chips\, and soda$5 | Burger$3 | Hot Dog
URL:https://www.windsorpalms-resort.com/event/tiki-bar-bbq-3/
LOCATION:Tiki Bar
ATTACH;FMTTYPE=image/png:https://www.windsorpalms-resort.com/wp-content/uploads/2024/02/bbq.png
END:VEVENT
BEGIN:VEVENT
DTSTART;TZID=America/New_York:20240315T200000
DTEND;TZID=America/New_York:20240315T213000
DTSTAMP:20260423T134938
CREATED:20240301T023011Z
LAST-MODIFIED:20240313T011507Z
UID:10000365-1710532800-1710538200@www.windsorpalms-resort.com
SUMMARY:Trivia Night
DESCRIPTION:Gather your brainiac buddies and join us for an electrifying Trivia Night! Put your wits to the test as you tackle a variety of challenging questions spanning pop culture\, history\, sports\, and more. It’s the ultimate showdown of intellect and fun. Whether you’re a trivia novice or a seasoned pro\, everyone’s welcome to join in the excitement
URL:https://www.windsorpalms-resort.com/event/trivia-night/
LOCATION:Clubhouse Pool
ATTACH;FMTTYPE=image/png:https://www.windsorpalms-resort.com/wp-content/uploads/2024/02/trivia.png
END:VEVENT
BEGIN:VEVENT
DTSTART;TZID=America/New_York:20240314T180000
DTEND;TZID=America/New_York:20240314T190000
DTSTAMP:20260423T134938
CREATED:20240301T021038Z
LAST-MODIFIED:20240301T021039Z
UID:10000356-1710439200-1710442800@www.windsorpalms-resort.com
SUMMARY:Bingo
DESCRIPTION:Get your daubers ready and bring your A-game as we roll the numbered balls and call out those winning combinations. You’re in for a night of fun and friendly competition. Whether you’re a seasoned pro or a first-time player\, our Bingo Night promises an entertaining blend of luck and laughter.
URL:https://www.windsorpalms-resort.com/event/bingo-6/
LOCATION:Clubhouse Lobby
ATTACH;FMTTYPE=image/png:https://www.windsorpalms-resort.com/wp-content/uploads/2024/01/bingo.png
END:VEVENT
BEGIN:VEVENT
DTSTART;TZID=America/New_York:20240314T093000
DTEND;TZID=America/New_York:20240314T110000
DTSTAMP:20260423T134938
CREATED:20240301T020755Z
LAST-MODIFIED:20240301T020755Z
UID:10000352-1710408600-1710414000@www.windsorpalms-resort.com
SUMMARY:Pancake Breakfast
DESCRIPTION:Start your day off right by savoring the aroma of freshly flipped pancakes\, golden and light\, served hot. Sausages\, home fries\, and drinks are also availabe to enjoy with your breakfast. \n\n\n\n$12 | 2 Pancakes\, 2 sausages\, home fries\, and drink$7 | 3 Pancakes and drink$6 | Kids Breakfast (1 pancake\, 1 sausage\, home fries\, and drink)$3 | Single Pancake
URL:https://www.windsorpalms-resort.com/event/pancake-breakfast-17/
LOCATION:Tiki Bar
ATTACH;FMTTYPE=image/jpeg:https://www.windsorpalms-resort.com/wp-content/uploads/2023/11/pancake.jpg
END:VEVENT
BEGIN:VEVENT
DTSTART;TZID=America/New_York:20240313T180000
DTEND;TZID=America/New_York:20240313T190000
DTSTAMP:20260423T134938
CREATED:20240301T031055Z
LAST-MODIFIED:20240301T031056Z
UID:10000372-1710352800-1710356400@www.windsorpalms-resort.com
SUMMARY:Mini Paper Flower Boquete
DESCRIPTION:Make a mini paper flower Boquete by choosing your favorite color and then fold and shape your flowers for spring. This craft is for all ages and abilities.
URL:https://www.windsorpalms-resort.com/event/mini-paper-flower-boquete/
LOCATION:Clubhouse Lobby
ATTACH;FMTTYPE=image/png:https://www.windsorpalms-resort.com/wp-content/uploads/2024/02/flower-1.png
END:VEVENT
BEGIN:VEVENT
DTSTART;TZID=America/New_York:20240312T190000
DTEND;TZID=America/New_York:20240312T210000
DTSTAMP:20260423T134938
CREATED:20240301T025042Z
LAST-MODIFIED:20240301T025053Z
UID:10000367-1710270000-1710277200@www.windsorpalms-resort.com
SUMMARY:Movie Night
DESCRIPTION:Join Kyle Johnson as he discovers his family’s magical heritage and embarks on an extraordinary journey to reclaim his lucky coin from a mischievous leprechaun. With a blend of humor\, heart\, and Irish folklore\, this Disney Channel Original Movie is a whimsical tale of self-discovery\, friendship\, and embracing one’s heritage. Get ready for a shamrock-filled adventure that will leave you believing in the magic of luck and the power of being true to yourself.
URL:https://www.windsorpalms-resort.com/event/movie-night-32/
LOCATION:Clubhouse Theater
ATTACH;FMTTYPE=image/png:https://www.windsorpalms-resort.com/wp-content/uploads/2024/02/irish.png
END:VEVENT
BEGIN:VEVENT
DTSTART;TZID=America/New_York:20240312T103000
DTEND;TZID=America/New_York:20240312T113000
DTSTAMP:20260423T134938
CREATED:20240307T172551Z
LAST-MODIFIED:20240307T172557Z
UID:10000375-1710239400-1710243000@www.windsorpalms-resort.com
SUMMARY:Aqua Fit Class
DESCRIPTION:Get your day started right with an Aqua Fit Class led by a certified personal trainer open to all ages and fitness levels. Swimming is not required to participate.
URL:https://www.windsorpalms-resort.com/event/aqua-fit-class/
LOCATION:Clubhouse Pool
ATTACH;FMTTYPE=image/png:https://www.windsorpalms-resort.com/wp-content/uploads/2024/02/aquafit.png
END:VEVENT
BEGIN:VEVENT
DTSTART;TZID=America/New_York:20240312T093000
DTEND;TZID=America/New_York:20240312T110000
DTSTAMP:20260423T134938
CREATED:20240301T020634Z
LAST-MODIFIED:20240301T020635Z
UID:10000348-1710235800-1710241200@www.windsorpalms-resort.com
SUMMARY:Pancake Breakfast
DESCRIPTION:Start your day off right by savoring the aroma of freshly flipped pancakes\, golden and light\, served hot. Sausages\, home fries\, and drinks are also availabe to enjoy with your breakfast. \n\n\n\n$12 | 2 Pancakes\, 2 sausages\, home fries\, and drink$7 | 3 Pancakes and drink$6 | Kids Breakfast (1 pancake\, 1 sausage\, home fries\, and drink)$3 | Single Pancake
URL:https://www.windsorpalms-resort.com/event/pancake-breakfast-13/
LOCATION:Tiki Bar
ATTACH;FMTTYPE=image/jpeg:https://www.windsorpalms-resort.com/wp-content/uploads/2023/11/pancake.jpg
END:VEVENT
BEGIN:VEVENT
DTSTART;TZID=America/New_York:20240311T113000
DTEND;TZID=America/New_York:20240311T133000
DTSTAMP:20260423T134938
CREATED:20240301T022232Z
LAST-MODIFIED:20240301T022233Z
UID:10000362-1710156600-1710163800@www.windsorpalms-resort.com
SUMMARY:Tiki Bar BBQ
DESCRIPTION:Sink your teeth into juicy hamburgers and savor the smoky flavors of grilled hotdogs\, all served with a side of coleslaw\, baked beans\, chips\, and a drink. \n\n\n\n$10 | Burger / Hot Dog Platter with coleslaw\, baked beans\, chips\, and soda$5 | Burger$3 | Hot Dog
URL:https://www.windsorpalms-resort.com/event/tiki-bar-bbq-2/
LOCATION:Tiki Bar
ATTACH;FMTTYPE=image/png:https://www.windsorpalms-resort.com/wp-content/uploads/2024/02/bbq.png
END:VEVENT
BEGIN:VEVENT
DTSTART;TZID=America/New_York:20240307T180000
DTEND;TZID=America/New_York:20240307T190000
DTSTAMP:20260423T134938
CREATED:20240301T021021Z
LAST-MODIFIED:20240301T021022Z
UID:10000355-1709834400-1709838000@www.windsorpalms-resort.com
SUMMARY:Bingo
DESCRIPTION:Get your daubers ready and bring your A-game as we roll the numbered balls and call out those winning combinations. You’re in for a night of fun and friendly competition. Whether you’re a seasoned pro or a first-time player\, our Bingo Night promises an entertaining blend of luck and laughter.
URL:https://www.windsorpalms-resort.com/event/bingo-5/
LOCATION:Clubhouse Lobby
ATTACH;FMTTYPE=image/png:https://www.windsorpalms-resort.com/wp-content/uploads/2024/01/bingo.png
END:VEVENT
BEGIN:VEVENT
DTSTART;TZID=America/New_York:20240307T103000
DTEND;TZID=America/New_York:20240307T113000
DTSTAMP:20260423T134938
CREATED:20240301T031941Z
LAST-MODIFIED:20240301T032306Z
UID:10000374-1709807400-1709811000@www.windsorpalms-resort.com
SUMMARY:Aqua Fit Class
DESCRIPTION:Get your day started right with an Aqua Fit Class led by a certified personal trainer open to all ages and fitness levels. Swimming is not required to participate.
URL:https://www.windsorpalms-resort.com/event/aqua-fit/
LOCATION:Clubhouse Pool
ATTACH;FMTTYPE=image/png:https://www.windsorpalms-resort.com/wp-content/uploads/2024/02/aquafit.png
END:VEVENT
BEGIN:VEVENT
DTSTART;TZID=America/New_York:20240307T093000
DTEND;TZID=America/New_York:20240307T110000
DTSTAMP:20260423T134938
CREATED:20240301T020739Z
LAST-MODIFIED:20240301T020740Z
UID:10000351-1709803800-1709809200@www.windsorpalms-resort.com
SUMMARY:Pancake Breakfast
DESCRIPTION:Start your day off right by savoring the aroma of freshly flipped pancakes\, golden and light\, served hot. Sausages\, home fries\, and drinks are also availabe to enjoy with your breakfast. \n\n\n\n$12 | 2 Pancakes\, 2 sausages\, home fries\, and drink$7 | 3 Pancakes and drink$6 | Kids Breakfast (1 pancake\, 1 sausage\, home fries\, and drink)$3 | Single Pancake
URL:https://www.windsorpalms-resort.com/event/pancake-breakfast-16/
LOCATION:Tiki Bar
ATTACH;FMTTYPE=image/jpeg:https://www.windsorpalms-resort.com/wp-content/uploads/2023/11/pancake.jpg
END:VEVENT
BEGIN:VEVENT
DTSTART;TZID=America/New_York:20240306T150000
DTEND;TZID=America/New_York:20240306T170000
DTSTAMP:20260423T134938
CREATED:20240301T025638Z
LAST-MODIFIED:20240301T025903Z
UID:10000241-1709737200-1709744400@www.windsorpalms-resort.com
SUMMARY:Pool Party
DESCRIPTION:Dive into the night with Tiki Bar specials\, $2 off flavored ice\, and poolside games such as cornhole and jumbo Connect 4.
URL:https://www.windsorpalms-resort.com/event/poolside-activities-2/
LOCATION:Clubhouse Pool
ATTACH;FMTTYPE=image/png:https://www.windsorpalms-resort.com/wp-content/uploads/2023/08/poolside-activities.png
END:VEVENT
BEGIN:VEVENT
DTSTART;TZID=America/New_York:20240305T190000
DTEND;TZID=America/New_York:20240305T210000
DTSTAMP:20260423T134938
CREATED:20240301T024921Z
LAST-MODIFIED:20240301T024922Z
UID:10000366-1709665200-1709672400@www.windsorpalms-resort.com
SUMMARY:Movie Night
DESCRIPTION:Embark on a timeless journey through the forest alongside the young deer Bambi as he discovers the wonders of nature\, learns valuable life lessons\, and forms deep bonds with friends like Thumper and Flower. Set against the backdrop of the serene forest\, this beloved classic captures the beauty of the natural world and the joys of childhood innocence.
URL:https://www.windsorpalms-resort.com/event/movie-night-31/
LOCATION:Clubhouse Theater
ATTACH;FMTTYPE=image/png:https://www.windsorpalms-resort.com/wp-content/uploads/2024/02/bambi.png
END:VEVENT
BEGIN:VEVENT
DTSTART;TZID=America/New_York:20240305T093000
DTEND;TZID=America/New_York:20240305T110000
DTSTAMP:20260423T134938
CREATED:20240301T020544Z
LAST-MODIFIED:20240301T020545Z
UID:10000347-1709631000-1709636400@www.windsorpalms-resort.com
SUMMARY:Pancake Breakfast
DESCRIPTION:Start your day off right by savoring the aroma of freshly flipped pancakes\, golden and light\, served hot. Sausages\, home fries\, and drinks are also availabe to enjoy with your breakfast. \n\n\n\n$12 | 2 Pancakes\, 2 sausages\, home fries\, and drink$7 | 3 Pancakes and drink$6 | Kids Breakfast (1 pancake\, 1 sausage\, home fries\, and drink)$3 | Single Pancake
URL:https://www.windsorpalms-resort.com/event/pancake-breakfast-12/
LOCATION:Tiki Bar
ATTACH;FMTTYPE=image/jpeg:https://www.windsorpalms-resort.com/wp-content/uploads/2023/11/pancake.jpg
END:VEVENT
BEGIN:VEVENT
DTSTART;TZID=America/New_York:20240304T113000
DTEND;TZID=America/New_York:20240304T133000
DTSTAMP:20260423T134938
CREATED:20240301T022116Z
LAST-MODIFIED:20240301T022216Z
UID:10000361-1709551800-1709559000@www.windsorpalms-resort.com
SUMMARY:Tiki Bar BBQ
DESCRIPTION:Sink your teeth into juicy hamburgers and savor the smoky flavors of grilled hotdogs\, all served with a side of coleslaw\, baked beans\, chips\, and a drink. \n\n\n\n$10 | Burger / Hot Dog Platter with coleslaw\, baked beans\, chips\, and soda$5 | Burger$3 | Hot Dog
URL:https://www.windsorpalms-resort.com/event/tiki-bar-bbq/
LOCATION:Tiki Bar
ATTACH;FMTTYPE=image/png:https://www.windsorpalms-resort.com/wp-content/uploads/2024/02/bbq.png
END:VEVENT
BEGIN:VEVENT
DTSTART;TZID=America/New_York:20240301T190000
DTEND;TZID=America/New_York:20240301T210000
DTSTAMP:20260423T134938
CREATED:20240301T020249Z
LAST-MODIFIED:20240301T020250Z
UID:10000346-1709319600-1709326800@www.windsorpalms-resort.com
SUMMARY:Pool Movie Night
DESCRIPTION:Journey to the rugged landscapes of Scotland and follow the fiery-haired Princess Merida as she defies tradition and challenges fate to carve her own path. Filled with breathtaking animation\, heartwarming humor\, and a touch of magic\, this captivating tale celebrates the bond between a mother and daughter\, and the power of bravery in the face of adversity. Get ready for an epic adventure where bravery knows no bounds and where destiny is rewritten by the courage of a determined young princess. \n\n\n\n\n\n\n\nThis movie is free to watch\, a limited amount of glow chairs\, floats\, and tubes are available for rent. Hot chocolate bar\, tabletop s’mores\, and blankets are available starting at 6:30pm (weather dependent).
URL:https://www.windsorpalms-resort.com/event/pool-movie-night-25/
LOCATION:Clubhouse Pool
ATTACH;FMTTYPE=image/png:https://www.windsorpalms-resort.com/wp-content/uploads/2024/02/brave.png
END:VEVENT
BEGIN:VEVENT
DTSTART;TZID=America/New_York:20240229T180000
DTEND;TZID=America/New_York:20240229T190000
DTSTAMP:20260423T134938
CREATED:20240203T023846Z
LAST-MODIFIED:20240203T023847Z
UID:10000328-1709229600-1709233200@www.windsorpalms-resort.com
SUMMARY:Bingo
DESCRIPTION:Get your daubers ready and bring your A-game as we roll the numbered balls and call out those winning combinations. You’re in for a night of fun and friendly competition. Whether you’re a seasoned pro or a first-time player\, our Bingo Night promises an entertaining blend of luck and laughter.
URL:https://www.windsorpalms-resort.com/event/bingo-4/
LOCATION:Clubhouse Lobby
ATTACH;FMTTYPE=image/png:https://www.windsorpalms-resort.com/wp-content/uploads/2024/01/bingo.png
END:VEVENT
END:VCALENDAR