BEGIN:VCALENDAR
VERSION:2.0
PRODID:-//Windsor Palms Resort - ECPv6.15.13.1//NONSGML v1.0//EN
CALSCALE:GREGORIAN
METHOD:PUBLISH
X-WR-CALNAME:Windsor Palms Resort
X-ORIGINAL-URL:https://www.windsorpalms-resort.com
X-WR-CALDESC:Events for Windsor Palms Resort
REFRESH-INTERVAL;VALUE=DURATION:PT1H
X-Robots-Tag:noindex
X-PUBLISHED-TTL:PT1H
BEGIN:VTIMEZONE
TZID:America/New_York
BEGIN:DAYLIGHT
TZOFFSETFROM:-0500
TZOFFSETTO:-0400
TZNAME:EDT
DTSTART:20220313T070000
END:DAYLIGHT
BEGIN:STANDARD
TZOFFSETFROM:-0400
TZOFFSETTO:-0500
TZNAME:EST
DTSTART:20221106T060000
END:STANDARD
BEGIN:DAYLIGHT
TZOFFSETFROM:-0500
TZOFFSETTO:-0400
TZNAME:EDT
DTSTART:20230312T070000
END:DAYLIGHT
BEGIN:STANDARD
TZOFFSETFROM:-0400
TZOFFSETTO:-0500
TZNAME:EST
DTSTART:20231105T060000
END:STANDARD
BEGIN:DAYLIGHT
TZOFFSETFROM:-0500
TZOFFSETTO:-0400
TZNAME:EDT
DTSTART:20240310T070000
END:DAYLIGHT
BEGIN:STANDARD
TZOFFSETFROM:-0400
TZOFFSETTO:-0500
TZNAME:EST
DTSTART:20241103T060000
END:STANDARD
BEGIN:DAYLIGHT
TZOFFSETFROM:-0500
TZOFFSETTO:-0400
TZNAME:EDT
DTSTART:20250309T070000
END:DAYLIGHT
BEGIN:STANDARD
TZOFFSETFROM:-0400
TZOFFSETTO:-0500
TZNAME:EST
DTSTART:20251102T060000
END:STANDARD
END:VTIMEZONE
BEGIN:VEVENT
DTSTART;TZID=America/New_York:20240112T190000
DTEND;TZID=America/New_York:20240112T210000
DTSTAMP:20260423T153649
CREATED:20240102T225325Z
LAST-MODIFIED:20240102T225330Z
UID:10000317-1705086000-1705093200@www.windsorpalms-resort.com
SUMMARY:Movie Night
DESCRIPTION:In “Snow Dogs\,” Miami dentist Ted Brooks\, played by Cuba Gooding Jr.\, discovers he’s inherited a team of mischievous sled dogs in the icy wilds of Alaska. What follows is a hilarious fish-out-of-water tale as Ted attempts to adapt to his new\, frosty surroundings and master the art of dog sledding. Filled with laugh-out-loud moments\, heartwarming connections\, and a pack of lovable canine companions\, this family-friendly film is a delightful romp through snow-covered landscapes\, delivering both humor and a touch of unexpected warmth. Get ready for a spirited adventure that proves sometimes\, home is where the snow is!
URL:https://www.windsorpalms-resort.com/event/movie-night-24/
LOCATION:Clubhouse Theater
ATTACH;FMTTYPE=image/png:https://www.windsorpalms-resort.com/wp-content/uploads/2024/01/snow-dogs.png
END:VEVENT
BEGIN:VEVENT
DTSTART;TZID=America/New_York:20240111T180000
DTEND;TZID=America/New_York:20240111T190000
DTSTAMP:20260423T153649
CREATED:20240102T230242Z
LAST-MODIFIED:20240102T230716Z
UID:10000320-1704996000-1704999600@www.windsorpalms-resort.com
SUMMARY:Bingo
DESCRIPTION:Get your daubers ready and bring your A-game as we roll the numbered balls and call out those winning combinations. You’re in for a night of fun and friendly competition. Whether you’re a seasoned pro or a first-time player\, our Bingo Night promises an entertaining blend of luck and laughter.
URL:https://www.windsorpalms-resort.com/event/bingo/
LOCATION:Clubhouse Lobby
ATTACH;FMTTYPE=image/png:https://www.windsorpalms-resort.com/wp-content/uploads/2024/01/bingo.png
END:VEVENT
BEGIN:VEVENT
DTSTART;TZID=America/New_York:20240110T180000
DTEND;TZID=America/New_York:20240110T190000
DTSTAMP:20260423T153649
CREATED:20240102T231728Z
LAST-MODIFIED:20240102T231729Z
UID:10000322-1704909600-1704913200@www.windsorpalms-resort.com
SUMMARY:Handprint Fireworks
DESCRIPTION:Perfect for little hands and big imaginations\, this DIY project transforms a simple handprint into a vibrant burst of colors\, mimicking the dazzling beauty of fireworks. Watch as each finger becomes a streak of brilliance against the canvas\, creating a personal masterpiece that captures the magic of celebratory explosions. A fantastic activity for all ages\, this craft promises not only a delightful creation process but also a stunning display of imagination.
URL:https://www.windsorpalms-resort.com/event/handprint-fireworks/
LOCATION:Clubhouse Lobby
ATTACH;FMTTYPE=image/png:https://www.windsorpalms-resort.com/wp-content/uploads/2024/01/FIREWORKS.png
END:VEVENT
BEGIN:VEVENT
DTSTART;TZID=America/New_York:20240109T190000
DTEND;TZID=America/New_York:20240109T210000
DTSTAMP:20260423T153649
CREATED:20240102T221305Z
LAST-MODIFIED:20240102T221339Z
UID:10000308-1704826800-1704834000@www.windsorpalms-resort.com
SUMMARY:Movie Night
DESCRIPTION:Adventurer Benjamin Gates\, played by Nicolas Cage\, races against time to unravel a historical mystery concealed in the fabric of American history. As he deciphers cryptic clues and follows a trail of hidden treasures\, Gates discovers a web of secrets that could alter the course of history. Packed with thrilling escapades and historical intrigue\, this film takes you on a rollercoaster journey through the nation’s past in search of an extraordinary treasure. Get ready for a cinematic adventure that combines history\, mystery\, and the thrill of the chase.
URL:https://www.windsorpalms-resort.com/event/movie-night-20/
LOCATION:Clubhouse Theater
ATTACH;FMTTYPE=image/png:https://www.windsorpalms-resort.com/wp-content/uploads/2024/01/national-treasure.png
END:VEVENT
BEGIN:VEVENT
DTSTART;TZID=America/New_York:20240105T190000
DTEND;TZID=America/New_York:20240105T210000
DTSTAMP:20260423T153649
CREATED:20240102T223459Z
LAST-MODIFIED:20240102T223521Z
UID:10000312-1704481200-1704488400@www.windsorpalms-resort.com
SUMMARY:Pool Movie Night
DESCRIPTION:In the enchanting kingdom of Arendelle\, “Frozen” follows the extraordinary journey of two royal sisters\, Elsa and Anna. Elsa\, born with magical ice powers\, accidentally plunges their land into eternal winter. As the sisters embark on a perilous quest\, accompanied by a charming iceman and a hilarious snowman named Olaf\, they discover the true meaning of love and self-acceptance. Filled with catchy tunes\, stunning animation\, and a powerful message\, “Frozen” is a modern Disney classic that celebrates the bonds of family and the strength found within. Get ready to be swept away by a tale of sisterhood\, magic\, and the warmth that can thaw even the iciest hearts. \n\n\n\n\n\n\n\nThis movie is free to watch\, a limited amount of glow chairs\, floats\, and tubes are available for rent. Hot chocolate bar\, tabletop s’mores\, and blankets are available starting at 6:30pm.
URL:https://www.windsorpalms-resort.com/event/pool-movie-night-21/
LOCATION:Clubhouse Pool
ATTACH;FMTTYPE=image/jpeg:https://www.windsorpalms-resort.com/wp-content/uploads/2023/10/frozen.jpg
END:VEVENT
BEGIN:VEVENT
DTSTART;TZID=America/New_York:20240105T183000
DTEND;TZID=America/New_York:20240105T203000
DTSTAMP:20260423T153649
CREATED:20240102T223618Z
LAST-MODIFIED:20240102T223619Z
UID:10000313-1704479400-1704486600@www.windsorpalms-resort.com
SUMMARY:Tabletop S'mores & Hot Chocolate Bar
DESCRIPTION:Indulge in the nostalgia of roasting marshmallows over a flickering flame\, creating perfect s’mores customized to your liking with a private tabletop fire pit. Pair this sweet tradition with a steaming cup of rich hot chocolate adorned with an array of toppings\, from whipped cream to crushed peppermint and more from our new hot chocolate bar! \n\n\n\n$10 | Tabletop S’mores Fire Pit (includes 4 servings of s’mores)$5 | Additional s’mores (2 servings)$5 | Hot chocolate (includes 1 serving and self serve toppings bar)
URL:https://www.windsorpalms-resort.com/event/tabletop-smores-hot-chocolate-bar-13/
LOCATION:Clubhouse Pool
ATTACH;FMTTYPE=image/jpeg:https://www.windsorpalms-resort.com/wp-content/uploads/2023/11/hcsmores.jpg
END:VEVENT
BEGIN:VEVENT
DTSTART;TZID=America/New_York:20231228T193000
DTEND;TZID=America/New_York:20231228T220000
DTSTAMP:20260423T153649
CREATED:20231201T042550Z
LAST-MODIFIED:20231228T142046Z
UID:10000280-1703791800-1703800800@www.windsorpalms-resort.com
SUMMARY:Movie Night
DESCRIPTION:Due to the weather forecast\, this previously scheduled pool movie will be moved indoors to the Clubhouse Theater. \n\n\n\nJesper\, a disillusioned postman\, is sent to a distant\, icy town. There\, he discovers Klaus\, a reclusive toymaker. Together\, they bring joy to the town through handmade toys\, sparking a heartwarming Christmas tradition.
URL:https://www.windsorpalms-resort.com/event/pool-movie-night-20/
LOCATION:Clubhouse Theater
ATTACH;FMTTYPE=image/png:https://www.windsorpalms-resort.com/wp-content/uploads/2023/11/klaus.png
END:VEVENT
BEGIN:VEVENT
DTSTART;TZID=America/New_York:20231228T190000
DTEND;TZID=America/New_York:20231228T213000
DTSTAMP:20260423T153649
CREATED:20231201T045724Z
LAST-MODIFIED:20231219T132247Z
UID:10000301-1703790000-1703799000@www.windsorpalms-resort.com
SUMMARY:Tabletop S'mores & Hot Chocolate Bar
DESCRIPTION:Indulge in the nostalgia of roasting marshmallows over a flickering flame\, creating perfect s’mores customized to your liking with a private tabletop fire pit. Pair this sweet tradition with a steaming cup of rich hot chocolate adorned with an array of toppings\, from whipped cream to crushed peppermint and more from our new hot chocolate bar! \n\n\n\n$10 | Tabletop S’mores Fire Pit (includes 4 servings of s’mores)$5 | Additional s’mores (2 servings)$5 | Hot chocolate (includes 1 serving and self serve toppings bar)
URL:https://www.windsorpalms-resort.com/event/tabletop-smores-hot-chocolate-bar-8/
LOCATION:Clubhouse Pool
ATTACH;FMTTYPE=image/jpeg:https://www.windsorpalms-resort.com/wp-content/uploads/2023/11/hcsmores.jpg
END:VEVENT
BEGIN:VEVENT
DTSTART;TZID=America/New_York:20231228T093000
DTEND;TZID=America/New_York:20231228T110000
DTSTAMP:20260423T153649
CREATED:20231201T044031Z
LAST-MODIFIED:20231201T044032Z
UID:10000293-1703755800-1703761200@www.windsorpalms-resort.com
SUMMARY:Pancake Breakfast
DESCRIPTION:Start your day off right by savoring the aroma of freshly flipped pancakes\, golden and light\, served hot. Sausages\, home fries\, and drinks are also availabe to enjoy with your breakfast. \n\n\n\n$12 | 2 Pancakes\, 2 sausages\, home fries\, and drink$7 | 3 Pancakes and drink$6 | Kids Breakfast (1 pancake\, 1 sausage\, home fries\, and drink)$3 | Single Pancake
URL:https://www.windsorpalms-resort.com/event/pancake-breakfast-11/
LOCATION:Tiki Bar
ATTACH;FMTTYPE=image/jpeg:https://www.windsorpalms-resort.com/wp-content/uploads/2023/11/pancake.jpg
END:VEVENT
BEGIN:VEVENT
DTSTART;TZID=America/New_York:20231227T180000
DTEND;TZID=America/New_York:20231227T193000
DTSTAMP:20260423T153649
CREATED:20231201T050050Z
LAST-MODIFIED:20231219T132451Z
UID:10000305-1703700000-1703705400@www.windsorpalms-resort.com
SUMMARY:Tabletop S'mores & Hot Chocolate Bar
DESCRIPTION:Indulge in the nostalgia of roasting marshmallows over a flickering flame\, creating perfect s’mores customized to your liking with a private tabletop fire pit. Pair this sweet tradition with a steaming cup of rich hot chocolate adorned with an array of toppings\, from whipped cream to crushed peppermint and more from our new hot chocolate bar! \n\n\n\n$10 | Tabletop S’mores Fire Pit (includes 4 servings of s’mores)$5 | Additional s’mores (2 servings)$5 | Hot chocolate (includes 1 serving and self serve toppings bar)
URL:https://www.windsorpalms-resort.com/event/tabletop-smores-hot-chocolate-bar-12/
LOCATION:Clubhouse Pool
ATTACH;FMTTYPE=image/jpeg:https://www.windsorpalms-resort.com/wp-content/uploads/2023/11/hcsmores.jpg
END:VEVENT
BEGIN:VEVENT
DTSTART;TZID=America/New_York:20231227T180000
DTEND;TZID=America/New_York:20231227T190000
DTSTAMP:20260423T153649
CREATED:20231201T045422Z
LAST-MODIFIED:20231201T205700Z
UID:10000297-1703700000-1703703600@www.windsorpalms-resort.com
SUMMARY:Christmas Coloring
DESCRIPTION:This delightful coloring activity beckons artists of all ages to explore intricate holiday designs\, from snowflakes to Santas\, waiting to be brought to life with a burst of color. Whether you’re using crayons\, markers\, or colored pencils\, each stroke adds a touch of magic to your festive masterpiece.
URL:https://www.windsorpalms-resort.com/event/christmas-coloring/
LOCATION:Clubhouse Lobby
ATTACH;FMTTYPE=image/png:https://www.windsorpalms-resort.com/wp-content/uploads/2023/11/coloring-1.png
END:VEVENT
BEGIN:VEVENT
DTSTART;TZID=America/New_York:20231226T190000
DTEND;TZID=America/New_York:20231226T210000
DTSTAMP:20260423T153649
CREATED:20231201T043548Z
LAST-MODIFIED:20231201T043549Z
UID:10000284-1703617200-1703624400@www.windsorpalms-resort.com
SUMMARY:Movie Night
DESCRIPTION:Bing Crosby and Danny Kaye team up as a song-and-dance duo who\, after World War II\, find themselves putting on a show at a Vermont inn. Romance\, humor\, and dazzling musical numbers ensue against the backdrop of a picturesque snowy landscape.
URL:https://www.windsorpalms-resort.com/event/movie-night-19/
LOCATION:Clubhouse Theater
ATTACH;FMTTYPE=image/png:https://www.windsorpalms-resort.com/wp-content/uploads/2023/11/white-christmas.png
END:VEVENT
BEGIN:VEVENT
DTSTART;TZID=America/New_York:20231226T093000
DTEND;TZID=America/New_York:20231226T110000
DTSTAMP:20260423T153649
CREATED:20231201T044018Z
LAST-MODIFIED:20231201T044019Z
UID:10000292-1703583000-1703588400@www.windsorpalms-resort.com
SUMMARY:Pancake Breakfast
DESCRIPTION:Start your day off right by savoring the aroma of freshly flipped pancakes\, golden and light\, served hot. Sausages\, home fries\, and drinks are also availabe to enjoy with your breakfast. \n\n\n\n$12 | 2 Pancakes\, 2 sausages\, home fries\, and drink$7 | 3 Pancakes and drink$6 | Kids Breakfast (1 pancake\, 1 sausage\, home fries\, and drink)$3 | Single Pancake
URL:https://www.windsorpalms-resort.com/event/pancake-breakfast-10/
LOCATION:Tiki Bar
ATTACH;FMTTYPE=image/jpeg:https://www.windsorpalms-resort.com/wp-content/uploads/2023/11/pancake.jpg
END:VEVENT
BEGIN:VEVENT
DTSTART;TZID=America/New_York:20231222T170000
DTEND;TZID=America/New_York:20231222T220000
DTSTAMP:20260423T153649
CREATED:20231115T154225Z
LAST-MODIFIED:20231221T152523Z
UID:10000276-1703264400-1703282400@www.windsorpalms-resort.com
SUMMARY:Christmas Party
DESCRIPTION:A ticket is required for this event.  \n\n\n\nAs the sun sets\, a lively Christmas Carnival and lights will open up to offer a variety of games and prizes. Finish the night with an outdoor movie night featuring The Polar Express with Tabletop S’mores and a Hot Chocolate Bar available.
URL:https://www.windsorpalms-resort.com/event/christmas-party/
LOCATION:Clubhouse Area
ATTACH;FMTTYPE=image/png:https://www.windsorpalms-resort.com/wp-content/uploads/2023/12/Hero.png
END:VEVENT
BEGIN:VEVENT
DTSTART;TZID=America/New_York:20231221T190000
DTEND;TZID=America/New_York:20231221T210000
DTSTAMP:20260423T153649
CREATED:20231201T043219Z
LAST-MODIFIED:20231201T043340Z
UID:10000283-1703185200-1703192400@www.windsorpalms-resort.com
SUMMARY:Movie Night
DESCRIPTION:Noelle\, finds herself on a journey to save Christmas when her brother\, the heir to Santa’s job\, faces doubts. With humor and warmth\, the film explores Noelle’s determination to prove that the Christmas spirit is alive and well.
URL:https://www.windsorpalms-resort.com/event/movie-night-18/
LOCATION:Clubhouse Theater
ATTACH;FMTTYPE=image/png:https://www.windsorpalms-resort.com/wp-content/uploads/2023/11/noelle.png
END:VEVENT
BEGIN:VEVENT
DTSTART;TZID=America/New_York:20231221T093000
DTEND;TZID=America/New_York:20231221T110000
DTSTAMP:20260423T153649
CREATED:20231201T044005Z
LAST-MODIFIED:20231201T044006Z
UID:10000291-1703151000-1703156400@www.windsorpalms-resort.com
SUMMARY:Pancake Breakfast
DESCRIPTION:Start your day off right by savoring the aroma of freshly flipped pancakes\, golden and light\, served hot. Sausages\, home fries\, and drinks are also availabe to enjoy with your breakfast. \n\n\n\n$12 | 2 Pancakes\, 2 sausages\, home fries\, and drink$7 | 3 Pancakes and drink$6 | Kids Breakfast (1 pancake\, 1 sausage\, home fries\, and drink)$3 | Single Pancake
URL:https://www.windsorpalms-resort.com/event/pancake-breakfast-9/
LOCATION:Tiki Bar
ATTACH;FMTTYPE=image/jpeg:https://www.windsorpalms-resort.com/wp-content/uploads/2023/11/pancake.jpg
END:VEVENT
BEGIN:VEVENT
DTSTART;TZID=America/New_York:20231219T193000
DTEND;TZID=America/New_York:20231219T220000
DTSTAMP:20260423T153649
CREATED:20231201T042454Z
LAST-MODIFIED:20231201T042455Z
UID:10000279-1703014200-1703023200@www.windsorpalms-resort.com
SUMMARY:Pool Movie Night
DESCRIPTION:Now settled into his role as Santa\, faces a new challenge. With a clause requiring him to find a Mrs. Claus\, he juggles the responsibilities of Christmas and his personal life. To complicate matters\, there’s a toy robot rebellion at the North Pole. \n\n\n\n\n\n\n\nThis movie is free to watch\, a limited amount of glow chairs\, floats\, and tubes are available for rent. Raft rentals will begin at 6pm.
URL:https://www.windsorpalms-resort.com/event/pool-movie-night-19/
LOCATION:Clubhouse Pool
ATTACH;FMTTYPE=image/png:https://www.windsorpalms-resort.com/wp-content/uploads/2023/11/santa-2-1.png
END:VEVENT
BEGIN:VEVENT
DTSTART;TZID=America/New_York:20231219T190000
DTEND;TZID=America/New_York:20231219T213000
DTSTAMP:20260423T153649
CREATED:20231201T045710Z
LAST-MODIFIED:20231219T132323Z
UID:10000300-1703012400-1703021400@www.windsorpalms-resort.com
SUMMARY:Tabletop S'mores & Hot Chocolate Bar
DESCRIPTION:Indulge in the nostalgia of roasting marshmallows over a flickering flame\, creating perfect s’mores customized to your liking with a private tabletop fire pit. Pair this sweet tradition with a steaming cup of rich hot chocolate adorned with an array of toppings\, from whipped cream to crushed peppermint and more from our new hot chocolate bar! \n\n\n\n$10 | Tabletop S’mores Fire Pit (includes 4 servings of s’mores)$5 | Additional s’mores (2 servings)$5 | Hot chocolate (includes 1 serving and self serve toppings bar)
URL:https://www.windsorpalms-resort.com/event/tabletop-smores-hot-chocolate-bar-7/
LOCATION:Clubhouse Pool
ATTACH;FMTTYPE=image/jpeg:https://www.windsorpalms-resort.com/wp-content/uploads/2023/11/hcsmores.jpg
END:VEVENT
BEGIN:VEVENT
DTSTART;TZID=America/New_York:20231219T093000
DTEND;TZID=America/New_York:20231219T110000
DTSTAMP:20260423T153649
CREATED:20231201T043951Z
LAST-MODIFIED:20231201T043952Z
UID:10000290-1702978200-1702983600@www.windsorpalms-resort.com
SUMMARY:Pancake Breakfast
DESCRIPTION:Start your day off right by savoring the aroma of freshly flipped pancakes\, golden and light\, served hot. Sausages\, home fries\, and drinks are also availabe to enjoy with your breakfast. \n\n\n\n$12 | 2 Pancakes\, 2 sausages\, home fries\, and drink$7 | 3 Pancakes and drink$6 | Kids Breakfast (1 pancake\, 1 sausage\, home fries\, and drink)$3 | Single Pancake
URL:https://www.windsorpalms-resort.com/event/pancake-breakfast-8/
LOCATION:Tiki Bar
ATTACH;FMTTYPE=image/jpeg:https://www.windsorpalms-resort.com/wp-content/uploads/2023/11/pancake.jpg
END:VEVENT
BEGIN:VEVENT
DTSTART;TZID=America/New_York:20231217T120000
DTEND;TZID=America/New_York:20231217T130000
DTSTAMP:20260423T153649
CREATED:20231201T050736Z
LAST-MODIFIED:20231216T145130Z
UID:10000306-1702814400-1702818000@www.windsorpalms-resort.com
SUMMARY:Gingerbread House Scavenger Hunt
DESCRIPTION:Search for the pieces of the gingerbread house and then make your own with the decorations you find!
URL:https://www.windsorpalms-resort.com/event/gingerbread-house-scavenger-hunt/
LOCATION:Clubhouse Lobby
ATTACH;FMTTYPE=image/png:https://www.windsorpalms-resort.com/wp-content/uploads/2023/12/gingerbread.png
END:VEVENT
BEGIN:VEVENT
DTSTART;TZID=America/New_York:20231215T190000
DTEND;TZID=America/New_York:20231215T220000
DTSTAMP:20260423T153649
CREATED:20231201T043643Z
LAST-MODIFIED:20231201T043643Z
UID:10000285-1702666800-1702677600@www.windsorpalms-resort.com
SUMMARY:Owner's Night
DESCRIPTION:Join us for a laid-back and vibrant evening at our “Owner’s Night” Tiki Happy Hour – a gathering designed exclusively for our valued property owners. Sip on event exclusive cocktails\, enjoy hors d’oeuvres\, event exclusive menu pricing\, and connect with fellow owners in a relaxed and picturesque setting. \n\n\n\n\n\n\n\nThis is a closed event for Windsor Palms property owners and immediate family only. ID required for entry.
URL:https://www.windsorpalms-resort.com/event/owners-night-3/
LOCATION:Tiki Bar
ATTACH;FMTTYPE=image/jpeg:https://www.windsorpalms-resort.com/wp-content/uploads/2023/08/tiki-bar.jpg
END:VEVENT
BEGIN:VEVENT
DTSTART;TZID=America/New_York:20231214T193000
DTEND;TZID=America/New_York:20231214T220000
DTSTAMP:20260423T153649
CREATED:20231201T042016Z
LAST-MODIFIED:20231214T211340Z
UID:10000278-1702582200-1702591200@www.windsorpalms-resort.com
SUMMARY:Movie Night
DESCRIPTION:Due to the weather forecast\, this previously scheduled pool movie will be moved indoors to the Clubhouse Theater. \n\n\n\nScott Calvin experiences an unexpected transformation when he inadvertently becomes the new Santa Claus. With the help of his son\, Charlie\, Scott embraces his newfound duties at the North Pole.
URL:https://www.windsorpalms-resort.com/event/pool-movie-night-18/
LOCATION:Clubhouse Theater
ATTACH;FMTTYPE=image/png:https://www.windsorpalms-resort.com/wp-content/uploads/2023/11/santa-clause.png
END:VEVENT
BEGIN:VEVENT
DTSTART;TZID=America/New_York:20231214T093000
DTEND;TZID=America/New_York:20231214T110000
DTSTAMP:20260423T153649
CREATED:20231201T043937Z
LAST-MODIFIED:20231201T043938Z
UID:10000289-1702546200-1702551600@www.windsorpalms-resort.com
SUMMARY:Pancake Breakfast
DESCRIPTION:Start your day off right by savoring the aroma of freshly flipped pancakes\, golden and light\, served hot. Sausages\, home fries\, and drinks are also availabe to enjoy with your breakfast. \n\n\n\n$12 | 2 Pancakes\, 2 sausages\, home fries\, and drink$7 | 3 Pancakes and drink$6 | Kids Breakfast (1 pancake\, 1 sausage\, home fries\, and drink)$3 | Single Pancake
URL:https://www.windsorpalms-resort.com/event/pancake-breakfast-7/
LOCATION:Tiki Bar
ATTACH;FMTTYPE=image/jpeg:https://www.windsorpalms-resort.com/wp-content/uploads/2023/11/pancake.jpg
END:VEVENT
BEGIN:VEVENT
DTSTART;TZID=America/New_York:20231213T180000
DTEND;TZID=America/New_York:20231213T193000
DTSTAMP:20260423T153649
CREATED:20231201T045834Z
LAST-MODIFIED:20231205T231034Z
UID:10000303-1702490400-1702495800@www.windsorpalms-resort.com
SUMMARY:Tabletop S'mores & Hot Chocolate Bar
DESCRIPTION:Indulge in the nostalgia of roasting marshmallows over a flickering flame\, creating perfect s’mores customized to your liking with a private tabletop fire pit. Pair this sweet tradition with a steaming cup of rich hot chocolate adorned with an array of toppings\, from whipped cream to crushed peppermint and more from our new hot chocolate bar! \n\n\n\n$10 | Tabletop S’mores Fire Pit (includes 4 servings of s’mores)$5 | Additional s’mores (2 servings)$5 | Hot chocolate (includes 1 serving and self serve toppings bar)
URL:https://www.windsorpalms-resort.com/event/tabletop-smores-hot-chocolate-bar-10/
LOCATION:Clubhouse Tennis Court
ATTACH;FMTTYPE=image/jpeg:https://www.windsorpalms-resort.com/wp-content/uploads/2023/11/hcsmores.jpg
END:VEVENT
BEGIN:VEVENT
DTSTART;TZID=America/New_York:20231213T180000
DTEND;TZID=America/New_York:20231213T190000
DTSTAMP:20260423T153649
CREATED:20231201T045048Z
LAST-MODIFIED:20231201T205510Z
UID:10000295-1702490400-1702494000@www.windsorpalms-resort.com
SUMMARY:Ornament Painting
DESCRIPTION:Select from a variety of wood pucks and choose your favorite holiday colors\, add festive designs\, and watch your ornament come to life with every stroke. Whether it’s a traditional symbol or your own unique creation\, this hands-on activity promises a blend of artistic joy and holiday spirit.
URL:https://www.windsorpalms-resort.com/event/ornament-painting/
LOCATION:Clubhouse Lobby
ATTACH;FMTTYPE=image/png:https://www.windsorpalms-resort.com/wp-content/uploads/2023/11/Ornament.png
END:VEVENT
BEGIN:VEVENT
DTSTART;TZID=America/New_York:20231212T190000
DTEND;TZID=America/New_York:20231212T210000
DTSTAMP:20260423T153649
CREATED:20231201T043038Z
LAST-MODIFIED:20231201T043116Z
UID:10000282-1702407600-1702414800@www.windsorpalms-resort.com
SUMMARY:Movie Night
DESCRIPTION:Skepticism meets holiday magic as Kris Kringle\, takes on the role of Santa Claus at Macy’s. The story unfolds as he spreads joy and teaches others the true spirit of Christmas. Faced with doubt and legal challenges\, Kris’s authenticity becomes a heartwarming testament to the power of faith and kindness
URL:https://www.windsorpalms-resort.com/event/movie-night-17/
LOCATION:Clubhouse Theater
ATTACH;FMTTYPE=image/png:https://www.windsorpalms-resort.com/wp-content/uploads/2023/11/miracle-34.png
END:VEVENT
BEGIN:VEVENT
DTSTART;TZID=America/New_York:20231212T093000
DTEND;TZID=America/New_York:20231212T110000
DTSTAMP:20260423T153649
CREATED:20231201T043919Z
LAST-MODIFIED:20231201T043920Z
UID:10000288-1702373400-1702378800@www.windsorpalms-resort.com
SUMMARY:Pancake Breakfast
DESCRIPTION:Start your day off right by savoring the aroma of freshly flipped pancakes\, golden and light\, served hot. Sausages\, home fries\, and drinks are also availabe to enjoy with your breakfast. \n\n\n\n$12 | 2 Pancakes\, 2 sausages\, home fries\, and drink$7 | 3 Pancakes and drink$6 | Kids Breakfast (1 pancake\, 1 sausage\, home fries\, and drink)$3 | Single Pancake
URL:https://www.windsorpalms-resort.com/event/pancake-breakfast-6/
LOCATION:Tiki Bar
ATTACH;FMTTYPE=image/jpeg:https://www.windsorpalms-resort.com/wp-content/uploads/2023/11/pancake.jpg
END:VEVENT
BEGIN:VEVENT
DTSTART;TZID=America/New_York:20231207T190000
DTEND;TZID=America/New_York:20231207T210000
DTSTAMP:20260423T153649
CREATED:20231201T042912Z
LAST-MODIFIED:20231201T042913Z
UID:10000281-1701975600-1701982800@www.windsorpalms-resort.com
SUMMARY:Movie Night
DESCRIPTION:Join Kermit the Frog\, Miss Piggy\, and the entire Muppet gang in “The Muppet Christmas Carol\,” a delightful reimagining of Charles Dickens’ timeless story. Michael Caine stars as Ebenezer Scrooge\, who\, with the help of the Muppets\, learns the true meaning of Christmas.
URL:https://www.windsorpalms-resort.com/event/movie-night-16/
LOCATION:Clubhouse Theater
ATTACH;FMTTYPE=image/png:https://www.windsorpalms-resort.com/wp-content/uploads/2023/11/muppet.png
END:VEVENT
BEGIN:VEVENT
DTSTART;TZID=America/New_York:20231207T093000
DTEND;TZID=America/New_York:20231207T110000
DTSTAMP:20260423T153649
CREATED:20231201T043903Z
LAST-MODIFIED:20231201T043904Z
UID:10000287-1701941400-1701946800@www.windsorpalms-resort.com
SUMMARY:Pancake Breakfast
DESCRIPTION:Start your day off right by savoring the aroma of freshly flipped pancakes\, golden and light\, served hot. Sausages\, home fries\, and drinks are also availabe to enjoy with your breakfast. \n\n\n\n$12 | 2 Pancakes\, 2 sausages\, home fries\, and drink$7 | 3 Pancakes and drink$6 | Kids Breakfast (1 pancake\, 1 sausage\, home fries\, and drink)$3 | Single Pancake
URL:https://www.windsorpalms-resort.com/event/pancake-breakfast-5/
LOCATION:Tiki Bar
ATTACH;FMTTYPE=image/jpeg:https://www.windsorpalms-resort.com/wp-content/uploads/2023/11/pancake.jpg
END:VEVENT
BEGIN:VEVENT
DTSTART;TZID=America/New_York:20231206T180000
DTEND;TZID=America/New_York:20231206T193000
DTSTAMP:20260423T153649
CREATED:20231201T045758Z
LAST-MODIFIED:20231205T231140Z
UID:10000302-1701885600-1701891000@www.windsorpalms-resort.com
SUMMARY:Tabletop S'mores & Hot Chocolate Bar
DESCRIPTION:Indulge in the nostalgia of roasting marshmallows over a flickering flame\, creating perfect s’mores customized to your liking with a private tabletop fire pit. Pair this sweet tradition with a steaming cup of rich hot chocolate adorned with an array of toppings\, from whipped cream to crushed peppermint and more from our new hot chocolate bar! \n\n\n\n$10 | Tabletop S’mores Fire Pit (includes 4 servings of s’mores)$5 | Additional s’mores (2 servings)$5 | Hot chocolate (includes 1 serving and self serve toppings bar)
URL:https://www.windsorpalms-resort.com/event/tabletop-smores-hot-chocolate-bar-9/
LOCATION:Clubhouse Tennis Court
ATTACH;FMTTYPE=image/jpeg:https://www.windsorpalms-resort.com/wp-content/uploads/2023/11/hcsmores.jpg
END:VEVENT
END:VCALENDAR