BEGIN:VCALENDAR
VERSION:2.0
PRODID:-//Windsor Palms Resort - ECPv6.15.13.1//NONSGML v1.0//EN
CALSCALE:GREGORIAN
METHOD:PUBLISH
X-WR-CALNAME:Windsor Palms Resort
X-ORIGINAL-URL:https://www.windsorpalms-resort.com
X-WR-CALDESC:Events for Windsor Palms Resort
REFRESH-INTERVAL;VALUE=DURATION:PT1H
X-Robots-Tag:noindex
X-PUBLISHED-TTL:PT1H
BEGIN:VTIMEZONE
TZID:America/New_York
BEGIN:DAYLIGHT
TZOFFSETFROM:-0500
TZOFFSETTO:-0400
TZNAME:EDT
DTSTART:20220313T070000
END:DAYLIGHT
BEGIN:STANDARD
TZOFFSETFROM:-0400
TZOFFSETTO:-0500
TZNAME:EST
DTSTART:20221106T060000
END:STANDARD
BEGIN:DAYLIGHT
TZOFFSETFROM:-0500
TZOFFSETTO:-0400
TZNAME:EDT
DTSTART:20230312T070000
END:DAYLIGHT
BEGIN:STANDARD
TZOFFSETFROM:-0400
TZOFFSETTO:-0500
TZNAME:EST
DTSTART:20231105T060000
END:STANDARD
BEGIN:DAYLIGHT
TZOFFSETFROM:-0500
TZOFFSETTO:-0400
TZNAME:EDT
DTSTART:20240310T070000
END:DAYLIGHT
BEGIN:STANDARD
TZOFFSETFROM:-0400
TZOFFSETTO:-0500
TZNAME:EST
DTSTART:20241103T060000
END:STANDARD
END:VTIMEZONE
BEGIN:VEVENT
DTSTART;TZID=America/New_York:20231117T190000
DTEND;TZID=America/New_York:20231117T220000
DTSTAMP:20260423T233832
CREATED:20231101T024800Z
LAST-MODIFIED:20231101T024805Z
UID:10000253-1700247600-1700258400@www.windsorpalms-resort.com
SUMMARY:Owner's Night
DESCRIPTION:Join us for a laid-back and vibrant evening at our “Owner’s Night” Tiki Happy Hour – a gathering designed exclusively for our valued property owners. Sip on event exclusive cocktails\, enjoy hors d’oeuvres\, event exclusive menu pricing\, and connect with fellow owners in a relaxed and picturesque setting. \n\n\n\n\n\n\n\nThis is a closed event for Windsor Palms property owners and immediate family only. ID required for entry.
URL:https://www.windsorpalms-resort.com/event/owners-night-2/
LOCATION:Tiki Bar
ATTACH;FMTTYPE=image/jpeg:https://www.windsorpalms-resort.com/wp-content/uploads/2023/08/tiki-bar.jpg
END:VEVENT
BEGIN:VEVENT
DTSTART;TZID=America/New_York:20231116T190000
DTEND;TZID=America/New_York:20231116T210000
DTSTAMP:20260423T233832
CREATED:20231101T021903Z
LAST-MODIFIED:20231116T024540Z
UID:10000243-1700161200-1700168400@www.windsorpalms-resort.com
SUMMARY:Movie Night
DESCRIPTION:Due to the weather forecast\, this previously scheduled pool movie will be moved indoors to the Clubhouse Theater. \n\n\n\nJoin Remy\, a culinary genius rat with big dreams\, as he teams up with Linguini\, a kitchen novice\, to create culinary masterpieces in a top Parisian restaurant. This enchanting tale serves up a delightful blend of friendship\, gourmet cuisine\, and the pursuit of one’s passions. Join us for a movie night filled with laughter\, adventure\, and\, of course\, a touch of foodie magic.
URL:https://www.windsorpalms-resort.com/event/pool-movie-night-14/
LOCATION:Clubhouse Pool
ATTACH;FMTTYPE=image/jpeg:https://www.windsorpalms-resort.com/wp-content/uploads/2023/10/rat.jpg
END:VEVENT
BEGIN:VEVENT
DTSTART;TZID=America/New_York:20231116T180000
DTEND;TZID=America/New_York:20231116T210000
DTSTAMP:20260423T233832
CREATED:20231112T211625Z
LAST-MODIFIED:20231116T024129Z
UID:10000270-1700157600-1700168400@www.windsorpalms-resort.com
SUMMARY:Tabletop S'mores & Hot Chocolate Bar
DESCRIPTION:Indulge in the nostalgia of roasting marshmallows over a flickering flame\, creating perfect s’mores customized to your liking with a private tabletop fire pit. Pair this sweet tradition with a steaming cup of rich hot chocolate adorned with an array of toppings\, from whipped cream to crushed peppermint and more from our new hot chocolate bar! \n\n\n\n$10 | Tabletop S’mores Fire Pit (includes 4 servings of s’mores)$5 | Additional s’mores (2 servings)$5 | Hot chocolate (includes 1 serving and self serve toppings bar)
URL:https://www.windsorpalms-resort.com/event/tabletop-smores-hot-chocolate-bar-2/
LOCATION:Clubhouse Pool
ATTACH;FMTTYPE=image/jpeg:https://www.windsorpalms-resort.com/wp-content/uploads/2023/11/hcsmores.jpg
END:VEVENT
BEGIN:VEVENT
DTSTART;TZID=America/New_York:20231115T180000
DTEND;TZID=America/New_York:20231115T193000
DTSTAMP:20260423T233832
CREATED:20231109T221548Z
LAST-MODIFIED:20231115T014830Z
UID:10000257-1700071200-1700076600@www.windsorpalms-resort.com
SUMMARY:Tabletop S'mores & Hot Chocolate Bar
DESCRIPTION:Indulge in the nostalgia of roasting marshmallows over a flickering flame\, creating perfect s’mores customized to your liking with a private tabletop fire pit. Pair this sweet tradition with a steaming cup of rich hot chocolate adorned with an array of toppings\, from whipped cream to crushed peppermint and more from our new hot chocolate bar! \n\n\n\n$10 | Tabletop S’mores Fire Pit (includes 4 servings of s’mores)$5 | Additional s’mores (2 servings)$5 | Hot chocolate (includes 1 serving and self serve toppings bar)
URL:https://www.windsorpalms-resort.com/event/tabletop-smores-hot-chocolate-bar/2023-11-15/
LOCATION:Clubhouse Pool
ATTACH;FMTTYPE=image/jpeg:https://www.windsorpalms-resort.com/wp-content/uploads/2023/11/hcsmores.jpg
END:VEVENT
BEGIN:VEVENT
DTSTART;TZID=America/New_York:20231115T180000
DTEND;TZID=America/New_York:20231115T190000
DTSTAMP:20260423T233832
CREATED:20231101T023702Z
LAST-MODIFIED:20231109T150729Z
UID:10000250-1700071200-1700074800@www.windsorpalms-resort.com
SUMMARY:Fall Leaf Fox
DESCRIPTION:Select from a variety of real\, colorful autumn leaves\, grind them up\, add some cotton\, and place it on a stick. The end result is a unique and whimsical fox that captures the spirit of autumn and adds a touch of nature’s beauty to your home or art collection. Let your imagination roam as you create your own leafy fox friend to usher in the fall season.
URL:https://www.windsorpalms-resort.com/event/leaf-fox/
LOCATION:Clubhouse Lobby
ATTACH;FMTTYPE=image/jpeg:https://www.windsorpalms-resort.com/wp-content/uploads/2023/10/leaf-fox.jpg
END:VEVENT
BEGIN:VEVENT
DTSTART;TZID=America/New_York:20231114T190000
DTEND;TZID=America/New_York:20231114T210000
DTSTAMP:20260423T233832
CREATED:20231101T022702Z
LAST-MODIFIED:20231101T022703Z
UID:10000247-1699988400-1699995600@www.windsorpalms-resort.com
SUMMARY:Movie Night
DESCRIPTION:Follow the unlikely friendship between a young fox named Tod and a hound dog named Copper. Despite societal expectations\, the two form a deep bond that’s put to the test as they grow older. This heartwarming tale explores themes of friendship\, loyalty\, and the challenges of life’s ever-changing paths.
URL:https://www.windsorpalms-resort.com/event/movie-night-14/
LOCATION:Clubhouse Theater
ATTACH;FMTTYPE=image/jpeg:https://www.windsorpalms-resort.com/wp-content/uploads/2023/10/fox.jpg
END:VEVENT
BEGIN:VEVENT
DTSTART;TZID=America/New_York:20231109T190000
DTEND;TZID=America/New_York:20231109T210000
DTSTAMP:20260423T233832
CREATED:20231101T022448Z
LAST-MODIFIED:20231101T022449Z
UID:10000246-1699556400-1699563600@www.windsorpalms-resort.com
SUMMARY:Movie Night
DESCRIPTION:Follow the kind-hearted Ella as she overcomes hardship and captures the heart of a dashing prince. With its opulent costumes\, dazzling transformation scenes\, and a sprinkling of Disney magic\, this modern rendition breathes new life into a classic story. Join us for a movie night filled with romance\, dreams\, and the enduring belief that kindness and courage can lead to a happily ever after.
URL:https://www.windsorpalms-resort.com/event/movie-night-13/
LOCATION:Clubhouse Theater
ATTACH;FMTTYPE=image/jpeg:https://www.windsorpalms-resort.com/wp-content/uploads/2023/10/cinderella.jpg
END:VEVENT
BEGIN:VEVENT
DTSTART;TZID=America/New_York:20231108T190000
DTEND;TZID=America/New_York:20231108T200000
DTSTAMP:20260423T233832
CREATED:20231101T023430Z
LAST-MODIFIED:20231101T023451Z
UID:10000249-1699470000-1699473600@www.windsorpalms-resort.com
SUMMARY:Handprint Leaves
DESCRIPTION:Choose your favorite fall colors and let your hand be your brush to make handprints which are then turned into leaves. Join us for a fun\, hands-on project that captures the essence of the season and encourages imaginative exploration. Enjoy the journey of creating your very own autumn masterpiece!
URL:https://www.windsorpalms-resort.com/event/handprint-leaves/
LOCATION:Clubhouse Lobby
ATTACH;FMTTYPE=image/jpeg:https://www.windsorpalms-resort.com/wp-content/uploads/2023/10/leaf-hand.jpg
END:VEVENT
BEGIN:VEVENT
DTSTART;TZID=America/New_York:20231107T200000
DTEND;TZID=America/New_York:20231107T220000
DTSTAMP:20260423T233832
CREATED:20231101T021648Z
LAST-MODIFIED:20231101T021649Z
UID:10000242-1699387200-1699394400@www.windsorpalms-resort.com
SUMMARY:Pool Movie Night
DESCRIPTION:Immerse yourself in the beauty of nature and the power of friendship as we watch this classic Disney tale under the stars. Bring your blankets and enjoy the magic of this heartwarming story in a serene poolside setting. It’s an evening of family entertainment that celebrates the spirit of adventure and the wonders of the natural world. \n\n\n\n\n\n\n\nThis movie is free to watch\, a limited amount of glow chairs\, floats\, and tubes are available for rent.
URL:https://www.windsorpalms-resort.com/event/pool-movie-night-13/
LOCATION:Clubhouse Pool
ATTACH;FMTTYPE=image/jpeg:https://www.windsorpalms-resort.com/wp-content/uploads/2023/10/poch.jpg
END:VEVENT
BEGIN:VEVENT
DTSTART;TZID=America/New_York:20231102T200000
DTEND;TZID=America/New_York:20231102T220000
DTSTAMP:20260423T233832
CREATED:20231101T020833Z
LAST-MODIFIED:20231101T020834Z
UID:10000234-1698955200-1698962400@www.windsorpalms-resort.com
SUMMARY:Pool Movie Night
DESCRIPTION:Join us for an enchanting evening as we journey with Miguel into the vibrant Land of the Dead. Bring your loved ones\, and immerse yourself in the heartwarming tale filled with stunning visuals\, unforgettable characters\, and the power of following your dreams. It’s a cinematic experience that will captivate both young and old\, right under the stars. \n\n\n\n\n\n\n\nThis movie is free to watch\, a limited amount of glow chairs\, floats\, and tubes are available for rent.
URL:https://www.windsorpalms-resort.com/event/pool-movie-night-12/
LOCATION:Clubhouse Pool
ATTACH;FMTTYPE=image/jpeg:https://www.windsorpalms-resort.com/wp-content/uploads/2023/10/coco.jpg
END:VEVENT
BEGIN:VEVENT
DTSTART;TZID=America/New_York:20231031T190000
DTEND;TZID=America/New_York:20231031T210000
DTSTAMP:20260423T233832
CREATED:20230930T173724Z
LAST-MODIFIED:20231001T135922Z
UID:10000215-1698778800-1698786000@www.windsorpalms-resort.com
SUMMARY:Movie Night
DESCRIPTION:Follow Gru\, a lovably nefarious character\, as he embarks on a mission to steal the moon but ends up discovering the joys of family. With a crew of zany minions and a plot filled with laughter and heart\, this film is a perfect choice for an entertaining movie night that will leave you grinning from ear to ear.
URL:https://www.windsorpalms-resort.com/event/movie-night-12/
LOCATION:Clubhouse Theater
ATTACH;FMTTYPE=image/png:https://www.windsorpalms-resort.com/wp-content/uploads/2023/09/despicable-me.png
END:VEVENT
BEGIN:VEVENT
DTSTART;TZID=America/New_York:20231030T190000
DTEND;TZID=America/New_York:20231030T193000
DTSTAMP:20260423T233832
CREATED:20230930T153424Z
LAST-MODIFIED:20231001T134231Z
UID:10000204-1698692400-1698694200@www.windsorpalms-resort.com
SUMMARY:Spooky Poolside Activities
DESCRIPTION:Enjoy spooktacular surprises by the pool. Join us for a series of Halloween-inspired poolside games that will send shivers of delight down your spine every Monday in October.
URL:https://www.windsorpalms-resort.com/event/spooky-poolside-activities/2023-10-30/
LOCATION:Clubhouse Pool
ATTACH;FMTTYPE=image/png:https://www.windsorpalms-resort.com/wp-content/uploads/2023/08/poolside-activities.png
END:VEVENT
BEGIN:VEVENT
DTSTART;TZID=America/New_York:20231028T200000
DTEND;TZID=America/New_York:20231028T220000
DTSTAMP:20260423T233832
CREATED:20230930T164732Z
LAST-MODIFIED:20231001T135901Z
UID:10000208-1698523200-1698530400@www.windsorpalms-resort.com
SUMMARY:Pool Movie Night
DESCRIPTION:Welcome\, foolish mortals. Prepare to be thrilled and chilled as we invite you to the Haunted Mansion. Step inside the eerie estate and embark on a supernatural journey with the quirky Evers family. With humor\, mystery\, and a few spectral surprises\, this film promises to be a spooktacular delight for the whole family.
URL:https://www.windsorpalms-resort.com/event/pool-movie-night-11/
LOCATION:Clubhouse Pool
ATTACH;FMTTYPE=image/png:https://www.windsorpalms-resort.com/wp-content/uploads/2023/09/haunted-mansion.png
END:VEVENT
BEGIN:VEVENT
DTSTART;TZID=America/New_York:20231028T120000
DTEND;TZID=America/New_York:20231028T220000
DTSTAMP:20260423T233832
CREATED:20231009T225936Z
LAST-MODIFIED:20231027T124012Z
UID:10000230-1698494400-1698530400@www.windsorpalms-resort.com
SUMMARY:Halloween Party
DESCRIPTION:Join us for an all day Halloween party including trunk or treat\, costume contest\, a Halloween Carnival with games and prizes\, crafts\, a pool movie and more! \n\n\n\nFree Basic Ticket or Pumpkin Pass is required for each participant. \n\n\n\n\n\n\n\n\n\n\n\n\n\n\n\n\n\n\n\n\n\n\n\n\n\n\n\n\n\n\n\n\n\n\nClick For Free Basic Ticket
URL:https://www.windsorpalms-resort.com/event/halloween-party/
LOCATION:Clubhouse Area
ATTACH;FMTTYPE=image/jpeg:https://www.windsorpalms-resort.com/wp-content/uploads/2023/09/TOT-1.jpg
END:VEVENT
BEGIN:VEVENT
DTSTART;TZID=America/New_York:20231027T190000
DTEND;TZID=America/New_York:20231027T220000
DTSTAMP:20260423T233832
CREATED:20230930T181232Z
LAST-MODIFIED:20231001T135502Z
UID:10000221-1698433200-1698444000@www.windsorpalms-resort.com
SUMMARY:Owner's Night
DESCRIPTION:Join us for a laid-back and vibrant evening at our “Owner’s Night” Tiki Happy Hour – a gathering designed exclusively for our valued property owners. Sip on event exclusive cocktails\, enjoy hors d’oeuvres\, event exclusive menu pricing\, and connect with fellow owners in a relaxed and picturesque setting. \n\n\n\n\n\n\n\nThis is a closed event for Windsor Palms property owners and immediate family only. ID required for entry.
URL:https://www.windsorpalms-resort.com/event/owners-night/
LOCATION:Tiki Bar
ATTACH;FMTTYPE=image/jpeg:https://www.windsorpalms-resort.com/wp-content/uploads/2023/08/tiki-bar.jpg
END:VEVENT
BEGIN:VEVENT
DTSTART;TZID=America/New_York:20231026T190000
DTEND;TZID=America/New_York:20231026T210000
DTSTAMP:20260423T233832
CREATED:20230930T173335Z
LAST-MODIFIED:20231001T135449Z
UID:10000214-1698346800-1698354000@www.windsorpalms-resort.com
SUMMARY:Movie Night
DESCRIPTION:Venture into a world where fairies and magic reign\, and meet the enigmatic Maleficent. Explore the events that led her on a path of darkness with breathtaking visuals\, stunning performances\, and a fresh perspective on a beloved story\, this film promises a night of fantasy\, intrigue\, and mesmerizing storytelling.
URL:https://www.windsorpalms-resort.com/event/movie-night-11/
LOCATION:Clubhouse Theater
ATTACH;FMTTYPE=image/png:https://www.windsorpalms-resort.com/wp-content/uploads/2023/09/malef.png
END:VEVENT
BEGIN:VEVENT
DTSTART;TZID=America/New_York:20231025T190000
DTEND;TZID=America/New_York:20231025T200000
DTSTAMP:20260423T233832
CREATED:20230930T175813Z
LAST-MODIFIED:20231001T135426Z
UID:10000220-1698260400-1698264000@www.windsorpalms-resort.com
SUMMARY:Fingerpaint Bat
DESCRIPTION:Let your fingers become the brushes and see bats take flight on your canvas. Dive into a world of spooky creativity as you use vibrant paints to craft your own colony of fingerpainted bats. This hands-on crafting activity is perfect for all ages and offers a chance to embrace the Halloween spirit in a fun and imaginative way.
URL:https://www.windsorpalms-resort.com/event/fingerpaint-bat/
LOCATION:Clubhouse Lobby
ATTACH;FMTTYPE=image/jpeg:https://www.windsorpalms-resort.com/wp-content/uploads/2023/09/bat.jpg
END:VEVENT
BEGIN:VEVENT
DTSTART;TZID=America/New_York:20231024T190000
DTEND;TZID=America/New_York:20231024T210000
DTSTAMP:20260423T233832
CREATED:20230930T172923Z
LAST-MODIFIED:20231001T135222Z
UID:10000213-1698174000-1698181200@www.windsorpalms-resort.com
SUMMARY:Movie Night
DESCRIPTION:Come for the undead\, stay for the fun – enjoy a high-energy musical that reimagines a world where zombies and humans unite on the dance floor. Follow Zed and Addison\, two star-crossed students from Seabrook High\, as they challenge tradition\, celebrate diversity\, and prove that we’re all more alike than we are different.
URL:https://www.windsorpalms-resort.com/event/movie-night-10/
LOCATION:Clubhouse Theater
ATTACH;FMTTYPE=image/png:https://www.windsorpalms-resort.com/wp-content/uploads/2023/09/zombies.png
END:VEVENT
BEGIN:VEVENT
DTSTART;TZID=America/New_York:20231023T190000
DTEND;TZID=America/New_York:20231023T193000
DTSTAMP:20260423T233832
CREATED:20230930T153424Z
LAST-MODIFIED:20231001T134231Z
UID:10000203-1698087600-1698089400@www.windsorpalms-resort.com
SUMMARY:Spooky Poolside Activities
DESCRIPTION:Enjoy spooktacular surprises by the pool. Join us for a series of Halloween-inspired poolside games that will send shivers of delight down your spine every Monday in October.
URL:https://www.windsorpalms-resort.com/event/spooky-poolside-activities/2023-10-23/
LOCATION:Clubhouse Pool
ATTACH;FMTTYPE=image/png:https://www.windsorpalms-resort.com/wp-content/uploads/2023/08/poolside-activities.png
END:VEVENT
BEGIN:VEVENT
DTSTART;TZID=America/New_York:20231019T190000
DTEND;TZID=America/New_York:20231019T210000
DTSTAMP:20260423T233832
CREATED:20230930T170827Z
LAST-MODIFIED:20231001T135150Z
UID:10000212-1697742000-1697749200@www.windsorpalms-resort.com
SUMMARY:Movie Night
DESCRIPTION:The ordinary collides with the extraordinary in a tale of magic\, adventure\, and family bonds. Follow Marnie and her siblings as they unravel the mysteries of Halloweentown\, a place where ghosts\, witches\, and creatures of all kinds come to life. Get ready for a night of spooky fun\, imagination\, and the celebration of all things Halloween.
URL:https://www.windsorpalms-resort.com/event/movie-night-9/
LOCATION:Clubhouse Theater
ATTACH;FMTTYPE=image/png:https://www.windsorpalms-resort.com/wp-content/uploads/2023/09/halloweentown.png
END:VEVENT
BEGIN:VEVENT
DTSTART;TZID=America/New_York:20231018T190000
DTEND;TZID=America/New_York:20231018T200000
DTSTAMP:20260423T233832
CREATED:20230930T175346Z
LAST-MODIFIED:20231001T135116Z
UID:10000219-1697655600-1697659200@www.windsorpalms-resort.com
SUMMARY:Make a Pet Ghost
DESCRIPTION:Craft and name your very own friendly glowing ghost companion. Design and provide your pet ghost with a small habitat to live in and carry around with you. Then choose a name and receive your adoption certificate to go with your new pet!
URL:https://www.windsorpalms-resort.com/event/make-a-pet-ghost/
LOCATION:Clubhouse Lobby
ATTACH;FMTTYPE=image/jpeg:https://www.windsorpalms-resort.com/wp-content/uploads/2023/09/pet-ghost.jpg
END:VEVENT
BEGIN:VEVENT
DTSTART;TZID=America/New_York:20231017T200000
DTEND;TZID=America/New_York:20231017T220000
DTSTAMP:20260423T233832
CREATED:20230930T164000Z
LAST-MODIFIED:20231001T135039Z
UID:10000207-1697572800-1697580000@www.windsorpalms-resort.com
SUMMARY:Pool Movie Night
DESCRIPTION:Gather ’round as we transport you to the bewitching world of Salem\, Massachusetts. Join us for a movie and night that weaves magic\, mischief\, and hilarity into an unforgettable adventure. Follow Max\, Dani\, and their newfound\, not-so-friendly witches through a night of laughter and thrills. \n\n\n\n\n\n\n\nThis movie is free to watch\, a limited amount of glow chairs\, floats\, and tubes are available for rent.
URL:https://www.windsorpalms-resort.com/event/pool-movie-night-10/
LOCATION:Clubhouse Pool
ATTACH;FMTTYPE=image/png:https://www.windsorpalms-resort.com/wp-content/uploads/2023/09/hocus.png
END:VEVENT
BEGIN:VEVENT
DTSTART;TZID=America/New_York:20231016T190000
DTEND;TZID=America/New_York:20231016T193000
DTSTAMP:20260423T233832
CREATED:20230930T153424Z
LAST-MODIFIED:20231001T134231Z
UID:10000202-1697482800-1697484600@www.windsorpalms-resort.com
SUMMARY:Spooky Poolside Activities
DESCRIPTION:Enjoy spooktacular surprises by the pool. Join us for a series of Halloween-inspired poolside games that will send shivers of delight down your spine every Monday in October.
URL:https://www.windsorpalms-resort.com/event/spooky-poolside-activities/2023-10-16/
LOCATION:Clubhouse Pool
ATTACH;FMTTYPE=image/png:https://www.windsorpalms-resort.com/wp-content/uploads/2023/08/poolside-activities.png
END:VEVENT
BEGIN:VEVENT
DTSTART;TZID=America/New_York:20231015T190000
DTEND;TZID=America/New_York:20231015T200000
DTSTAMP:20260423T233832
CREATED:20230930T202148Z
LAST-MODIFIED:20231001T135326Z
UID:10000226-1697396400-1697400000@www.windsorpalms-resort.com
SUMMARY:The Witch's Potion Scavenger Hunt
DESCRIPTION:Legend has it that a powerful witch once resided in our very community. On this Halloween night\, her most important potion has mysteriously vanished. It’s up to you\, our brave Halloween hunters\, to follow the clues\, find the ingredients\, and recover the potion before midnight\, when the witch’s magic will be at its peak!
URL:https://www.windsorpalms-resort.com/event/scavenger-hunt-3/
LOCATION:Clubhouse Lobby
ATTACH;FMTTYPE=image/jpeg:https://www.windsorpalms-resort.com/wp-content/uploads/2023/09/hunt.jpg
END:VEVENT
BEGIN:VEVENT
DTSTART;TZID=America/New_York:20231012T190000
DTEND;TZID=America/New_York:20231012T220000
DTSTAMP:20260423T233832
CREATED:20230930T163532Z
LAST-MODIFIED:20231012T162431Z
UID:10000206-1697137200-1697148000@www.windsorpalms-resort.com
SUMMARY:Movie Night
DESCRIPTION:Prepare to embark on a high-seas adventure like no other with Captain Jack Sparrow and his crew. Join us swashbuckling action\, mysterious curses\, and treasure. Brace yourself for a night of thrilling escapades and unforgettable moments as you navigate the treacherous waters of the Caribbean. Hoist the colors and join us for a movie night filled with pirate lore\, humor\, and heart!
URL:https://www.windsorpalms-resort.com/event/pool-movie-night-9/
LOCATION:Clubhouse Theater
ATTACH;FMTTYPE=image/png:https://www.windsorpalms-resort.com/wp-content/uploads/2023/09/potc.png
END:VEVENT
BEGIN:VEVENT
DTSTART;TZID=America/New_York:20231011T190000
DTEND;TZID=America/New_York:20231011T200000
DTSTAMP:20260423T233832
CREATED:20230930T174723Z
LAST-MODIFIED:20231001T134632Z
UID:10000217-1697050800-1697054400@www.windsorpalms-resort.com
SUMMARY:Cotton-Ball Ghost
DESCRIPTION:Pick a shape\, facial expression\, and craft friendly and fluffy ghosts that are perfect for decorating your home. This family-friendly crafting activity is suitable for all ages and promises a ghoulishly good time.
URL:https://www.windsorpalms-resort.com/event/cotton-ball-ghost/
LOCATION:Clubhouse Lobby
ATTACH;FMTTYPE=image/jpeg:https://www.windsorpalms-resort.com/wp-content/uploads/2023/09/ghost.jpg
END:VEVENT
BEGIN:VEVENT
DTSTART;TZID=America/New_York:20231010T190000
DTEND;TZID=America/New_York:20231010T210000
DTSTAMP:20260423T233832
CREATED:20230930T170412Z
LAST-MODIFIED:20231001T134553Z
UID:10000210-1696964400-1696971600@www.windsorpalms-resort.com
SUMMARY:Movie Night
DESCRIPTION:Explore the origins of one of Disney’s most iconic villains\, Cruella de Vil. Immerse yourself in the world of high fashion\, rebellion\, and audacious creativity as we follow the transformation of a young Estella into the flamboyant and cunning Cruella. With dazzling costumes and a devilish twist\, this film promises a wickedly entertaining night at the movies.
URL:https://www.windsorpalms-resort.com/event/movie-night-8/
LOCATION:Clubhouse Theater
ATTACH;FMTTYPE=image/png:https://www.windsorpalms-resort.com/wp-content/uploads/2023/09/cruella.png
END:VEVENT
BEGIN:VEVENT
DTSTART;TZID=America/New_York:20231009T190000
DTEND;TZID=America/New_York:20231009T193000
DTSTAMP:20260423T233832
CREATED:20230930T153424Z
LAST-MODIFIED:20231001T134231Z
UID:10000201-1696878000-1696879800@www.windsorpalms-resort.com
SUMMARY:Spooky Poolside Activities
DESCRIPTION:Enjoy spooktacular surprises by the pool. Join us for a series of Halloween-inspired poolside games that will send shivers of delight down your spine every Monday in October.
URL:https://www.windsorpalms-resort.com/event/spooky-poolside-activities/2023-10-09/
LOCATION:Clubhouse Pool
ATTACH;FMTTYPE=image/png:https://www.windsorpalms-resort.com/wp-content/uploads/2023/08/poolside-activities.png
END:VEVENT
BEGIN:VEVENT
DTSTART;TZID=America/New_York:20231005T190000
DTEND;TZID=America/New_York:20231005T210000
DTSTAMP:20260423T233832
CREATED:20230930T165718Z
LAST-MODIFIED:20231001T134521Z
UID:10000209-1696532400-1696539600@www.windsorpalms-resort.com
SUMMARY:Movie Night
DESCRIPTION:Join Kermit\, Miss Piggy\, Gonzo\, and the gang as they explore the eerie and whimsical Haunted Mansion. With their signature humor and a dash of the supernatural\, this film is a perfect blend of Halloween thrills and Muppet hilarity.
URL:https://www.windsorpalms-resort.com/event/movie-night-2/
LOCATION:Clubhouse Theater
ATTACH;FMTTYPE=image/png:https://www.windsorpalms-resort.com/wp-content/uploads/2023/09/muppets.png
END:VEVENT
BEGIN:VEVENT
DTSTART;TZID=America/New_York:20231004T190000
DTEND;TZID=America/New_York:20231004T200000
DTSTAMP:20260423T233832
CREATED:20230930T174338Z
LAST-MODIFIED:20231001T134431Z
UID:10000216-1696446000-1696449600@www.windsorpalms-resort.com
SUMMARY:Rock Monsters
DESCRIPTION:Choose a rock and transform an ordinary rock into a quirky and lovable Rock Monsters. Paint\, glue\, and accessorize these charming creatures\, giving them unique personalities.
URL:https://www.windsorpalms-resort.com/event/rock-monsters/
LOCATION:Clubhouse Lobby
ATTACH;FMTTYPE=image/jpeg:https://www.windsorpalms-resort.com/wp-content/uploads/2023/09/rock.jpg
END:VEVENT
END:VCALENDAR