BEGIN:VCALENDAR
VERSION:2.0
PRODID:-//Windsor Palms Resort - ECPv6.15.13.1//NONSGML v1.0//EN
CALSCALE:GREGORIAN
METHOD:PUBLISH
X-WR-CALNAME:Windsor Palms Resort
X-ORIGINAL-URL:https://www.windsorpalms-resort.com
X-WR-CALDESC:Events for Windsor Palms Resort
REFRESH-INTERVAL;VALUE=DURATION:PT1H
X-Robots-Tag:noindex
X-PUBLISHED-TTL:PT1H
BEGIN:VTIMEZONE
TZID:America/New_York
BEGIN:DAYLIGHT
TZOFFSETFROM:-0500
TZOFFSETTO:-0400
TZNAME:EDT
DTSTART:20220313T070000
END:DAYLIGHT
BEGIN:STANDARD
TZOFFSETFROM:-0400
TZOFFSETTO:-0500
TZNAME:EST
DTSTART:20221106T060000
END:STANDARD
BEGIN:DAYLIGHT
TZOFFSETFROM:-0500
TZOFFSETTO:-0400
TZNAME:EDT
DTSTART:20230312T070000
END:DAYLIGHT
BEGIN:STANDARD
TZOFFSETFROM:-0400
TZOFFSETTO:-0500
TZNAME:EST
DTSTART:20231105T060000
END:STANDARD
BEGIN:DAYLIGHT
TZOFFSETFROM:-0500
TZOFFSETTO:-0400
TZNAME:EDT
DTSTART:20240310T070000
END:DAYLIGHT
BEGIN:STANDARD
TZOFFSETFROM:-0400
TZOFFSETTO:-0500
TZNAME:EST
DTSTART:20241103T060000
END:STANDARD
END:VTIMEZONE
BEGIN:VEVENT
DTSTART;TZID=America/New_York:20231010T190000
DTEND;TZID=America/New_York:20231010T210000
DTSTAMP:20260424T072804
CREATED:20230930T170412Z
LAST-MODIFIED:20231001T134553Z
UID:10000210-1696964400-1696971600@www.windsorpalms-resort.com
SUMMARY:Movie Night
DESCRIPTION:Explore the origins of one of Disney’s most iconic villains\, Cruella de Vil. Immerse yourself in the world of high fashion\, rebellion\, and audacious creativity as we follow the transformation of a young Estella into the flamboyant and cunning Cruella. With dazzling costumes and a devilish twist\, this film promises a wickedly entertaining night at the movies.
URL:https://www.windsorpalms-resort.com/event/movie-night-8/
LOCATION:Clubhouse Theater
ATTACH;FMTTYPE=image/png:https://www.windsorpalms-resort.com/wp-content/uploads/2023/09/cruella.png
END:VEVENT
BEGIN:VEVENT
DTSTART;TZID=America/New_York:20231009T190000
DTEND;TZID=America/New_York:20231009T193000
DTSTAMP:20260424T072804
CREATED:20230930T153424Z
LAST-MODIFIED:20231001T134231Z
UID:10000201-1696878000-1696879800@www.windsorpalms-resort.com
SUMMARY:Spooky Poolside Activities
DESCRIPTION:Enjoy spooktacular surprises by the pool. Join us for a series of Halloween-inspired poolside games that will send shivers of delight down your spine every Monday in October.
URL:https://www.windsorpalms-resort.com/event/spooky-poolside-activities/2023-10-09/
LOCATION:Clubhouse Pool
ATTACH;FMTTYPE=image/png:https://www.windsorpalms-resort.com/wp-content/uploads/2023/08/poolside-activities.png
END:VEVENT
BEGIN:VEVENT
DTSTART;TZID=America/New_York:20231005T190000
DTEND;TZID=America/New_York:20231005T210000
DTSTAMP:20260424T072804
CREATED:20230930T165718Z
LAST-MODIFIED:20231001T134521Z
UID:10000209-1696532400-1696539600@www.windsorpalms-resort.com
SUMMARY:Movie Night
DESCRIPTION:Join Kermit\, Miss Piggy\, Gonzo\, and the gang as they explore the eerie and whimsical Haunted Mansion. With their signature humor and a dash of the supernatural\, this film is a perfect blend of Halloween thrills and Muppet hilarity.
URL:https://www.windsorpalms-resort.com/event/movie-night-2/
LOCATION:Clubhouse Theater
ATTACH;FMTTYPE=image/png:https://www.windsorpalms-resort.com/wp-content/uploads/2023/09/muppets.png
END:VEVENT
BEGIN:VEVENT
DTSTART;TZID=America/New_York:20231004T190000
DTEND;TZID=America/New_York:20231004T200000
DTSTAMP:20260424T072804
CREATED:20230930T174338Z
LAST-MODIFIED:20231001T134431Z
UID:10000216-1696446000-1696449600@www.windsorpalms-resort.com
SUMMARY:Rock Monsters
DESCRIPTION:Choose a rock and transform an ordinary rock into a quirky and lovable Rock Monsters. Paint\, glue\, and accessorize these charming creatures\, giving them unique personalities.
URL:https://www.windsorpalms-resort.com/event/rock-monsters/
LOCATION:Clubhouse Lobby
ATTACH;FMTTYPE=image/jpeg:https://www.windsorpalms-resort.com/wp-content/uploads/2023/09/rock.jpg
END:VEVENT
BEGIN:VEVENT
DTSTART;TZID=America/New_York:20231003T200000
DTEND;TZID=America/New_York:20231003T220000
DTSTAMP:20260424T072804
CREATED:20230930T163053Z
LAST-MODIFIED:20231001T134346Z
UID:10000205-1696363200-1696370400@www.windsorpalms-resort.com
SUMMARY:Pool Movie Night
DESCRIPTION:Journey to the whimsical worlds of Halloween Town and Christmas Town in Tim Burton’s beloved classic\, ‘The Nightmare Before Christmas.’ Immerse yourself in the stunning stop-motion animation\, catchy tunes\, and the heartwarming tale of Jack Skellington’s quest to understand the spirit of Christmas. \n\n\n\n\n\n\n\nThis movie is free to watch\, a limited amount of glow chairs\, floats\, and tubes are available for rent.
URL:https://www.windsorpalms-resort.com/event/pool-movie-night-4/
LOCATION:Clubhouse Pool
ATTACH;FMTTYPE=image/png:https://www.windsorpalms-resort.com/wp-content/uploads/2023/09/nbc.png
END:VEVENT
BEGIN:VEVENT
DTSTART;TZID=America/New_York:20231002T190000
DTEND;TZID=America/New_York:20231002T193000
DTSTAMP:20260424T072804
CREATED:20230930T153424Z
LAST-MODIFIED:20231001T134231Z
UID:10000200-1696273200-1696275000@www.windsorpalms-resort.com
SUMMARY:Spooky Poolside Activities
DESCRIPTION:Enjoy spooktacular surprises by the pool. Join us for a series of Halloween-inspired poolside games that will send shivers of delight down your spine every Monday in October.
URL:https://www.windsorpalms-resort.com/event/spooky-poolside-activities/2023-10-02/
LOCATION:Clubhouse Pool
ATTACH;FMTTYPE=image/png:https://www.windsorpalms-resort.com/wp-content/uploads/2023/08/poolside-activities.png
END:VEVENT
BEGIN:VEVENT
DTSTART;TZID=America/New_York:20230929T190000
DTEND;TZID=America/New_York:20230929T220000
DTSTAMP:20260424T072804
CREATED:20230830T190605Z
LAST-MODIFIED:20230929T185720Z
UID:10000190-1696014000-1696024800@www.windsorpalms-resort.com
SUMMARY:Owner's Night
DESCRIPTION:Join us for a laid-back and vibrant evening at our “Owners Night” Tiki Happy Hour – an enchanting gathering designed exclusively for our valued property owners. Sip on event exclusive cocktails\, enjoy hors d’oeuvres\, event exclusive menu pricing\, and connect with fellow owners in a relaxed and picturesque setting. \n\n\n\n\n\n\n\nThis is a closed event for Windsor Palms property owners and immediate family only. ID required for entry.
URL:https://www.windsorpalms-resort.com/event/owners-hour/
LOCATION:Tiki Bar
ATTACH;FMTTYPE=image/jpeg:https://www.windsorpalms-resort.com/wp-content/uploads/2023/08/tiki-bar.jpg
END:VEVENT
BEGIN:VEVENT
DTSTART;TZID=America/New_York:20230928T190000
DTEND;TZID=America/New_York:20230928T210000
DTSTAMP:20260424T072805
CREATED:20230824T072727Z
LAST-MODIFIED:20230906T191627Z
UID:10000162-1695927600-1695934800@www.windsorpalms-resort.com
SUMMARY:Movie Night
DESCRIPTION:Experience the charm of romantic comedy as we present a special screening of “Just Go with It” at our theater. Immerse yourself in a hilarious and heartwarming story of mistaken identities\, unexpected romance\, and the power of authenticity.
URL:https://www.windsorpalms-resort.com/event/movie-night-6/
LOCATION:Clubhouse Theater
ATTACH;FMTTYPE=image/jpeg:https://www.windsorpalms-resort.com/wp-content/uploads/2023/08/just-go-with-it.jpg
END:VEVENT
BEGIN:VEVENT
DTSTART;TZID=America/New_York:20230927T190000
DTEND;TZID=America/New_York:20230927T200000
DTSTAMP:20260424T072805
CREATED:20230830T182901Z
LAST-MODIFIED:20230901T112632Z
UID:10000189-1695841200-1695844800@www.windsorpalms-resort.com
SUMMARY:Tropical Paper Fish
DESCRIPTION:Join us to craft colorful and whimsical fish using tissue paper\, glue\, and your imagination. Cut\, shape\, and layer tissue paper to create vibrant tropical fish that capture the beauty of the sea!
URL:https://www.windsorpalms-resort.com/event/paper-fish/
LOCATION:Clubhouse Lobby
ATTACH;FMTTYPE=image/jpeg:https://www.windsorpalms-resort.com/wp-content/uploads/2023/08/fish.jpg
END:VEVENT
BEGIN:VEVENT
DTSTART;TZID=America/New_York:20230926T200000
DTEND;TZID=America/New_York:20230926T220000
DTSTAMP:20260424T072805
CREATED:20230824T074412Z
LAST-MODIFIED:20230901T113630Z
UID:10000167-1695758400-1695765600@www.windsorpalms-resort.com
SUMMARY:Pool Movie Night
DESCRIPTION:Embark on an epic treasure hunt filled with mystery\, friendship\, and the spirit of adventure with “Finding ‘Ohana.” Join us for a thrilling pool movie night that follows a group of kids on a journey to uncover hidden secrets and reconnect with their Hawaiian heritage. \n\n\n\n\n\n\n\nThis movie is free to watch\, a limited amount of glow chairs\, floats\, and tubes are available for rent from the Sundry Shop.
URL:https://www.windsorpalms-resort.com/event/pool-movie-night-7/
LOCATION:Clubhouse Pool
ATTACH;FMTTYPE=image/jpeg:https://www.windsorpalms-resort.com/wp-content/uploads/2023/08/finding-ohana.jpg
END:VEVENT
BEGIN:VEVENT
DTSTART;TZID=America/New_York:20230925T190000
DTEND;TZID=America/New_York:20230925T193000
DTSTAMP:20260424T072805
CREATED:20230906T184901Z
LAST-MODIFIED:20230906T184903Z
UID:10000197-1695668400-1695670200@www.windsorpalms-resort.com
SUMMARY:Tropical Poolside Activities
DESCRIPTION:Get ready to experience the spirit of the islands right at our poolside oasis with a series of vibrant and engaging luau and tropical themed pool activities every Monday in September!
URL:https://www.windsorpalms-resort.com/event/tropical-poolside-activities/2023-09-25/
LOCATION:Clubhouse Pool
ATTACH;FMTTYPE=image/png:https://www.windsorpalms-resort.com/wp-content/uploads/2023/08/poolside-activities.png
END:VEVENT
BEGIN:VEVENT
DTSTART;TZID=America/New_York:20230924T120000
DTEND;TZID=America/New_York:20230924T130000
DTSTAMP:20260424T072805
CREATED:20230830T174017Z
LAST-MODIFIED:20230901T113607Z
UID:10000188-1695556800-1695560400@www.windsorpalms-resort.com
SUMMARY:Scavenger Hunt
DESCRIPTION:The Tikis have gone rogue\, and they’re hiding from Tiffani all around the clubhouse area. Can you help find them and keep them from escaping Windsor Palms again? Join our scavenger hunt for a thrilling adventure filled with surprises and hidden treasures.
URL:https://www.windsorpalms-resort.com/event/scavenger-hunt-2/
LOCATION:Clubhouse Lobby
ATTACH;FMTTYPE=image/png:https://www.windsorpalms-resort.com/wp-content/uploads/2023/08/MAP.png
END:VEVENT
BEGIN:VEVENT
DTSTART;TZID=America/New_York:20230923T190000
DTEND;TZID=America/New_York:20230923T200000
DTSTAMP:20260424T072805
CREATED:20230830T002950Z
LAST-MODIFIED:20230901T110909Z
UID:10000187-1695495600-1695499200@www.windsorpalms-resort.com
SUMMARY:Disney Pin Trading
DESCRIPTION:Calling all Disney enthusiasts and pin collectors! Whether you’re a seasoned collector or new to the magic\, this event promises excitement\, and a touch of Disney magic. Experience the thrill of discovering that perfect pin\, the joy of swapping stories with fellow enthusiasts\, and the excitement of adding a new pin to your collection! \n\n\n\nPlease bring or provide your own authentic Disney pins. Pins are not provided or available for sale. Non-Disney pins cannot be traded at this event.
URL:https://www.windsorpalms-resort.com/event/disney-pin-trading-2/
LOCATION:Clubhouse Lobby
ATTACH;FMTTYPE=image/jpeg:https://www.windsorpalms-resort.com/wp-content/uploads/2023/08/pin-trading.jpg
END:VEVENT
BEGIN:VEVENT
DTSTART;TZID=America/New_York:20230921T200000
DTEND;TZID=America/New_York:20230921T220000
DTSTAMP:20260424T072805
CREATED:20230824T074037Z
LAST-MODIFIED:20230906T191414Z
UID:10000166-1695326400-1695333600@www.windsorpalms-resort.com
SUMMARY:Pool Movie Night
DESCRIPTION:Embark on an unforgettable voyage to the Pacific Islands with “Moana\,” a Disney tale of courage\, self-discovery\, and the power of following your heart. Join Moana\, a spirited young explorer\, as she sets sail on a daring journey to save her island and find her true destiny. \n\n\n\n\n\n\n\nThis movie is free to watch\, a limited amount of glow chairs\, floats\, and tubes are available for rent from the Sundry Shop.
URL:https://www.windsorpalms-resort.com/event/pool-movie-night-6/
LOCATION:Clubhouse Pool
ATTACH;FMTTYPE=image/jpeg:https://www.windsorpalms-resort.com/wp-content/uploads/2023/08/moana.jpg
END:VEVENT
BEGIN:VEVENT
DTSTART;TZID=America/New_York:20230920T190000
DTEND;TZID=America/New_York:20230920T200000
DTSTAMP:20260424T072805
CREATED:20230830T002005Z
LAST-MODIFIED:20230901T110636Z
UID:10000186-1695236400-1695240000@www.windsorpalms-resort.com
SUMMARY:Seashell Decorating
DESCRIPTION:Join us for a hands-on craft where you can transform seashells into vibrant masterpieces using paint\, glitter\, and a variety of enchanting designs. Let your imagination run wild as you add your personal touch to your shell\, creating a unique treasure that reflect your style and creativity.
URL:https://www.windsorpalms-resort.com/event/seashell-decorating/
LOCATION:Clubhouse Lobby
ATTACH;FMTTYPE=image/jpeg:https://www.windsorpalms-resort.com/wp-content/uploads/2023/08/shell-kids.jpg
END:VEVENT
BEGIN:VEVENT
DTSTART;TZID=America/New_York:20230920T190000
DTEND;TZID=America/New_York:20230920T200000
DTSTAMP:20260424T072805
CREATED:20230829T235718Z
LAST-MODIFIED:20230901T110621Z
UID:10000185-1695236400-1695240000@www.windsorpalms-resort.com
SUMMARY:Seashell Wine Charms
DESCRIPTION:Get ready to add a touch of coastal charm to your wine glasses as you create personalized wine charms using delicate seashells. Engage your creativity as you select and arrange shells to fashion beautiful and functional charms that not only adorn your glasses but also add a touch of seaside elegance to your gatherings.
URL:https://www.windsorpalms-resort.com/event/seashell-wine-charms/
LOCATION:Clubhouse Lobby
ATTACH;FMTTYPE=image/jpeg:https://www.windsorpalms-resort.com/wp-content/uploads/2023/08/shell-adult.jpg
END:VEVENT
BEGIN:VEVENT
DTSTART;TZID=America/New_York:20230919T190000
DTEND;TZID=America/New_York:20230919T210000
DTSTAMP:20260424T072805
CREATED:20230824T072314Z
LAST-MODIFIED:20230901T110537Z
UID:10000161-1695150000-1695157200@www.windsorpalms-resort.com
SUMMARY:Movie Night
DESCRIPTION:Surf’s up! Join us for a rad movie night featuring “Johnny Tsunami\,” a tale of adventure\, friendship\, and embracing your true self. Follow Johnny Kapahala as he goes from being a surfer in Hawaii to navigating the world of competitive snowboarding in Vermont.
URL:https://www.windsorpalms-resort.com/event/movie-night-5/
LOCATION:Clubhouse Theater
ATTACH;FMTTYPE=image/jpeg:https://www.windsorpalms-resort.com/wp-content/uploads/2023/08/johnny-tsunami.jpg
END:VEVENT
BEGIN:VEVENT
DTSTART;TZID=America/New_York:20230918T190000
DTEND;TZID=America/New_York:20230918T193000
DTSTAMP:20260424T072805
CREATED:20230906T184901Z
LAST-MODIFIED:20230906T184903Z
UID:10000196-1695063600-1695065400@www.windsorpalms-resort.com
SUMMARY:Tropical Poolside Activities
DESCRIPTION:Get ready to experience the spirit of the islands right at our poolside oasis with a series of vibrant and engaging luau and tropical themed pool activities every Monday in September!
URL:https://www.windsorpalms-resort.com/event/tropical-poolside-activities/2023-09-18/
LOCATION:Clubhouse Pool
ATTACH;FMTTYPE=image/png:https://www.windsorpalms-resort.com/wp-content/uploads/2023/08/poolside-activities.png
END:VEVENT
BEGIN:VEVENT
DTSTART;TZID=America/New_York:20230915T190000
DTEND;TZID=America/New_York:20230915T200000
DTSTAMP:20260424T072805
CREATED:20230808T075259Z
LAST-MODIFIED:20230901T110450Z
UID:10000029-1694804400-1694808000@www.windsorpalms-resort.com
SUMMARY:Board Game Night
DESCRIPTION:Get ready to roll\, strategize\, and have a blast at our Family Board Game Night! Every move counts and every decision could lead to triumph. Don’t miss this chance to bond\, connect\, and create lasting memories over some of the best board games in town.
URL:https://www.windsorpalms-resort.com/event/board-game-night/
LOCATION:Clubhouse Lobby
ATTACH;FMTTYPE=image/jpeg:https://www.windsorpalms-resort.com/wp-content/uploads/2023/08/board-game.jpg
END:VEVENT
BEGIN:VEVENT
DTSTART;TZID=America/New_York:20230914T190000
DTEND;TZID=America/New_York:20230914T210000
DTSTAMP:20260424T072805
CREATED:20230824T071511Z
LAST-MODIFIED:20230906T191135Z
UID:10000160-1694718000-1694725200@www.windsorpalms-resort.com
SUMMARY:Movie Night
DESCRIPTION:Experience a heartwarming and hilarious journey of love\, memory\, and second chances with “50 First Dates.” Join us for a pool movie night that follows the story of Henry and Lucy as they navigate the challenges of falling in love every day.
URL:https://www.windsorpalms-resort.com/event/movie-night-4/
LOCATION:Clubhouse Theater
ATTACH;FMTTYPE=image/jpeg:https://www.windsorpalms-resort.com/wp-content/uploads/2023/08/50-first-dates.jpg
END:VEVENT
BEGIN:VEVENT
DTSTART;TZID=America/New_York:20230913T190000
DTEND;TZID=America/New_York:20230913T200000
DTSTAMP:20260424T072805
CREATED:20230906T200350Z
LAST-MODIFIED:20230906T200351Z
UID:10000198-1694631600-1694635200@www.windsorpalms-resort.com
SUMMARY:Finger Painting Pineapples
DESCRIPTION:Blend\, swirl\, and smudge bright paints to form a pineapple. This tactile and fun-filled painting session is perfect for all ages\, making it a fantastic opportunity to express yourself and explore art in a unique way.
URL:https://www.windsorpalms-resort.com/event/finger-painting-pineapples-2/
LOCATION:Clubhouse Lobby
ATTACH;FMTTYPE=image/jpeg:https://www.windsorpalms-resort.com/wp-content/uploads/2023/08/pineapple.jpg
END:VEVENT
BEGIN:VEVENT
DTSTART;TZID=America/New_York:20230912T200000
DTEND;TZID=America/New_York:20230912T220000
DTSTAMP:20260424T072805
CREATED:20230828T202923Z
LAST-MODIFIED:20230901T113438Z
UID:10000180-1694548800-1694556000@www.windsorpalms-resort.com
SUMMARY:Pool Movie Night
DESCRIPTION:Get ready for a heartwarming continuation of the beloved story in “Lilo & Stitch 2: Stitch Has a Glitch.” As the ‘ohana navigates life on the beautiful Hawaiian island\, they discover that Stitch’s behavior is becoming unpredictable due to a malfunction. Join Lilo\, Stitch\, and their friends on a touching journey to save their special bond and learn the true meaning of family. \n\n\n\n\n\n\n\nThis movie is free to watch\, a limited amount of glow chairs\, floats\, and tubes are available for rent from the Sundry Shop.
URL:https://www.windsorpalms-resort.com/event/pool-movie-night-3/
LOCATION:Clubhouse Pool
ATTACH;FMTTYPE=image/jpeg:https://www.windsorpalms-resort.com/wp-content/uploads/2023/08/lilo-stitch-2.jpg
END:VEVENT
BEGIN:VEVENT
DTSTART;TZID=America/New_York:20230911T190000
DTEND;TZID=America/New_York:20230911T193000
DTSTAMP:20260424T072805
CREATED:20230906T184901Z
LAST-MODIFIED:20230906T184903Z
UID:10000195-1694458800-1694460600@www.windsorpalms-resort.com
SUMMARY:Tropical Poolside Activities
DESCRIPTION:Get ready to experience the spirit of the islands right at our poolside oasis with a series of vibrant and engaging luau and tropical themed pool activities every Monday in September!
URL:https://www.windsorpalms-resort.com/event/tropical-poolside-activities/2023-09-11/
LOCATION:Clubhouse Pool
ATTACH;FMTTYPE=image/png:https://www.windsorpalms-resort.com/wp-content/uploads/2023/08/poolside-activities.png
END:VEVENT
BEGIN:VEVENT
DTSTART;TZID=America/New_York:20230909T100000
DTEND;TZID=America/New_York:20230909T110000
DTSTAMP:20260424T072805
CREATED:20230829T235444Z
LAST-MODIFIED:20230901T112728Z
UID:10000184-1694253600-1694257200@www.windsorpalms-resort.com
SUMMARY:Building Sandcastles
DESCRIPTION:Join us for a creative and sandy adventure as we invite you to participate in building your own sandcastle. Unleash your imagination and craft intricate sand sculptures on the beach volleyball court\, creating a world of your own design using nothing but sand\, your hands\, shovels\, and buckets!
URL:https://www.windsorpalms-resort.com/event/sandcastle-building/
LOCATION:Clubhouse Beach Volleyball Court
ATTACH;FMTTYPE=image/jpeg:https://www.windsorpalms-resort.com/wp-content/uploads/2023/08/sandcastle.jpg
END:VEVENT
BEGIN:VEVENT
DTSTART;TZID=America/New_York:20230907T200000
DTEND;TZID=America/New_York:20230907T220000
DTSTAMP:20260424T072805
CREATED:20230824T073656Z
LAST-MODIFIED:20230901T112126Z
UID:10000165-1694116800-1694124000@www.windsorpalms-resort.com
SUMMARY:Pool Movie Night
DESCRIPTION:Get ready for a heartwarming journey filled with family\, friendship\, and a touch of intergalactic mischief as we bring you the beloved classic “Lilo & Stitch.” Join us for a pool movie night that celebrates the power of acceptance\, ‘ohana\, and the unique bonds that shape our lives. \n\n\n\n\n\n\n\nThis movie is free to watch\, a limited amount of glow chairs\, floats\, and tubes are available for rent from the Sundry Shop.
URL:https://www.windsorpalms-resort.com/event/pool-movie-night-5/
LOCATION:Clubhouse Pool
ATTACH;FMTTYPE=image/jpeg:https://www.windsorpalms-resort.com/wp-content/uploads/2023/08/lilo-stitch.jpg
END:VEVENT
BEGIN:VEVENT
DTSTART;TZID=America/New_York:20230906T190000
DTEND;TZID=America/New_York:20230906T200000
DTSTAMP:20260424T072805
CREATED:20230828T213446Z
LAST-MODIFIED:20230901T112142Z
UID:10000181-1694026800-1694030400@www.windsorpalms-resort.com
SUMMARY:Make Your Own Mini Surfboard
DESCRIPTION:Channel your inner surfer and ride the waves of imagination as you make your own mini surfboard! Unleash your artistic flair as you transform a blank canvas into a unique surfboard masterpiece that captures the spirit of the ocean.
URL:https://www.windsorpalms-resort.com/event/make-your-own-mini-surf-board/
LOCATION:Clubhouse Lobby
ATTACH;FMTTYPE=image/jpeg:https://www.windsorpalms-resort.com/wp-content/uploads/2023/08/surf.jpg
END:VEVENT
BEGIN:VEVENT
DTSTART;TZID=America/New_York:20230905T190000
DTEND;TZID=America/New_York:20230905T210000
DTSTAMP:20260424T072805
CREATED:20230824T071023Z
LAST-MODIFIED:20230901T111945Z
UID:10000159-1693940400-1693947600@www.windsorpalms-resort.com
SUMMARY:Movie Night
DESCRIPTION:Experience the charm of romantic comedy as we present a special screening of “Just Go with It” at our theater. Immerse yourself in a hilarious and heartwarming story of mistaken identities\, unexpected romance\, and the power of authenticity.
URL:https://www.windsorpalms-resort.com/event/movie-night-3/
LOCATION:Clubhouse Theater
ATTACH;FMTTYPE=image/jpeg:https://www.windsorpalms-resort.com/wp-content/uploads/2023/08/just-go-with-it.jpg
END:VEVENT
BEGIN:VEVENT
DTSTART;TZID=America/New_York:20230904T110000
DTEND;TZID=America/New_York:20230904T113000
DTSTAMP:20260424T072805
CREATED:20230824T064241Z
LAST-MODIFIED:20230901T111740Z
UID:10000175-1693825200-1693827000@www.windsorpalms-resort.com
SUMMARY:Tropical Poolside Activities
DESCRIPTION:Get ready to experience the spirit of the islands right at our poolside oasis with a series of vibrant and engaging luau and tropical themed pool activities every Monday in September!
URL:https://www.windsorpalms-resort.com/event/pool-activity/
LOCATION:Clubhouse Pool
ATTACH;FMTTYPE=image/png:https://www.windsorpalms-resort.com/wp-content/uploads/2023/08/poolside-activities.png
END:VEVENT
BEGIN:VEVENT
DTSTART;TZID=America/New_York:20230903T200000
DTEND;TZID=America/New_York:20230903T220000
DTSTAMP:20260424T072805
CREATED:20230828T202255Z
LAST-MODIFIED:20230901T113325Z
UID:10000179-1693771200-1693778400@www.windsorpalms-resort.com
SUMMARY:Pool Movie Night
DESCRIPTION:Embark on an unforgettable voyage to the Pacific Islands with “Moana\,” a Disney tale of courage\, self-discovery\, and the power of following your heart. Join Moana\, a spirited young explorer\, as she sets sail on a daring journey to save her island and find her true destiny. \n\n\n\n\n\n\n\nThis movie is free to watch\, a limited amount of glow chairs\, floats\, and tubes are available for rent from the Sundry Shop.
URL:https://www.windsorpalms-resort.com/event/pool-movie-night-8/
LOCATION:Clubhouse Pool
ATTACH;FMTTYPE=image/jpeg:https://www.windsorpalms-resort.com/wp-content/uploads/2023/08/moana.jpg
END:VEVENT
BEGIN:VEVENT
DTSTART;TZID=America/New_York:20230903T160000
DTEND;TZID=America/New_York:20230903T170000
DTSTAMP:20260424T072805
CREATED:20230830T191718Z
LAST-MODIFIED:20230901T114137Z
UID:10000192-1693756800-1693760400@www.windsorpalms-resort.com
SUMMARY:Finger Painting Pineapples
DESCRIPTION:Blend\, swirl\, and smudge bright paints to form a pineapple. This tactile and fun-filled painting session is perfect for all ages\, making it a fantastic opportunity to express yourself and explore art in a unique way.
URL:https://www.windsorpalms-resort.com/event/finger-painting-pineapples/
LOCATION:Clubhouse Lobby
ATTACH;FMTTYPE=image/jpeg:https://www.windsorpalms-resort.com/wp-content/uploads/2023/08/pineapple.jpg
END:VEVENT
END:VCALENDAR